BEGIN:VCALENDAR
VERSION:2.0
PRODID:spatie/icalendar-generator
NAME:klein_boom_8g_121_reminders
X-WR-CALNAME:klein_boom_8g_121_reminders
BEGIN:VTIMEZONE
TZID:Europe/Brussels
BEGIN:DAYLIGHT
DTSTART:20240331T010000
TZOFFSETFROM:+0100
TZOFFSETTO:+0200
END:DAYLIGHT
BEGIN:STANDARD
DTSTART:20241027T030000
TZOFFSETFROM:+0200
TZOFFSETTO:+0100
END:STANDARD
BEGIN:DAYLIGHT
DTSTART:20250330T010000
TZOFFSETFROM:+0100
TZOFFSETTO:+0200
END:DAYLIGHT
END:VTIMEZONE
BEGIN:VTIMEZONE
TZID:UTC
BEGIN:STANDARD
DTSTART:20250724T072406
TZOFFSETFROM:+0000
TZOFFSETTO:+0000
END:STANDARD
END:VTIMEZONE
BEGIN:VEVENT
UID:541D9693-BA5C-49F3-B354-186D1A701882-28-1196_homereminder@193.badminton
 ners.net
DTSTAMP:20260420T072406Z
SUMMARY:Thuismatch ingevuld? (Klein Boom 8G (121) - Spinshuttle 6G (109))
DESCRIPTION:Je hebt 36 uur na aanvang om een thuismatch op Badmintonvlaande
 ren in te vullen. Match info: Klein Boom 8G (121) - Spinshuttle 6G (109) -
  Link: https://www.badmintonvlaanderen.be/sport/teammatch.aspx?id=541D9693
 -BA5C-49F3-B354-186D1A701882&match=1196
DTSTART;TZID=Europe/Brussels:20240910T070000
DTEND;TZID=Europe/Brussels:20240910T070000
END:VEVENT
BEGIN:VEVENT
UID:541D9693-BA5C-49F3-B354-186D1A701882-28-1165_homereminder@193.badminton
 ners.net
DTSTAMP:20260420T072406Z
SUMMARY:Thuismatch ingevuld? (Klein Boom 8G (121) - Huirtuits Dropke 4G (11
 6))
DESCRIPTION:Je hebt 36 uur na aanvang om een thuismatch op Badmintonvlaande
 ren in te vullen. Match info: Klein Boom 8G (121) - Huirtuits Dropke 4G (1
 16) - Link: https://www.badmintonvlaanderen.be/sport/teammatch.aspx?id=541
 D9693-BA5C-49F3-B354-186D1A701882&match=1165
DTSTART;TZID=Europe/Brussels:20241015T070000
DTEND;TZID=Europe/Brussels:20241015T070000
END:VEVENT
BEGIN:VEVENT
UID:541D9693-BA5C-49F3-B354-186D1A701882-28-1184_homereminder@193.badminton
 ners.net
DTSTAMP:20260420T072406Z
SUMMARY:Thuismatch ingevuld? (Klein Boom 8G (121) - Spinners 1G (124))
DESCRIPTION:Je hebt 36 uur na aanvang om een thuismatch op Badmintonvlaande
 ren in te vullen. Match info: Klein Boom 8G (121) - Spinners 1G (124) - Li
 nk: https://www.badmintonvlaanderen.be/sport/teammatch.aspx?id=541D9693-BA
 5C-49F3-B354-186D1A701882&match=1184
DTSTART;TZID=Europe/Brussels:20241119T070000
DTEND;TZID=Europe/Brussels:20241119T070000
END:VEVENT
BEGIN:VEVENT
UID:541D9693-BA5C-49F3-B354-186D1A701882-28-1159_homereminder@193.badminton
 ners.net
DTSTAMP:20260420T072406Z
SUMMARY:Thuismatch ingevuld? (Klein Boom 8G (121) - Geelse 1G (123))
DESCRIPTION:Je hebt 36 uur na aanvang om een thuismatch op Badmintonvlaande
 ren in te vullen. Match info: Klein Boom 8G (121) - Geelse 1G (123) - Link
 : https://www.badmintonvlaanderen.be/sport/teammatch.aspx?id=541D9693-BA5C
 -49F3-B354-186D1A701882&match=1159
DTSTART;TZID=Europe/Brussels:20250128T070000
DTEND;TZID=Europe/Brussels:20250128T070000
END:VEVENT
BEGIN:VEVENT
UID:541D9693-BA5C-49F3-B354-186D1A701882-28-1190_homereminder@193.badminton
 ners.net
DTSTAMP:20260420T072406Z
SUMMARY:Thuismatch ingevuld? (Klein Boom 8G (121) - Essen 1G (111))
DESCRIPTION:Je hebt 36 uur na aanvang om een thuismatch op Badmintonvlaande
 ren in te vullen. Match info: Klein Boom 8G (121) - Essen 1G (111) - Link:
  https://www.badmintonvlaanderen.be/sport/teammatch.aspx?id=541D9693-BA5C-
 49F3-B354-186D1A701882&match=1190
DTSTART;TZID=Europe/Brussels:20250311T070000
DTEND;TZID=Europe/Brussels:20250311T070000
END:VEVENT
BEGIN:VEVENT
UID:541D9693-BA5C-49F3-B354-186D1A701882-28-1171_homereminder@193.badminton
 ners.net
DTSTAMP:20260420T072406Z
SUMMARY:Thuismatch ingevuld? (Klein Boom 8G (121) - De Nekker 3G (128))
DESCRIPTION:Je hebt 36 uur na aanvang om een thuismatch op Badmintonvlaande
 ren in te vullen. Match info: Klein Boom 8G (121) - De Nekker 3G (128) - L
 ink: https://www.badmintonvlaanderen.be/sport/teammatch.aspx?id=541D9693-B
 A5C-49F3-B354-186D1A701882&match=1171
DTSTART;TZID=Europe/Brussels:20250408T070000
DTEND;TZID=Europe/Brussels:20250408T070000
END:VEVENT
BEGIN:VEVENT
UID:541D9693-BA5C-49F3-B354-186D1A701882-28-1177_awayreminder@193.badminton
 ners.net
DTSTAMP:20260420T072406Z
SUMMARY:Uitmatch bevestigd? (De Nekker 3G (128) - Klein Boom 8G (121))
DESCRIPTION:Je hebt 72 uur na aanvang om een uitmatch op Badmintonvlaandere
 n in te vullen. Match info: De Nekker 3G (128) - Klein Boom 8G (121) - Lin
 k: https://www.badmintonvlaanderen.be/sport/teammatch.aspx?id=541D9693-BA5
 C-49F3-B354-186D1A701882&match=1177
DTSTART;TZID=Europe/Brussels:20240906T203000
DTEND;TZID=Europe/Brussels:20240906T203000
END:VEVENT
BEGIN:VEVENT
UID:541D9693-BA5C-49F3-B354-186D1A701882-28-1175_awayreminder@193.badminton
 ners.net
DTSTAMP:20260420T072406Z
SUMMARY:Uitmatch bevestigd? (Geelse 1G (123) - Klein Boom 8G (121))
DESCRIPTION:Je hebt 72 uur na aanvang om een uitmatch op Badmintonvlaandere
 n in te vullen. Match info: Geelse 1G (123) - Klein Boom 8G (121) - Link: 
 https://www.badmintonvlaanderen.be/sport/teammatch.aspx?id=541D9693-BA5C-4
 9F3-B354-186D1A701882&match=1175
DTSTART;TZID=Europe/Brussels:20241006T200000
DTEND;TZID=Europe/Brussels:20241006T200000
END:VEVENT
BEGIN:VEVENT
UID:541D9693-BA5C-49F3-B354-186D1A701882-28-1179_awayreminder@193.badminton
 ners.net
DTSTAMP:20260420T072406Z
SUMMARY:Uitmatch bevestigd? (Essen 1G (111) - Klein Boom 8G (121))
DESCRIPTION:Je hebt 72 uur na aanvang om een uitmatch op Badmintonvlaandere
 n in te vullen. Match info: Essen 1G (111) - Klein Boom 8G (121) - Link: h
 ttps://www.badmintonvlaanderen.be/sport/teammatch.aspx?id=541D9693-BA5C-49
 F3-B354-186D1A701882&match=1179
DTSTART;TZID=Europe/Brussels:20241204T190000
DTEND;TZID=Europe/Brussels:20241204T190000
END:VEVENT
BEGIN:VEVENT
UID:541D9693-BA5C-49F3-B354-186D1A701882-28-1176_awayreminder@193.badminton
 ners.net
DTSTAMP:20260420T072406Z
SUMMARY:Uitmatch bevestigd? (Huirtuits Dropke 4G (116) - Klein Boom 8G (121
 ))
DESCRIPTION:Je hebt 72 uur na aanvang om een uitmatch op Badmintonvlaandere
 n in te vullen. Match info: Huirtuits Dropke 4G (116) - Klein Boom 8G (121
 ) - Link: https://www.badmintonvlaanderen.be/sport/teammatch.aspx?id=541D9
 693-BA5C-49F3-B354-186D1A701882&match=1176
DTSTART;TZID=Europe/Brussels:20250110T200000
DTEND;TZID=Europe/Brussels:20250110T200000
END:VEVENT
BEGIN:VEVENT
UID:541D9693-BA5C-49F3-B354-186D1A701882-28-1180_awayreminder@193.badminton
 ners.net
DTSTAMP:20260420T072406Z
SUMMARY:Uitmatch bevestigd? (Spinshuttle 6G (109) - Klein Boom 8G (121))
DESCRIPTION:Je hebt 72 uur na aanvang om een uitmatch op Badmintonvlaandere
 n in te vullen. Match info: Spinshuttle 6G (109) - Klein Boom 8G (121) - L
 ink: https://www.badmintonvlaanderen.be/sport/teammatch.aspx?id=541D9693-B
 A5C-49F3-B354-186D1A701882&match=1180
DTSTART;TZID=Europe/Brussels:20250209T200000
DTEND;TZID=Europe/Brussels:20250209T200000
END:VEVENT
BEGIN:VEVENT
UID:541D9693-BA5C-49F3-B354-186D1A701882-28-1178_awayreminder@193.badminton
 ners.net
DTSTAMP:20260420T072406Z
SUMMARY:Uitmatch bevestigd? (Spinners 1G (124) - Klein Boom 8G (121))
DESCRIPTION:Je hebt 72 uur na aanvang om een uitmatch op Badmintonvlaandere
 n in te vullen. Match info: Spinners 1G (124) - Klein Boom 8G (121) - Link
 : https://www.badmintonvlaanderen.be/sport/teammatch.aspx?id=541D9693-BA5C
 -49F3-B354-186D1A701882&match=1178
DTSTART;TZID=Europe/Brussels:20250324T210000
DTEND;TZID=Europe/Brussels:20250324T210000
END:VEVENT
END:VCALENDAR