BEGIN:VCALENDAR
VERSION:2.0
PRODID:spatie/icalendar-generator
NAME:huirtuits_dropke_4g_116_reminders
X-WR-CALNAME:huirtuits_dropke_4g_116_reminders
BEGIN:VTIMEZONE
TZID:Europe/Brussels
BEGIN:DAYLIGHT
DTSTART:20240331T010000
TZOFFSETFROM:+0100
TZOFFSETTO:+0200
END:DAYLIGHT
BEGIN:STANDARD
DTSTART:20241027T030000
TZOFFSETFROM:+0200
TZOFFSETTO:+0100
END:STANDARD
BEGIN:DAYLIGHT
DTSTART:20250330T010000
TZOFFSETFROM:+0100
TZOFFSETTO:+0200
END:DAYLIGHT
BEGIN:STANDARD
DTSTART:20251026T030000
TZOFFSETFROM:+0200
TZOFFSETTO:+0100
END:STANDARD
END:VTIMEZONE
BEGIN:VTIMEZONE
TZID:UTC
BEGIN:STANDARD
DTSTART:20250724T072434
TZOFFSETFROM:+0000
TZOFFSETTO:+0000
END:STANDARD
END:VTIMEZONE
BEGIN:VEVENT
UID:541D9693-BA5C-49F3-B354-186D1A701882-28-1170_homereminder@194.badminton
 ners.net
DTSTAMP:20260420T072434Z
SUMMARY:Thuismatch ingevuld? (Huirtuits Dropke 4G (116) - De Nekker 3G (128
 ))
DESCRIPTION:Je hebt 36 uur na aanvang om een thuismatch op Badmintonvlaande
 ren in te vullen. Match info: Huirtuits Dropke 4G (116) - De Nekker 3G (12
 8) - Link: https://www.badmintonvlaanderen.be/sport/teammatch.aspx?id=541D
 9693-BA5C-49F3-B354-186D1A701882&match=1170
DTSTART;TZID=Europe/Brussels:20241003T080000
DTEND;TZID=Europe/Brussels:20241003T080000
END:VEVENT
BEGIN:VEVENT
UID:541D9693-BA5C-49F3-B354-186D1A701882-28-1182_homereminder@194.badminton
 ners.net
DTSTAMP:20260420T072434Z
SUMMARY:Thuismatch ingevuld? (Huirtuits Dropke 4G (116) - Spinners 1G (124)
 )
DESCRIPTION:Je hebt 36 uur na aanvang om een thuismatch op Badmintonvlaande
 ren in te vullen. Match info: Huirtuits Dropke 4G (116) - Spinners 1G (124
 ) - Link: https://www.badmintonvlaanderen.be/sport/teammatch.aspx?id=541D9
 693-BA5C-49F3-B354-186D1A701882&match=1182
DTSTART;TZID=Europe/Brussels:20241107T080000
DTEND;TZID=Europe/Brussels:20241107T080000
END:VEVENT
BEGIN:VEVENT
UID:541D9693-BA5C-49F3-B354-186D1A701882-28-1194_homereminder@194.badminton
 ners.net
DTSTAMP:20260420T072434Z
SUMMARY:Thuismatch ingevuld? (Huirtuits Dropke 4G (116) - Spinshuttle 6G (1
 09))
DESCRIPTION:Je hebt 36 uur na aanvang om een thuismatch op Badmintonvlaande
 ren in te vullen. Match info: Huirtuits Dropke 4G (116) - Spinshuttle 6G (
 109) - Link: https://www.badmintonvlaanderen.be/sport/teammatch.aspx?id=54
 1D9693-BA5C-49F3-B354-186D1A701882&match=1194
DTSTART;TZID=Europe/Brussels:20241114T080000
DTEND;TZID=Europe/Brussels:20241114T080000
END:VEVENT
BEGIN:VEVENT
UID:541D9693-BA5C-49F3-B354-186D1A701882-28-1176_homereminder@194.badminton
 ners.net
DTSTAMP:20260420T072434Z
SUMMARY:Thuismatch ingevuld? (Huirtuits Dropke 4G (116) - Klein Boom 8G (12
 1))
DESCRIPTION:Je hebt 36 uur na aanvang om een thuismatch op Badmintonvlaande
 ren in te vullen. Match info: Huirtuits Dropke 4G (116) - Klein Boom 8G (1
 21) - Link: https://www.badmintonvlaanderen.be/sport/teammatch.aspx?id=541
 D9693-BA5C-49F3-B354-186D1A701882&match=1176
DTSTART;TZID=Europe/Brussels:20250109T080000
DTEND;TZID=Europe/Brussels:20250109T080000
END:VEVENT
BEGIN:VEVENT
UID:541D9693-BA5C-49F3-B354-186D1A701882-28-1157_homereminder@194.badminton
 ners.net
DTSTAMP:20260420T072434Z
SUMMARY:Thuismatch ingevuld? (Huirtuits Dropke 4G (116) - Geelse 1G (123))
DESCRIPTION:Je hebt 36 uur na aanvang om een thuismatch op Badmintonvlaande
 ren in te vullen. Match info: Huirtuits Dropke 4G (116) - Geelse 1G (123) 
 - Link: https://www.badmintonvlaanderen.be/sport/teammatch.aspx?id=541D969
 3-BA5C-49F3-B354-186D1A701882&match=1157
DTSTART;TZID=Europe/Brussels:20250220T080000
DTEND;TZID=Europe/Brussels:20250220T080000
END:VEVENT
BEGIN:VEVENT
UID:541D9693-BA5C-49F3-B354-186D1A701882-28-1188_homereminder@194.badminton
 ners.net
DTSTAMP:20260420T072434Z
SUMMARY:Thuismatch ingevuld? (Huirtuits Dropke 4G (116) - Essen 1G (111))
DESCRIPTION:Je hebt 36 uur na aanvang om een thuismatch op Badmintonvlaande
 ren in te vullen. Match info: Huirtuits Dropke 4G (116) - Essen 1G (111) -
  Link: https://www.badmintonvlaanderen.be/sport/teammatch.aspx?id=541D9693
 -BA5C-49F3-B354-186D1A701882&match=1188
DTSTART;TZID=Europe/Brussels:20250501T080000
DTEND;TZID=Europe/Brussels:20250501T080000
END:VEVENT
BEGIN:VEVENT
UID:541D9693-BA5C-49F3-B354-186D1A701882-28-1165_awayreminder@194.badminton
 ners.net
DTSTAMP:20260420T072434Z
SUMMARY:Uitmatch bevestigd? (Klein Boom 8G (121) - Huirtuits Dropke 4G (116
 ))
DESCRIPTION:Je hebt 72 uur na aanvang om een uitmatch op Badmintonvlaandere
 n in te vullen. Match info: Klein Boom 8G (121) - Huirtuits Dropke 4G (116
 ) - Link: https://www.badmintonvlaanderen.be/sport/teammatch.aspx?id=541D9
 693-BA5C-49F3-B354-186D1A701882&match=1165
DTSTART;TZID=Europe/Brussels:20241016T190000
DTEND;TZID=Europe/Brussels:20241016T190000
END:VEVENT
BEGIN:VEVENT
UID:541D9693-BA5C-49F3-B354-186D1A701882-28-1163_awayreminder@194.badminton
 ners.net
DTSTAMP:20260420T072434Z
SUMMARY:Uitmatch bevestigd? (Geelse 1G (123) - Huirtuits Dropke 4G (116))
DESCRIPTION:Je hebt 72 uur na aanvang om een uitmatch op Badmintonvlaandere
 n in te vullen. Match info: Geelse 1G (123) - Huirtuits Dropke 4G (116) - 
 Link: https://www.badmintonvlaanderen.be/sport/teammatch.aspx?id=541D9693-
 BA5C-49F3-B354-186D1A701882&match=1163
DTSTART;TZID=Europe/Brussels:20241103T200000
DTEND;TZID=Europe/Brussels:20241103T200000
END:VEVENT
BEGIN:VEVENT
UID:541D9693-BA5C-49F3-B354-186D1A701882-28-1167_awayreminder@194.badminton
 ners.net
DTSTAMP:20260420T072434Z
SUMMARY:Uitmatch bevestigd? (Essen 1G (111) - Huirtuits Dropke 4G (116))
DESCRIPTION:Je hebt 72 uur na aanvang om een uitmatch op Badmintonvlaandere
 n in te vullen. Match info: Essen 1G (111) - Huirtuits Dropke 4G (116) - L
 ink: https://www.badmintonvlaanderen.be/sport/teammatch.aspx?id=541D9693-B
 A5C-49F3-B354-186D1A701882&match=1167
DTSTART;TZID=Europe/Brussels:20241218T190000
DTEND;TZID=Europe/Brussels:20241218T190000
END:VEVENT
BEGIN:VEVENT
UID:541D9693-BA5C-49F3-B354-186D1A701882-28-1164_awayreminder@194.badminton
 ners.net
DTSTAMP:20260420T072434Z
SUMMARY:Uitmatch bevestigd? (De Nekker 3G (128) - Huirtuits Dropke 4G (116)
 )
DESCRIPTION:Je hebt 72 uur na aanvang om een uitmatch op Badmintonvlaandere
 n in te vullen. Match info: De Nekker 3G (128) - Huirtuits Dropke 4G (116)
  - Link: https://www.badmintonvlaanderen.be/sport/teammatch.aspx?id=541D96
 93-BA5C-49F3-B354-186D1A701882&match=1164
DTSTART;TZID=Europe/Brussels:20250124T203000
DTEND;TZID=Europe/Brussels:20250124T203000
END:VEVENT
BEGIN:VEVENT
UID:541D9693-BA5C-49F3-B354-186D1A701882-28-1168_awayreminder@194.badminton
 ners.net
DTSTAMP:20260420T072434Z
SUMMARY:Uitmatch bevestigd? (Spinshuttle 6G (109) - Huirtuits Dropke 4G (11
 6))
DESCRIPTION:Je hebt 72 uur na aanvang om een uitmatch op Badmintonvlaandere
 n in te vullen. Match info: Spinshuttle 6G (109) - Huirtuits Dropke 4G (11
 6) - Link: https://www.badmintonvlaanderen.be/sport/teammatch.aspx?id=541D
 9693-BA5C-49F3-B354-186D1A701882&match=1168
DTSTART;TZID=Europe/Brussels:20250323T200000
DTEND;TZID=Europe/Brussels:20250323T200000
END:VEVENT
BEGIN:VEVENT
UID:541D9693-BA5C-49F3-B354-186D1A701882-28-1166_awayreminder@194.badminton
 ners.net
DTSTAMP:20260420T072434Z
SUMMARY:Uitmatch bevestigd? (Spinners 1G (124) - Huirtuits Dropke 4G (116))
DESCRIPTION:Je hebt 72 uur na aanvang om een uitmatch op Badmintonvlaandere
 n in te vullen. Match info: Spinners 1G (124) - Huirtuits Dropke 4G (116) 
 - Link: https://www.badmintonvlaanderen.be/sport/teammatch.aspx?id=541D969
 3-BA5C-49F3-B354-186D1A701882&match=1166
DTSTART;TZID=Europe/Brussels:20250407T210000
DTEND;TZID=Europe/Brussels:20250407T210000
END:VEVENT
END:VCALENDAR