BEGIN:VCALENDAR
VERSION:2.0
PRODID:spatie/icalendar-generator
NAME:essen_1g_111_reminders
X-WR-CALNAME:essen_1g_111_reminders
BEGIN:VTIMEZONE
TZID:Europe/Brussels
BEGIN:DAYLIGHT
DTSTART:20240331T010000
TZOFFSETFROM:+0100
TZOFFSETTO:+0200
END:DAYLIGHT
BEGIN:STANDARD
DTSTART:20241027T030000
TZOFFSETFROM:+0200
TZOFFSETTO:+0100
END:STANDARD
BEGIN:DAYLIGHT
DTSTART:20250330T010000
TZOFFSETFROM:+0100
TZOFFSETTO:+0200
END:DAYLIGHT
BEGIN:STANDARD
DTSTART:20251026T030000
TZOFFSETFROM:+0200
TZOFFSETTO:+0100
END:STANDARD
END:VTIMEZONE
BEGIN:VTIMEZONE
TZID:UTC
BEGIN:STANDARD
DTSTART:20250724T055125
TZOFFSETFROM:+0000
TZOFFSETTO:+0000
END:STANDARD
END:VTIMEZONE
BEGIN:VEVENT
UID:541D9693-BA5C-49F3-B354-186D1A701882-28-1198_homereminder@196.badminton
 ners.net
DTSTAMP:20260420T055125Z
SUMMARY:Thuismatch ingevuld? (Essen 1G (111) - Spinshuttle 6G (109))
DESCRIPTION:Je hebt 36 uur na aanvang om een thuismatch op Badmintonvlaande
 ren in te vullen. Match info: Essen 1G (111) - Spinshuttle 6G (109) - Link
 : https://www.badmintonvlaanderen.be/sport/teammatch.aspx?id=541D9693-BA5C
 -49F3-B354-186D1A701882&match=1198
DTSTART;TZID=Europe/Brussels:20241119T070000
DTEND;TZID=Europe/Brussels:20241119T070000
END:VEVENT
BEGIN:VEVENT
UID:541D9693-BA5C-49F3-B354-186D1A701882-28-1179_homereminder@196.badminton
 ners.net
DTSTAMP:20260420T055125Z
SUMMARY:Thuismatch ingevuld? (Essen 1G (111) - Klein Boom 8G (121))
DESCRIPTION:Je hebt 36 uur na aanvang om een thuismatch op Badmintonvlaande
 ren in te vullen. Match info: Essen 1G (111) - Klein Boom 8G (121) - Link:
  https://www.badmintonvlaanderen.be/sport/teammatch.aspx?id=541D9693-BA5C-
 49F3-B354-186D1A701882&match=1179
DTSTART;TZID=Europe/Brussels:20241203T070000
DTEND;TZID=Europe/Brussels:20241203T070000
END:VEVENT
BEGIN:VEVENT
UID:541D9693-BA5C-49F3-B354-186D1A701882-28-1167_homereminder@196.badminton
 ners.net
DTSTAMP:20260420T055125Z
SUMMARY:Thuismatch ingevuld? (Essen 1G (111) - Huirtuits Dropke 4G (116))
DESCRIPTION:Je hebt 36 uur na aanvang om een thuismatch op Badmintonvlaande
 ren in te vullen. Match info: Essen 1G (111) - Huirtuits Dropke 4G (116) -
  Link: https://www.badmintonvlaanderen.be/sport/teammatch.aspx?id=541D9693
 -BA5C-49F3-B354-186D1A701882&match=1167
DTSTART;TZID=Europe/Brussels:20241217T070000
DTEND;TZID=Europe/Brussels:20241217T070000
END:VEVENT
BEGIN:VEVENT
UID:541D9693-BA5C-49F3-B354-186D1A701882-28-1185_homereminder@196.badminton
 ners.net
DTSTAMP:20260420T055125Z
SUMMARY:Thuismatch ingevuld? (Essen 1G (111) - Spinners 1G (124))
DESCRIPTION:Je hebt 36 uur na aanvang om een thuismatch op Badmintonvlaande
 ren in te vullen. Match info: Essen 1G (111) - Spinners 1G (124) - Link: h
 ttps://www.badmintonvlaanderen.be/sport/teammatch.aspx?id=541D9693-BA5C-49
 F3-B354-186D1A701882&match=1185
DTSTART;TZID=Europe/Brussels:20250211T070000
DTEND;TZID=Europe/Brussels:20250211T070000
END:VEVENT
BEGIN:VEVENT
UID:541D9693-BA5C-49F3-B354-186D1A701882-28-1173_homereminder@196.badminton
 ners.net
DTSTAMP:20260420T055125Z
SUMMARY:Thuismatch ingevuld? (Essen 1G (111) - De Nekker 3G (128))
DESCRIPTION:Je hebt 36 uur na aanvang om een thuismatch op Badmintonvlaande
 ren in te vullen. Match info: Essen 1G (111) - De Nekker 3G (128) - Link: 
 https://www.badmintonvlaanderen.be/sport/teammatch.aspx?id=541D9693-BA5C-4
 9F3-B354-186D1A701882&match=1173
DTSTART;TZID=Europe/Brussels:20250325T070000
DTEND;TZID=Europe/Brussels:20250325T070000
END:VEVENT
BEGIN:VEVENT
UID:541D9693-BA5C-49F3-B354-186D1A701882-28-1161_homereminder@196.badminton
 ners.net
DTSTAMP:20260420T055125Z
SUMMARY:Thuismatch ingevuld? (Essen 1G (111) - Geelse 1G (123))
DESCRIPTION:Je hebt 36 uur na aanvang om een thuismatch op Badmintonvlaande
 ren in te vullen. Match info: Essen 1G (111) - Geelse 1G (123) - Link: htt
 ps://www.badmintonvlaanderen.be/sport/teammatch.aspx?id=541D9693-BA5C-49F3
 -B354-186D1A701882&match=1161
DTSTART;TZID=Europe/Brussels:20250408T070000
DTEND;TZID=Europe/Brussels:20250408T070000
END:VEVENT
BEGIN:VEVENT
UID:541D9693-BA5C-49F3-B354-186D1A701882-28-1187_awayreminder@196.badminton
 ners.net
DTSTAMP:20260420T055125Z
SUMMARY:Uitmatch bevestigd? (Geelse 1G (123) - Essen 1G (111))
DESCRIPTION:Je hebt 72 uur na aanvang om een uitmatch op Badmintonvlaandere
 n in te vullen. Match info: Geelse 1G (123) - Essen 1G (111) - Link: https
 ://www.badmintonvlaanderen.be/sport/teammatch.aspx?id=541D9693-BA5C-49F3-B
 354-186D1A701882&match=1187
DTSTART;TZID=Europe/Brussels:20240908T200000
DTEND;TZID=Europe/Brussels:20240908T200000
END:VEVENT
BEGIN:VEVENT
UID:541D9693-BA5C-49F3-B354-186D1A701882-28-1191_awayreminder@196.badminton
 ners.net
DTSTAMP:20260420T055125Z
SUMMARY:Uitmatch bevestigd? (Spinners 1G (124) - Essen 1G (111))
DESCRIPTION:Je hebt 72 uur na aanvang om een uitmatch op Badmintonvlaandere
 n in te vullen. Match info: Spinners 1G (124) - Essen 1G (111) - Link: htt
 ps://www.badmintonvlaanderen.be/sport/teammatch.aspx?id=541D9693-BA5C-49F3
 -B354-186D1A701882&match=1191
DTSTART;TZID=Europe/Brussels:20241021T210000
DTEND;TZID=Europe/Brussels:20241021T210000
END:VEVENT
BEGIN:VEVENT
UID:541D9693-BA5C-49F3-B354-186D1A701882-28-1189_awayreminder@196.badminton
 ners.net
DTSTAMP:20260420T055125Z
SUMMARY:Uitmatch bevestigd? (De Nekker 3G (128) - Essen 1G (111))
DESCRIPTION:Je hebt 72 uur na aanvang om een uitmatch op Badmintonvlaandere
 n in te vullen. Match info: De Nekker 3G (128) - Essen 1G (111) - Link: ht
 tps://www.badmintonvlaanderen.be/sport/teammatch.aspx?id=541D9693-BA5C-49F
 3-B354-186D1A701882&match=1189
DTSTART;TZID=Europe/Brussels:20241115T203000
DTEND;TZID=Europe/Brussels:20241115T203000
END:VEVENT
BEGIN:VEVENT
UID:541D9693-BA5C-49F3-B354-186D1A701882-28-1192_awayreminder@196.badminton
 ners.net
DTSTAMP:20260420T055125Z
SUMMARY:Uitmatch bevestigd? (Spinshuttle 6G (109) - Essen 1G (111))
DESCRIPTION:Je hebt 72 uur na aanvang om een uitmatch op Badmintonvlaandere
 n in te vullen. Match info: Spinshuttle 6G (109) - Essen 1G (111) - Link: 
 https://www.badmintonvlaanderen.be/sport/teammatch.aspx?id=541D9693-BA5C-4
 9F3-B354-186D1A701882&match=1192
DTSTART;TZID=Europe/Brussels:20250112T200000
DTEND;TZID=Europe/Brussels:20250112T200000
END:VEVENT
BEGIN:VEVENT
UID:541D9693-BA5C-49F3-B354-186D1A701882-28-1190_awayreminder@196.badminton
 ners.net
DTSTAMP:20260420T055125Z
SUMMARY:Uitmatch bevestigd? (Klein Boom 8G (121) - Essen 1G (111))
DESCRIPTION:Je hebt 72 uur na aanvang om een uitmatch op Badmintonvlaandere
 n in te vullen. Match info: Klein Boom 8G (121) - Essen 1G (111) - Link: h
 ttps://www.badmintonvlaanderen.be/sport/teammatch.aspx?id=541D9693-BA5C-49
 F3-B354-186D1A701882&match=1190
DTSTART;TZID=Europe/Brussels:20250312T190000
DTEND;TZID=Europe/Brussels:20250312T190000
END:VEVENT
BEGIN:VEVENT
UID:541D9693-BA5C-49F3-B354-186D1A701882-28-1188_awayreminder@196.badminton
 ners.net
DTSTAMP:20260420T055125Z
SUMMARY:Uitmatch bevestigd? (Huirtuits Dropke 4G (116) - Essen 1G (111))
DESCRIPTION:Je hebt 72 uur na aanvang om een uitmatch op Badmintonvlaandere
 n in te vullen. Match info: Huirtuits Dropke 4G (116) - Essen 1G (111) - L
 ink: https://www.badmintonvlaanderen.be/sport/teammatch.aspx?id=541D9693-B
 A5C-49F3-B354-186D1A701882&match=1188
DTSTART;TZID=Europe/Brussels:20250502T200000
DTEND;TZID=Europe/Brussels:20250502T200000
END:VEVENT
END:VCALENDAR