BEGIN:VCALENDAR
VERSION:2.0
PRODID:spatie/icalendar-generator
NAME:spinshuttle_6g_109_reminders
X-WR-CALNAME:spinshuttle_6g_109_reminders
BEGIN:VTIMEZONE
TZID:Europe/Brussels
BEGIN:DAYLIGHT
DTSTART:20240331T010000
TZOFFSETFROM:+0100
TZOFFSETTO:+0200
END:DAYLIGHT
BEGIN:STANDARD
DTSTART:20241027T030000
TZOFFSETFROM:+0200
TZOFFSETTO:+0100
END:STANDARD
BEGIN:DAYLIGHT
DTSTART:20250330T010000
TZOFFSETFROM:+0100
TZOFFSETTO:+0200
END:DAYLIGHT
END:VTIMEZONE
BEGIN:VTIMEZONE
TZID:UTC
BEGIN:STANDARD
DTSTART:20250724T055127
TZOFFSETFROM:+0000
TZOFFSETTO:+0000
END:STANDARD
END:VTIMEZONE
BEGIN:VEVENT
UID:541D9693-BA5C-49F3-B354-186D1A701882-28-1174_homereminder@199.badminton
 ners.net
DTSTAMP:20260420T055127Z
SUMMARY:Thuismatch ingevuld? (Spinshuttle 6G (109) - De Nekker 3G (128))
DESCRIPTION:Je hebt 36 uur na aanvang om een thuismatch op Badmintonvlaande
 ren in te vullen. Match info: Spinshuttle 6G (109) - De Nekker 3G (128) - 
 Link: https://www.badmintonvlaanderen.be/sport/teammatch.aspx?id=541D9693-
 BA5C-49F3-B354-186D1A701882&match=1174
DTSTART;TZID=Europe/Brussels:20240914T080000
DTEND;TZID=Europe/Brussels:20240914T080000
END:VEVENT
BEGIN:VEVENT
UID:541D9693-BA5C-49F3-B354-186D1A701882-28-1186_homereminder@199.badminton
 ners.net
DTSTAMP:20260420T055127Z
SUMMARY:Thuismatch ingevuld? (Spinshuttle 6G (109) - Spinners 1G (124))
DESCRIPTION:Je hebt 36 uur na aanvang om een thuismatch op Badmintonvlaande
 ren in te vullen. Match info: Spinshuttle 6G (109) - Spinners 1G (124) - L
 ink: https://www.badmintonvlaanderen.be/sport/teammatch.aspx?id=541D9693-B
 A5C-49F3-B354-186D1A701882&match=1186
DTSTART;TZID=Europe/Brussels:20241019T080000
DTEND;TZID=Europe/Brussels:20241019T080000
END:VEVENT
BEGIN:VEVENT
UID:541D9693-BA5C-49F3-B354-186D1A701882-28-1162_homereminder@199.badminton
 ners.net
DTSTAMP:20260420T055127Z
SUMMARY:Thuismatch ingevuld? (Spinshuttle 6G (109) - Geelse 1G (123))
DESCRIPTION:Je hebt 36 uur na aanvang om een thuismatch op Badmintonvlaande
 ren in te vullen. Match info: Spinshuttle 6G (109) - Geelse 1G (123) - Lin
 k: https://www.badmintonvlaanderen.be/sport/teammatch.aspx?id=541D9693-BA5
 C-49F3-B354-186D1A701882&match=1162
DTSTART;TZID=Europe/Brussels:20241214T080000
DTEND;TZID=Europe/Brussels:20241214T080000
END:VEVENT
BEGIN:VEVENT
UID:541D9693-BA5C-49F3-B354-186D1A701882-28-1192_homereminder@199.badminton
 ners.net
DTSTAMP:20260420T055127Z
SUMMARY:Thuismatch ingevuld? (Spinshuttle 6G (109) - Essen 1G (111))
DESCRIPTION:Je hebt 36 uur na aanvang om een thuismatch op Badmintonvlaande
 ren in te vullen. Match info: Spinshuttle 6G (109) - Essen 1G (111) - Link
 : https://www.badmintonvlaanderen.be/sport/teammatch.aspx?id=541D9693-BA5C
 -49F3-B354-186D1A701882&match=1192
DTSTART;TZID=Europe/Brussels:20250111T080000
DTEND;TZID=Europe/Brussels:20250111T080000
END:VEVENT
BEGIN:VEVENT
UID:541D9693-BA5C-49F3-B354-186D1A701882-28-1180_homereminder@199.badminton
 ners.net
DTSTAMP:20260420T055127Z
SUMMARY:Thuismatch ingevuld? (Spinshuttle 6G (109) - Klein Boom 8G (121))
DESCRIPTION:Je hebt 36 uur na aanvang om een thuismatch op Badmintonvlaande
 ren in te vullen. Match info: Spinshuttle 6G (109) - Klein Boom 8G (121) -
  Link: https://www.badmintonvlaanderen.be/sport/teammatch.aspx?id=541D9693
 -BA5C-49F3-B354-186D1A701882&match=1180
DTSTART;TZID=Europe/Brussels:20250208T080000
DTEND;TZID=Europe/Brussels:20250208T080000
END:VEVENT
BEGIN:VEVENT
UID:541D9693-BA5C-49F3-B354-186D1A701882-28-1168_homereminder@199.badminton
 ners.net
DTSTAMP:20260420T055127Z
SUMMARY:Thuismatch ingevuld? (Spinshuttle 6G (109) - Huirtuits Dropke 4G (1
 16))
DESCRIPTION:Je hebt 36 uur na aanvang om een thuismatch op Badmintonvlaande
 ren in te vullen. Match info: Spinshuttle 6G (109) - Huirtuits Dropke 4G (
 116) - Link: https://www.badmintonvlaanderen.be/sport/teammatch.aspx?id=54
 1D9693-BA5C-49F3-B354-186D1A701882&match=1168
DTSTART;TZID=Europe/Brussels:20250322T080000
DTEND;TZID=Europe/Brussels:20250322T080000
END:VEVENT
BEGIN:VEVENT
UID:541D9693-BA5C-49F3-B354-186D1A701882-28-1196_awayreminder@199.badminton
 ners.net
DTSTAMP:20260420T055127Z
SUMMARY:Uitmatch bevestigd? (Klein Boom 8G (121) - Spinshuttle 6G (109))
DESCRIPTION:Je hebt 72 uur na aanvang om een uitmatch op Badmintonvlaandere
 n in te vullen. Match info: Klein Boom 8G (121) - Spinshuttle 6G (109) - L
 ink: https://www.badmintonvlaanderen.be/sport/teammatch.aspx?id=541D9693-B
 A5C-49F3-B354-186D1A701882&match=1196
DTSTART;TZID=Europe/Brussels:20240911T190000
DTEND;TZID=Europe/Brussels:20240911T190000
END:VEVENT
BEGIN:VEVENT
UID:541D9693-BA5C-49F3-B354-186D1A701882-28-1194_awayreminder@199.badminton
 ners.net
DTSTAMP:20260420T055127Z
SUMMARY:Uitmatch bevestigd? (Huirtuits Dropke 4G (116) - Spinshuttle 6G (10
 9))
DESCRIPTION:Je hebt 72 uur na aanvang om een uitmatch op Badmintonvlaandere
 n in te vullen. Match info: Huirtuits Dropke 4G (116) - Spinshuttle 6G (10
 9) - Link: https://www.badmintonvlaanderen.be/sport/teammatch.aspx?id=541D
 9693-BA5C-49F3-B354-186D1A701882&match=1194
DTSTART;TZID=Europe/Brussels:20241115T200000
DTEND;TZID=Europe/Brussels:20241115T200000
END:VEVENT
BEGIN:VEVENT
UID:541D9693-BA5C-49F3-B354-186D1A701882-28-1198_awayreminder@199.badminton
 ners.net
DTSTAMP:20260420T055127Z
SUMMARY:Uitmatch bevestigd? (Essen 1G (111) - Spinshuttle 6G (109))
DESCRIPTION:Je hebt 72 uur na aanvang om een uitmatch op Badmintonvlaandere
 n in te vullen. Match info: Essen 1G (111) - Spinshuttle 6G (109) - Link: 
 https://www.badmintonvlaanderen.be/sport/teammatch.aspx?id=541D9693-BA5C-4
 9F3-B354-186D1A701882&match=1198
DTSTART;TZID=Europe/Brussels:20241120T190000
DTEND;TZID=Europe/Brussels:20241120T190000
END:VEVENT
BEGIN:VEVENT
UID:541D9693-BA5C-49F3-B354-186D1A701882-28-1197_awayreminder@199.badminton
 ners.net
DTSTAMP:20260420T055127Z
SUMMARY:Uitmatch bevestigd? (Spinners 1G (124) - Spinshuttle 6G (109))
DESCRIPTION:Je hebt 72 uur na aanvang om een uitmatch op Badmintonvlaandere
 n in te vullen. Match info: Spinners 1G (124) - Spinshuttle 6G (109) - Lin
 k: https://www.badmintonvlaanderen.be/sport/teammatch.aspx?id=541D9693-BA5
 C-49F3-B354-186D1A701882&match=1197
DTSTART;TZID=Europe/Brussels:20250127T210000
DTEND;TZID=Europe/Brussels:20250127T210000
END:VEVENT
BEGIN:VEVENT
UID:541D9693-BA5C-49F3-B354-186D1A701882-28-1195_awayreminder@199.badminton
 ners.net
DTSTAMP:20260420T055127Z
SUMMARY:Uitmatch bevestigd? (De Nekker 3G (128) - Spinshuttle 6G (109))
DESCRIPTION:Je hebt 72 uur na aanvang om een uitmatch op Badmintonvlaandere
 n in te vullen. Match info: De Nekker 3G (128) - Spinshuttle 6G (109) - Li
 nk: https://www.badmintonvlaanderen.be/sport/teammatch.aspx?id=541D9693-BA
 5C-49F3-B354-186D1A701882&match=1195
DTSTART;TZID=Europe/Brussels:20250307T203000
DTEND;TZID=Europe/Brussels:20250307T203000
END:VEVENT
BEGIN:VEVENT
UID:541D9693-BA5C-49F3-B354-186D1A701882-28-1193_awayreminder@199.badminton
 ners.net
DTSTAMP:20260420T055127Z
SUMMARY:Uitmatch bevestigd? (Geelse 1G (123) - Spinshuttle 6G (109))
DESCRIPTION:Je hebt 72 uur na aanvang om een uitmatch op Badmintonvlaandere
 n in te vullen. Match info: Geelse 1G (123) - Spinshuttle 6G (109) - Link:
  https://www.badmintonvlaanderen.be/sport/teammatch.aspx?id=541D9693-BA5C-
 49F3-B354-186D1A701882&match=1193
DTSTART;TZID=Europe/Brussels:20250420T200000
DTEND;TZID=Europe/Brussels:20250420T200000
END:VEVENT
END:VCALENDAR