BEGIN:VCALENDAR
VERSION:2.0
PRODID:spatie/icalendar-generator
NAME:spinners_1g_124_reminders
X-WR-CALNAME:spinners_1g_124_reminders
BEGIN:VTIMEZONE
TZID:Europe/Brussels
BEGIN:DAYLIGHT
DTSTART:20240331T010000
TZOFFSETFROM:+0100
TZOFFSETTO:+0200
END:DAYLIGHT
BEGIN:STANDARD
DTSTART:20241027T030000
TZOFFSETFROM:+0200
TZOFFSETTO:+0100
END:STANDARD
BEGIN:DAYLIGHT
DTSTART:20250330T010000
TZOFFSETFROM:+0100
TZOFFSETTO:+0200
END:DAYLIGHT
BEGIN:STANDARD
DTSTART:20251026T030000
TZOFFSETFROM:+0200
TZOFFSETTO:+0100
END:STANDARD
END:VTIMEZONE
BEGIN:VTIMEZONE
TZID:UTC
BEGIN:STANDARD
DTSTART:20250724T055129
TZOFFSETFROM:+0000
TZOFFSETTO:+0000
END:STANDARD
END:VTIMEZONE
BEGIN:VEVENT
UID:541D9693-BA5C-49F3-B354-186D1A701882-28-1191_homereminder@202.badminton
 ners.net
DTSTAMP:20260420T055129Z
SUMMARY:Thuismatch ingevuld? (Spinners 1G (124) - Essen 1G (111))
DESCRIPTION:Je hebt 36 uur na aanvang om een thuismatch op Badmintonvlaande
 ren in te vullen. Match info: Spinners 1G (124) - Essen 1G (111) - Link: h
 ttps://www.badmintonvlaanderen.be/sport/teammatch.aspx?id=541D9693-BA5C-49
 F3-B354-186D1A701882&match=1191
DTSTART;TZID=Europe/Brussels:20241020T090000
DTEND;TZID=Europe/Brussels:20241020T090000
END:VEVENT
BEGIN:VEVENT
UID:541D9693-BA5C-49F3-B354-186D1A701882-28-1160_homereminder@202.badminton
 ners.net
DTSTAMP:20260420T055129Z
SUMMARY:Thuismatch ingevuld? (Spinners 1G (124) - Geelse 1G (123))
DESCRIPTION:Je hebt 36 uur na aanvang om een thuismatch op Badmintonvlaande
 ren in te vullen. Match info: Spinners 1G (124) - Geelse 1G (123) - Link: 
 https://www.badmintonvlaanderen.be/sport/teammatch.aspx?id=541D9693-BA5C-4
 9F3-B354-186D1A701882&match=1160
DTSTART;TZID=Europe/Brussels:20241124T090000
DTEND;TZID=Europe/Brussels:20241124T090000
END:VEVENT
BEGIN:VEVENT
UID:541D9693-BA5C-49F3-B354-186D1A701882-28-1172_homereminder@202.badminton
 ners.net
DTSTAMP:20260420T055129Z
SUMMARY:Thuismatch ingevuld? (Spinners 1G (124) - De Nekker 3G (128))
DESCRIPTION:Je hebt 36 uur na aanvang om een thuismatch op Badmintonvlaande
 ren in te vullen. Match info: Spinners 1G (124) - De Nekker 3G (128) - Lin
 k: https://www.badmintonvlaanderen.be/sport/teammatch.aspx?id=541D9693-BA5
 C-49F3-B354-186D1A701882&match=1172
DTSTART;TZID=Europe/Brussels:20241215T090000
DTEND;TZID=Europe/Brussels:20241215T090000
END:VEVENT
BEGIN:VEVENT
UID:541D9693-BA5C-49F3-B354-186D1A701882-28-1197_homereminder@202.badminton
 ners.net
DTSTAMP:20260420T055129Z
SUMMARY:Thuismatch ingevuld? (Spinners 1G (124) - Spinshuttle 6G (109))
DESCRIPTION:Je hebt 36 uur na aanvang om een thuismatch op Badmintonvlaande
 ren in te vullen. Match info: Spinners 1G (124) - Spinshuttle 6G (109) - L
 ink: https://www.badmintonvlaanderen.be/sport/teammatch.aspx?id=541D9693-B
 A5C-49F3-B354-186D1A701882&match=1197
DTSTART;TZID=Europe/Brussels:20250126T090000
DTEND;TZID=Europe/Brussels:20250126T090000
END:VEVENT
BEGIN:VEVENT
UID:541D9693-BA5C-49F3-B354-186D1A701882-28-1178_homereminder@202.badminton
 ners.net
DTSTAMP:20260420T055129Z
SUMMARY:Thuismatch ingevuld? (Spinners 1G (124) - Klein Boom 8G (121))
DESCRIPTION:Je hebt 36 uur na aanvang om een thuismatch op Badmintonvlaande
 ren in te vullen. Match info: Spinners 1G (124) - Klein Boom 8G (121) - Li
 nk: https://www.badmintonvlaanderen.be/sport/teammatch.aspx?id=541D9693-BA
 5C-49F3-B354-186D1A701882&match=1178
DTSTART;TZID=Europe/Brussels:20250323T090000
DTEND;TZID=Europe/Brussels:20250323T090000
END:VEVENT
BEGIN:VEVENT
UID:541D9693-BA5C-49F3-B354-186D1A701882-28-1166_homereminder@202.badminton
 ners.net
DTSTAMP:20260420T055129Z
SUMMARY:Thuismatch ingevuld? (Spinners 1G (124) - Huirtuits Dropke 4G (116)
 )
DESCRIPTION:Je hebt 36 uur na aanvang om een thuismatch op Badmintonvlaande
 ren in te vullen. Match info: Spinners 1G (124) - Huirtuits Dropke 4G (116
 ) - Link: https://www.badmintonvlaanderen.be/sport/teammatch.aspx?id=541D9
 693-BA5C-49F3-B354-186D1A701882&match=1166
DTSTART;TZID=Europe/Brussels:20250406T090000
DTEND;TZID=Europe/Brussels:20250406T090000
END:VEVENT
BEGIN:VEVENT
UID:541D9693-BA5C-49F3-B354-186D1A701882-28-1186_awayreminder@202.badminton
 ners.net
DTSTAMP:20260420T055129Z
SUMMARY:Uitmatch bevestigd? (Spinshuttle 6G (109) - Spinners 1G (124))
DESCRIPTION:Je hebt 72 uur na aanvang om een uitmatch op Badmintonvlaandere
 n in te vullen. Match info: Spinshuttle 6G (109) - Spinners 1G (124) - Lin
 k: https://www.badmintonvlaanderen.be/sport/teammatch.aspx?id=541D9693-BA5
 C-49F3-B354-186D1A701882&match=1186
DTSTART;TZID=Europe/Brussels:20241020T200000
DTEND;TZID=Europe/Brussels:20241020T200000
END:VEVENT
BEGIN:VEVENT
UID:541D9693-BA5C-49F3-B354-186D1A701882-28-1182_awayreminder@202.badminton
 ners.net
DTSTAMP:20260420T055129Z
SUMMARY:Uitmatch bevestigd? (Huirtuits Dropke 4G (116) - Spinners 1G (124))
DESCRIPTION:Je hebt 72 uur na aanvang om een uitmatch op Badmintonvlaandere
 n in te vullen. Match info: Huirtuits Dropke 4G (116) - Spinners 1G (124) 
 - Link: https://www.badmintonvlaanderen.be/sport/teammatch.aspx?id=541D969
 3-BA5C-49F3-B354-186D1A701882&match=1182
DTSTART;TZID=Europe/Brussels:20241108T200000
DTEND;TZID=Europe/Brussels:20241108T200000
END:VEVENT
BEGIN:VEVENT
UID:541D9693-BA5C-49F3-B354-186D1A701882-28-1184_awayreminder@202.badminton
 ners.net
DTSTAMP:20260420T055129Z
SUMMARY:Uitmatch bevestigd? (Klein Boom 8G (121) - Spinners 1G (124))
DESCRIPTION:Je hebt 72 uur na aanvang om een uitmatch op Badmintonvlaandere
 n in te vullen. Match info: Klein Boom 8G (121) - Spinners 1G (124) - Link
 : https://www.badmintonvlaanderen.be/sport/teammatch.aspx?id=541D9693-BA5C
 -49F3-B354-186D1A701882&match=1184
DTSTART;TZID=Europe/Brussels:20241120T190000
DTEND;TZID=Europe/Brussels:20241120T190000
END:VEVENT
BEGIN:VEVENT
UID:541D9693-BA5C-49F3-B354-186D1A701882-28-1185_awayreminder@202.badminton
 ners.net
DTSTAMP:20260420T055129Z
SUMMARY:Uitmatch bevestigd? (Essen 1G (111) - Spinners 1G (124))
DESCRIPTION:Je hebt 72 uur na aanvang om een uitmatch op Badmintonvlaandere
 n in te vullen. Match info: Essen 1G (111) - Spinners 1G (124) - Link: htt
 ps://www.badmintonvlaanderen.be/sport/teammatch.aspx?id=541D9693-BA5C-49F3
 -B354-186D1A701882&match=1185
DTSTART;TZID=Europe/Brussels:20250212T190000
DTEND;TZID=Europe/Brussels:20250212T190000
END:VEVENT
BEGIN:VEVENT
UID:541D9693-BA5C-49F3-B354-186D1A701882-28-1181_awayreminder@202.badminton
 ners.net
DTSTAMP:20260420T055129Z
SUMMARY:Uitmatch bevestigd? (Geelse 1G (123) - Spinners 1G (124))
DESCRIPTION:Je hebt 72 uur na aanvang om een uitmatch op Badmintonvlaandere
 n in te vullen. Match info: Geelse 1G (123) - Spinners 1G (124) - Link: ht
 tps://www.badmintonvlaanderen.be/sport/teammatch.aspx?id=541D9693-BA5C-49F
 3-B354-186D1A701882&match=1181
DTSTART;TZID=Europe/Brussels:20250309T200000
DTEND;TZID=Europe/Brussels:20250309T200000
END:VEVENT
BEGIN:VEVENT
UID:541D9693-BA5C-49F3-B354-186D1A701882-28-1183_awayreminder@202.badminton
 ners.net
DTSTAMP:20260420T055129Z
SUMMARY:Uitmatch bevestigd? (De Nekker 3G (128) - Spinners 1G (124))
DESCRIPTION:Je hebt 72 uur na aanvang om een uitmatch op Badmintonvlaandere
 n in te vullen. Match info: De Nekker 3G (128) - Spinners 1G (124) - Link:
  https://www.badmintonvlaanderen.be/sport/teammatch.aspx?id=541D9693-BA5C-
 49F3-B354-186D1A701882&match=1183
DTSTART;TZID=Europe/Brussels:20250502T203000
DTEND;TZID=Europe/Brussels:20250502T203000
END:VEVENT
END:VCALENDAR