BEGIN:VCALENDAR
VERSION:2.0
PRODID:spatie/icalendar-generator
NAME:brasschaat_2d_45_reminders
X-WR-CALNAME:brasschaat_2d_45_reminders
BEGIN:VTIMEZONE
TZID:Europe/Brussels
BEGIN:DAYLIGHT
DTSTART:20240331T010000
TZOFFSETFROM:+0100
TZOFFSETTO:+0200
END:DAYLIGHT
BEGIN:STANDARD
DTSTART:20241027T030000
TZOFFSETFROM:+0200
TZOFFSETTO:+0100
END:STANDARD
BEGIN:DAYLIGHT
DTSTART:20250330T010000
TZOFFSETFROM:+0100
TZOFFSETTO:+0200
END:DAYLIGHT
BEGIN:STANDARD
DTSTART:20251026T030000
TZOFFSETFROM:+0200
TZOFFSETTO:+0100
END:STANDARD
END:VTIMEZONE
BEGIN:VTIMEZONE
TZID:UTC
BEGIN:STANDARD
DTSTART:20250724T055137
TZOFFSETFROM:+0000
TZOFFSETTO:+0000
END:STANDARD
END:VTIMEZONE
BEGIN:VEVENT
UID:541D9693-BA5C-49F3-B354-186D1A701882-3-116_homereminder@100.badmintonne
 rs.net
DTSTAMP:20260420T055137Z
SUMMARY:Thuismatch ingevuld? (Brasschaat 2D (45) - Beerke 1D (49))
DESCRIPTION:Je hebt 36 uur na aanvang om een thuismatch op Badmintonvlaande
 ren in te vullen. Match info: Brasschaat 2D (45) - Beerke 1D (49) - Link: 
 https://www.badmintonvlaanderen.be/sport/teammatch.aspx?id=541D9693-BA5C-4
 9F3-B354-186D1A701882&match=116
DTSTART;TZID=Europe/Brussels:20240917T070000
DTEND;TZID=Europe/Brussels:20240917T070000
END:VEVENT
BEGIN:VEVENT
UID:541D9693-BA5C-49F3-B354-186D1A701882-3-147_homereminder@100.badmintonne
 rs.net
DTSTAMP:20260420T055137Z
SUMMARY:Thuismatch ingevuld? (Brasschaat 2D (45) - Rijkerack 1D (55))
DESCRIPTION:Je hebt 36 uur na aanvang om een thuismatch op Badmintonvlaande
 ren in te vullen. Match info: Brasschaat 2D (45) - Rijkerack 1D (55) - Lin
 k: https://www.badmintonvlaanderen.be/sport/teammatch.aspx?id=541D9693-BA5
 C-49F3-B354-186D1A701882&match=147
DTSTART;TZID=Europe/Brussels:20241126T070000
DTEND;TZID=Europe/Brussels:20241126T070000
END:VEVENT
BEGIN:VEVENT
UID:541D9693-BA5C-49F3-B354-186D1A701882-3-128_homereminder@100.badmintonne
 rs.net
DTSTAMP:20260420T055137Z
SUMMARY:Thuismatch ingevuld? (Brasschaat 2D (45) - Bacss 1D (61))
DESCRIPTION:Je hebt 36 uur na aanvang om een thuismatch op Badmintonvlaande
 ren in te vullen. Match info: Brasschaat 2D (45) - Bacss 1D (61) - Link: h
 ttps://www.badmintonvlaanderen.be/sport/teammatch.aspx?id=541D9693-BA5C-49
 F3-B354-186D1A701882&match=128
DTSTART;TZID=Europe/Brussels:20241224T070000
DTEND;TZID=Europe/Brussels:20241224T070000
END:VEVENT
BEGIN:VEVENT
UID:541D9693-BA5C-49F3-B354-186D1A701882-3-110_homereminder@100.badmintonne
 rs.net
DTSTAMP:20260420T055137Z
SUMMARY:Thuismatch ingevuld? (Brasschaat 2D (45) - Klein Boom 2D (58))
DESCRIPTION:Je hebt 36 uur na aanvang om een thuismatch op Badmintonvlaande
 ren in te vullen. Match info: Brasschaat 2D (45) - Klein Boom 2D (58) - Li
 nk: https://www.badmintonvlaanderen.be/sport/teammatch.aspx?id=541D9693-BA
 5C-49F3-B354-186D1A701882&match=110
DTSTART;TZID=Europe/Brussels:20250204T070000
DTEND;TZID=Europe/Brussels:20250204T070000
END:VEVENT
BEGIN:VEVENT
UID:541D9693-BA5C-49F3-B354-186D1A701882-3-134_homereminder@100.badmintonne
 rs.net
DTSTAMP:20260420T055137Z
SUMMARY:Thuismatch ingevuld? (Brasschaat 2D (45) - Spinshuttle 1D (63))
DESCRIPTION:Je hebt 36 uur na aanvang om een thuismatch op Badmintonvlaande
 ren in te vullen. Match info: Brasschaat 2D (45) - Spinshuttle 1D (63) - L
 ink: https://www.badmintonvlaanderen.be/sport/teammatch.aspx?id=541D9693-B
 A5C-49F3-B354-186D1A701882&match=134
DTSTART;TZID=Europe/Brussels:20250318T070000
DTEND;TZID=Europe/Brussels:20250318T070000
END:VEVENT
BEGIN:VEVENT
UID:541D9693-BA5C-49F3-B354-186D1A701882-3-122_homereminder@100.badmintonne
 rs.net
DTSTAMP:20260420T055137Z
SUMMARY:Thuismatch ingevuld? (Brasschaat 2D (45) - Zoersel 1D (58))
DESCRIPTION:Je hebt 36 uur na aanvang om een thuismatch op Badmintonvlaande
 ren in te vullen. Match info: Brasschaat 2D (45) - Zoersel 1D (58) - Link:
  https://www.badmintonvlaanderen.be/sport/teammatch.aspx?id=541D9693-BA5C-
 49F3-B354-186D1A701882&match=122
DTSTART;TZID=Europe/Brussels:20250429T070000
DTEND;TZID=Europe/Brussels:20250429T070000
END:VEVENT
BEGIN:VEVENT
UID:541D9693-BA5C-49F3-B354-186D1A701882-3-138_awayreminder@100.badmintonne
 rs.net
DTSTAMP:20260420T055137Z
SUMMARY:Uitmatch bevestigd? (Zoersel 1D (58) - Brasschaat 2D (45))
DESCRIPTION:Je hebt 72 uur na aanvang om een uitmatch op Badmintonvlaandere
 n in te vullen. Match info: Zoersel 1D (58) - Brasschaat 2D (45) - Link: h
 ttps://www.badmintonvlaanderen.be/sport/teammatch.aspx?id=541D9693-BA5C-49
 F3-B354-186D1A701882&match=138
DTSTART;TZID=Europe/Brussels:20241030T120000
DTEND;TZID=Europe/Brussels:20241030T120000
END:VEVENT
BEGIN:VEVENT
UID:541D9693-BA5C-49F3-B354-186D1A701882-3-136_awayreminder@100.badmintonne
 rs.net
DTSTAMP:20260420T055137Z
SUMMARY:Uitmatch bevestigd? (Klein Boom 2D (58) - Brasschaat 2D (45))
DESCRIPTION:Je hebt 72 uur na aanvang om een uitmatch op Badmintonvlaandere
 n in te vullen. Match info: Klein Boom 2D (58) - Brasschaat 2D (45) - Link
 : https://www.badmintonvlaanderen.be/sport/teammatch.aspx?id=541D9693-BA5C
 -49F3-B354-186D1A701882&match=136
DTSTART;TZID=Europe/Brussels:20241211T190000
DTEND;TZID=Europe/Brussels:20241211T190000
END:VEVENT
BEGIN:VEVENT
UID:541D9693-BA5C-49F3-B354-186D1A701882-3-140_awayreminder@100.badmintonne
 rs.net
DTSTAMP:20260420T055137Z
SUMMARY:Uitmatch bevestigd? (Spinshuttle 1D (63) - Brasschaat 2D (45))
DESCRIPTION:Je hebt 72 uur na aanvang om een uitmatch op Badmintonvlaandere
 n in te vullen. Match info: Spinshuttle 1D (63) - Brasschaat 2D (45) - Lin
 k: https://www.badmintonvlaanderen.be/sport/teammatch.aspx?id=541D9693-BA5
 C-49F3-B354-186D1A701882&match=140
DTSTART;TZID=Europe/Brussels:20241220T200000
DTEND;TZID=Europe/Brussels:20241220T200000
END:VEVENT
BEGIN:VEVENT
UID:541D9693-BA5C-49F3-B354-186D1A701882-3-137_awayreminder@100.badmintonne
 rs.net
DTSTAMP:20260420T055137Z
SUMMARY:Uitmatch bevestigd? (Beerke 1D (49) - Brasschaat 2D (45))
DESCRIPTION:Je hebt 72 uur na aanvang om een uitmatch op Badmintonvlaandere
 n in te vullen. Match info: Beerke 1D (49) - Brasschaat 2D (45) - Link: ht
 tps://www.badmintonvlaanderen.be/sport/teammatch.aspx?id=541D9693-BA5C-49F
 3-B354-186D1A701882&match=137
DTSTART;TZID=Europe/Brussels:20250122T100000
DTEND;TZID=Europe/Brussels:20250122T100000
END:VEVENT
BEGIN:VEVENT
UID:541D9693-BA5C-49F3-B354-186D1A701882-3-139_awayreminder@100.badmintonne
 rs.net
DTSTAMP:20260420T055137Z
SUMMARY:Uitmatch bevestigd? (Bacss 1D (61) - Brasschaat 2D (45))
DESCRIPTION:Je hebt 72 uur na aanvang om een uitmatch op Badmintonvlaandere
 n in te vullen. Match info: Bacss 1D (61) - Brasschaat 2D (45) - Link: htt
 ps://www.badmintonvlaanderen.be/sport/teammatch.aspx?id=541D9693-BA5C-49F3
 -B354-186D1A701882&match=139
DTSTART;TZID=Europe/Brussels:20250127T201500
DTEND;TZID=Europe/Brussels:20250127T201500
END:VEVENT
BEGIN:VEVENT
UID:541D9693-BA5C-49F3-B354-186D1A701882-3-141_awayreminder@100.badmintonne
 rs.net
DTSTAMP:20260420T055137Z
SUMMARY:Uitmatch bevestigd? (Rijkerack 1D (55) - Brasschaat 2D (45))
DESCRIPTION:Je hebt 72 uur na aanvang om een uitmatch op Badmintonvlaandere
 n in te vullen. Match info: Rijkerack 1D (55) - Brasschaat 2D (45) - Link:
  https://www.badmintonvlaanderen.be/sport/teammatch.aspx?id=541D9693-BA5C-
 49F3-B354-186D1A701882&match=141
DTSTART;TZID=Europe/Brussels:20250305T190000
DTEND;TZID=Europe/Brussels:20250305T190000
END:VEVENT
END:VCALENDAR