BEGIN:VCALENDAR
VERSION:2.0
PRODID:spatie/icalendar-generator
NAME:spinshuttle_1d_63_reminders
X-WR-CALNAME:spinshuttle_1d_63_reminders
BEGIN:VTIMEZONE
TZID:Europe/Brussels
BEGIN:DAYLIGHT
DTSTART:20240331T010000
TZOFFSETFROM:+0100
TZOFFSETTO:+0200
END:DAYLIGHT
BEGIN:STANDARD
DTSTART:20241027T030000
TZOFFSETFROM:+0200
TZOFFSETTO:+0100
END:STANDARD
BEGIN:DAYLIGHT
DTSTART:20250330T010000
TZOFFSETFROM:+0100
TZOFFSETTO:+0200
END:DAYLIGHT
BEGIN:STANDARD
DTSTART:20251026T030000
TZOFFSETFROM:+0200
TZOFFSETTO:+0100
END:STANDARD
END:VTIMEZONE
BEGIN:VTIMEZONE
TZID:UTC
BEGIN:STANDARD
DTSTART:20250724T055132
TZOFFSETFROM:+0000
TZOFFSETTO:+0000
END:STANDARD
END:VTIMEZONE
BEGIN:VEVENT
UID:541D9693-BA5C-49F3-B354-186D1A701882-3-121_homereminder@101.badmintonne
 rs.net
DTSTAMP:20260420T055132Z
SUMMARY:Thuismatch ingevuld? (Spinshuttle 1D (63) - Zoersel 1D (58))
DESCRIPTION:Je hebt 36 uur na aanvang om een thuismatch op Badmintonvlaande
 ren in te vullen. Match info: Spinshuttle 1D (63) - Zoersel 1D (58) - Link
 : https://www.badmintonvlaanderen.be/sport/teammatch.aspx?id=541D9693-BA5C
 -49F3-B354-186D1A701882&match=121
DTSTART;TZID=Europe/Brussels:20241024T080000
DTEND;TZID=Europe/Brussels:20241024T080000
END:VEVENT
BEGIN:VEVENT
UID:541D9693-BA5C-49F3-B354-186D1A701882-3-109_homereminder@101.badmintonne
 rs.net
DTSTAMP:20260420T055132Z
SUMMARY:Thuismatch ingevuld? (Spinshuttle 1D (63) - Klein Boom 2D (58))
DESCRIPTION:Je hebt 36 uur na aanvang om een thuismatch op Badmintonvlaande
 ren in te vullen. Match info: Spinshuttle 1D (63) - Klein Boom 2D (58) - L
 ink: https://www.badmintonvlaanderen.be/sport/teammatch.aspx?id=541D9693-B
 A5C-49F3-B354-186D1A701882&match=109
DTSTART;TZID=Europe/Brussels:20241121T080000
DTEND;TZID=Europe/Brussels:20241121T080000
END:VEVENT
BEGIN:VEVENT
UID:541D9693-BA5C-49F3-B354-186D1A701882-3-140_homereminder@101.badmintonne
 rs.net
DTSTAMP:20260420T055132Z
SUMMARY:Thuismatch ingevuld? (Spinshuttle 1D (63) - Brasschaat 2D (45))
DESCRIPTION:Je hebt 36 uur na aanvang om een thuismatch op Badmintonvlaande
 ren in te vullen. Match info: Spinshuttle 1D (63) - Brasschaat 2D (45) - L
 ink: https://www.badmintonvlaanderen.be/sport/teammatch.aspx?id=541D9693-B
 A5C-49F3-B354-186D1A701882&match=140
DTSTART;TZID=Europe/Brussels:20241219T080000
DTEND;TZID=Europe/Brussels:20241219T080000
END:VEVENT
BEGIN:VEVENT
UID:541D9693-BA5C-49F3-B354-186D1A701882-3-115_homereminder@101.badmintonne
 rs.net
DTSTAMP:20260420T055132Z
SUMMARY:Thuismatch ingevuld? (Spinshuttle 1D (63) - Beerke 1D (49))
DESCRIPTION:Je hebt 36 uur na aanvang om een thuismatch op Badmintonvlaande
 ren in te vullen. Match info: Spinshuttle 1D (63) - Beerke 1D (49) - Link:
  https://www.badmintonvlaanderen.be/sport/teammatch.aspx?id=541D9693-BA5C-
 49F3-B354-186D1A701882&match=115
DTSTART;TZID=Europe/Brussels:20250201T080000
DTEND;TZID=Europe/Brussels:20250201T080000
END:VEVENT
BEGIN:VEVENT
UID:541D9693-BA5C-49F3-B354-186D1A701882-3-146_homereminder@101.badmintonne
 rs.net
DTSTAMP:20260420T055132Z
SUMMARY:Thuismatch ingevuld? (Spinshuttle 1D (63) - Rijkerack 1D (55))
DESCRIPTION:Je hebt 36 uur na aanvang om een thuismatch op Badmintonvlaande
 ren in te vullen. Match info: Spinshuttle 1D (63) - Rijkerack 1D (55) - Li
 nk: https://www.badmintonvlaanderen.be/sport/teammatch.aspx?id=541D9693-BA
 5C-49F3-B354-186D1A701882&match=146
DTSTART;TZID=Europe/Brussels:20250213T080000
DTEND;TZID=Europe/Brussels:20250213T080000
END:VEVENT
BEGIN:VEVENT
UID:541D9693-BA5C-49F3-B354-186D1A701882-3-127_homereminder@101.badmintonne
 rs.net
DTSTAMP:20260420T055132Z
SUMMARY:Thuismatch ingevuld? (Spinshuttle 1D (63) - Bacss 1D (61))
DESCRIPTION:Je hebt 36 uur na aanvang om een thuismatch op Badmintonvlaande
 ren in te vullen. Match info: Spinshuttle 1D (63) - Bacss 1D (61) - Link: 
 https://www.badmintonvlaanderen.be/sport/teammatch.aspx?id=541D9693-BA5C-4
 9F3-B354-186D1A701882&match=127
DTSTART;TZID=Europe/Brussels:20250424T080000
DTEND;TZID=Europe/Brussels:20250424T080000
END:VEVENT
BEGIN:VEVENT
UID:541D9693-BA5C-49F3-B354-186D1A701882-3-133_awayreminder@101.badmintonne
 rs.net
DTSTAMP:20260420T055132Z
SUMMARY:Uitmatch bevestigd? (Bacss 1D (61) - Spinshuttle 1D (63))
DESCRIPTION:Je hebt 72 uur na aanvang om een uitmatch op Badmintonvlaandere
 n in te vullen. Match info: Bacss 1D (61) - Spinshuttle 1D (63) - Link: ht
 tps://www.badmintonvlaanderen.be/sport/teammatch.aspx?id=541D9693-BA5C-49F
 3-B354-186D1A701882&match=133
DTSTART;TZID=Europe/Brussels:20241030T100000
DTEND;TZID=Europe/Brussels:20241030T100000
END:VEVENT
BEGIN:VEVENT
UID:541D9693-BA5C-49F3-B354-186D1A701882-3-135_awayreminder@101.badmintonne
 rs.net
DTSTAMP:20260420T055132Z
SUMMARY:Uitmatch bevestigd? (Rijkerack 1D (55) - Spinshuttle 1D (63))
DESCRIPTION:Je hebt 72 uur na aanvang om een uitmatch op Badmintonvlaandere
 n in te vullen. Match info: Rijkerack 1D (55) - Spinshuttle 1D (63) - Link
 : https://www.badmintonvlaanderen.be/sport/teammatch.aspx?id=541D9693-BA5C
 -49F3-B354-186D1A701882&match=135
DTSTART;TZID=Europe/Brussels:20241113T190000
DTEND;TZID=Europe/Brussels:20241113T190000
END:VEVENT
BEGIN:VEVENT
UID:541D9693-BA5C-49F3-B354-186D1A701882-3-131_awayreminder@101.badmintonne
 rs.net
DTSTAMP:20260420T055132Z
SUMMARY:Uitmatch bevestigd? (Beerke 1D (49) - Spinshuttle 1D (63))
DESCRIPTION:Je hebt 72 uur na aanvang om een uitmatch op Badmintonvlaandere
 n in te vullen. Match info: Beerke 1D (49) - Spinshuttle 1D (63) - Link: h
 ttps://www.badmintonvlaanderen.be/sport/teammatch.aspx?id=541D9693-BA5C-49
 F3-B354-186D1A701882&match=131
DTSTART;TZID=Europe/Brussels:20241211T100000
DTEND;TZID=Europe/Brussels:20241211T100000
END:VEVENT
BEGIN:VEVENT
UID:541D9693-BA5C-49F3-B354-186D1A701882-3-130_awayreminder@101.badmintonne
 rs.net
DTSTAMP:20260420T055132Z
SUMMARY:Uitmatch bevestigd? (Klein Boom 2D (58) - Spinshuttle 1D (63))
DESCRIPTION:Je hebt 72 uur na aanvang om een uitmatch op Badmintonvlaandere
 n in te vullen. Match info: Klein Boom 2D (58) - Spinshuttle 1D (63) - Lin
 k: https://www.badmintonvlaanderen.be/sport/teammatch.aspx?id=541D9693-BA5
 C-49F3-B354-186D1A701882&match=130
DTSTART;TZID=Europe/Brussels:20250130T200000
DTEND;TZID=Europe/Brussels:20250130T200000
END:VEVENT
BEGIN:VEVENT
UID:541D9693-BA5C-49F3-B354-186D1A701882-3-132_awayreminder@101.badmintonne
 rs.net
DTSTAMP:20260420T055132Z
SUMMARY:Uitmatch bevestigd? (Zoersel 1D (58) - Spinshuttle 1D (63))
DESCRIPTION:Je hebt 72 uur na aanvang om een uitmatch op Badmintonvlaandere
 n in te vullen. Match info: Zoersel 1D (58) - Spinshuttle 1D (63) - Link: 
 https://www.badmintonvlaanderen.be/sport/teammatch.aspx?id=541D9693-BA5C-4
 9F3-B354-186D1A701882&match=132
DTSTART;TZID=Europe/Brussels:20250226T120000
DTEND;TZID=Europe/Brussels:20250226T120000
END:VEVENT
BEGIN:VEVENT
UID:541D9693-BA5C-49F3-B354-186D1A701882-3-134_awayreminder@101.badmintonne
 rs.net
DTSTAMP:20260420T055132Z
SUMMARY:Uitmatch bevestigd? (Brasschaat 2D (45) - Spinshuttle 1D (63))
DESCRIPTION:Je hebt 72 uur na aanvang om een uitmatch op Badmintonvlaandere
 n in te vullen. Match info: Brasschaat 2D (45) - Spinshuttle 1D (63) - Lin
 k: https://www.badmintonvlaanderen.be/sport/teammatch.aspx?id=541D9693-BA5
 C-49F3-B354-186D1A701882&match=134
DTSTART;TZID=Europe/Brussels:20250319T190000
DTEND;TZID=Europe/Brussels:20250319T190000
END:VEVENT
END:VCALENDAR