BEGIN:VCALENDAR
VERSION:2.0
PRODID:spatie/icalendar-generator
NAME:klein_boom_2d_58_reminders
X-WR-CALNAME:klein_boom_2d_58_reminders
BEGIN:VTIMEZONE
TZID:Europe/Brussels
BEGIN:DAYLIGHT
DTSTART:20240331T010000
TZOFFSETFROM:+0100
TZOFFSETTO:+0200
END:DAYLIGHT
BEGIN:STANDARD
DTSTART:20241027T030000
TZOFFSETFROM:+0200
TZOFFSETTO:+0100
END:STANDARD
BEGIN:DAYLIGHT
DTSTART:20250330T010000
TZOFFSETFROM:+0100
TZOFFSETTO:+0200
END:DAYLIGHT
END:VTIMEZONE
BEGIN:VTIMEZONE
TZID:UTC
BEGIN:STANDARD
DTSTART:20250724T072409
TZOFFSETFROM:+0000
TZOFFSETTO:+0000
END:STANDARD
END:VTIMEZONE
BEGIN:VEVENT
UID:541D9693-BA5C-49F3-B354-186D1A701882-3-112_homereminder@102.badmintonne
 rs.net
DTSTAMP:20260420T072409Z
SUMMARY:Thuismatch ingevuld? (Klein Boom 2D (58) - Beerke 1D (49))
DESCRIPTION:Je hebt 36 uur na aanvang om een thuismatch op Badmintonvlaande
 ren in te vullen. Match info: Klein Boom 2D (58) - Beerke 1D (49) - Link: 
 https://www.badmintonvlaanderen.be/sport/teammatch.aspx?id=541D9693-BA5C-4
 9F3-B354-186D1A701882&match=112
DTSTART;TZID=Europe/Brussels:20241106T080000
DTEND;TZID=Europe/Brussels:20241106T080000
END:VEVENT
BEGIN:VEVENT
UID:541D9693-BA5C-49F3-B354-186D1A701882-3-124_homereminder@102.badmintonne
 rs.net
DTSTAMP:20260420T072409Z
SUMMARY:Thuismatch ingevuld? (Klein Boom 2D (58) - Bacss 1D (61))
DESCRIPTION:Je hebt 36 uur na aanvang om een thuismatch op Badmintonvlaande
 ren in te vullen. Match info: Klein Boom 2D (58) - Bacss 1D (61) - Link: h
 ttps://www.badmintonvlaanderen.be/sport/teammatch.aspx?id=541D9693-BA5C-49
 F3-B354-186D1A701882&match=124
DTSTART;TZID=Europe/Brussels:20241204T080000
DTEND;TZID=Europe/Brussels:20241204T080000
END:VEVENT
BEGIN:VEVENT
UID:541D9693-BA5C-49F3-B354-186D1A701882-3-136_homereminder@102.badmintonne
 rs.net
DTSTAMP:20260420T072409Z
SUMMARY:Thuismatch ingevuld? (Klein Boom 2D (58) - Brasschaat 2D (45))
DESCRIPTION:Je hebt 36 uur na aanvang om een thuismatch op Badmintonvlaande
 ren in te vullen. Match info: Klein Boom 2D (58) - Brasschaat 2D (45) - Li
 nk: https://www.badmintonvlaanderen.be/sport/teammatch.aspx?id=541D9693-BA
 5C-49F3-B354-186D1A701882&match=136
DTSTART;TZID=Europe/Brussels:20241210T070000
DTEND;TZID=Europe/Brussels:20241210T070000
END:VEVENT
BEGIN:VEVENT
UID:541D9693-BA5C-49F3-B354-186D1A701882-3-142_homereminder@102.badmintonne
 rs.net
DTSTAMP:20260420T072409Z
SUMMARY:Thuismatch ingevuld? (Klein Boom 2D (58) - Rijkerack 1D (55))
DESCRIPTION:Je hebt 36 uur na aanvang om een thuismatch op Badmintonvlaande
 ren in te vullen. Match info: Klein Boom 2D (58) - Rijkerack 1D (55) - Lin
 k: https://www.badmintonvlaanderen.be/sport/teammatch.aspx?id=541D9693-BA5
 C-49F3-B354-186D1A701882&match=142
DTSTART;TZID=Europe/Brussels:20250121T070000
DTEND;TZID=Europe/Brussels:20250121T070000
END:VEVENT
BEGIN:VEVENT
UID:541D9693-BA5C-49F3-B354-186D1A701882-3-130_homereminder@102.badmintonne
 rs.net
DTSTAMP:20260420T072409Z
SUMMARY:Thuismatch ingevuld? (Klein Boom 2D (58) - Spinshuttle 1D (63))
DESCRIPTION:Je hebt 36 uur na aanvang om een thuismatch op Badmintonvlaande
 ren in te vullen. Match info: Klein Boom 2D (58) - Spinshuttle 1D (63) - L
 ink: https://www.badmintonvlaanderen.be/sport/teammatch.aspx?id=541D9693-B
 A5C-49F3-B354-186D1A701882&match=130
DTSTART;TZID=Europe/Brussels:20250129T080000
DTEND;TZID=Europe/Brussels:20250129T080000
END:VEVENT
BEGIN:VEVENT
UID:541D9693-BA5C-49F3-B354-186D1A701882-3-118_homereminder@102.badmintonne
 rs.net
DTSTAMP:20260420T072409Z
SUMMARY:Thuismatch ingevuld? (Klein Boom 2D (58) - Zoersel 1D (58))
DESCRIPTION:Je hebt 36 uur na aanvang om een thuismatch op Badmintonvlaande
 ren in te vullen. Match info: Klein Boom 2D (58) - Zoersel 1D (58) - Link:
  https://www.badmintonvlaanderen.be/sport/teammatch.aspx?id=541D9693-BA5C-
 49F3-B354-186D1A701882&match=118
DTSTART;TZID=Europe/Brussels:20250318T070000
DTEND;TZID=Europe/Brussels:20250318T070000
END:VEVENT
BEGIN:VEVENT
UID:541D9693-BA5C-49F3-B354-186D1A701882-3-111_awayreminder@102.badmintonne
 rs.net
DTSTAMP:20260420T072409Z
SUMMARY:Uitmatch bevestigd? (Rijkerack 1D (55) - Klein Boom 2D (58))
DESCRIPTION:Je hebt 72 uur na aanvang om een uitmatch op Badmintonvlaandere
 n in te vullen. Match info: Rijkerack 1D (55) - Klein Boom 2D (58) - Link:
  https://www.badmintonvlaanderen.be/sport/teammatch.aspx?id=541D9693-BA5C-
 49F3-B354-186D1A701882&match=111
DTSTART;TZID=Europe/Brussels:20241002T190000
DTEND;TZID=Europe/Brussels:20241002T190000
END:VEVENT
BEGIN:VEVENT
UID:541D9693-BA5C-49F3-B354-186D1A701882-3-109_awayreminder@102.badmintonne
 rs.net
DTSTAMP:20260420T072409Z
SUMMARY:Uitmatch bevestigd? (Spinshuttle 1D (63) - Klein Boom 2D (58))
DESCRIPTION:Je hebt 72 uur na aanvang om een uitmatch op Badmintonvlaandere
 n in te vullen. Match info: Spinshuttle 1D (63) - Klein Boom 2D (58) - Lin
 k: https://www.badmintonvlaanderen.be/sport/teammatch.aspx?id=541D9693-BA5
 C-49F3-B354-186D1A701882&match=109
DTSTART;TZID=Europe/Brussels:20241122T200000
DTEND;TZID=Europe/Brussels:20241122T200000
END:VEVENT
BEGIN:VEVENT
UID:541D9693-BA5C-49F3-B354-186D1A701882-3-107_awayreminder@102.badmintonne
 rs.net
DTSTAMP:20260420T072409Z
SUMMARY:Uitmatch bevestigd? (Zoersel 1D (58) - Klein Boom 2D (58))
DESCRIPTION:Je hebt 72 uur na aanvang om een uitmatch op Badmintonvlaandere
 n in te vullen. Match info: Zoersel 1D (58) - Klein Boom 2D (58) - Link: h
 ttps://www.badmintonvlaanderen.be/sport/teammatch.aspx?id=541D9693-BA5C-49
 F3-B354-186D1A701882&match=107
DTSTART;TZID=Europe/Brussels:20241225T120000
DTEND;TZID=Europe/Brussels:20241225T120000
END:VEVENT
BEGIN:VEVENT
UID:541D9693-BA5C-49F3-B354-186D1A701882-3-108_awayreminder@102.badmintonne
 rs.net
DTSTAMP:20260420T072409Z
SUMMARY:Uitmatch bevestigd? (Bacss 1D (61) - Klein Boom 2D (58))
DESCRIPTION:Je hebt 72 uur na aanvang om een uitmatch op Badmintonvlaandere
 n in te vullen. Match info: Bacss 1D (61) - Klein Boom 2D (58) - Link: htt
 ps://www.badmintonvlaanderen.be/sport/teammatch.aspx?id=541D9693-BA5C-49F3
 -B354-186D1A701882&match=108
DTSTART;TZID=Europe/Brussels:20250106T201500
DTEND;TZID=Europe/Brussels:20250106T201500
END:VEVENT
BEGIN:VEVENT
UID:541D9693-BA5C-49F3-B354-186D1A701882-3-110_awayreminder@102.badmintonne
 rs.net
DTSTAMP:20260420T072409Z
SUMMARY:Uitmatch bevestigd? (Brasschaat 2D (45) - Klein Boom 2D (58))
DESCRIPTION:Je hebt 72 uur na aanvang om een uitmatch op Badmintonvlaandere
 n in te vullen. Match info: Brasschaat 2D (45) - Klein Boom 2D (58) - Link
 : https://www.badmintonvlaanderen.be/sport/teammatch.aspx?id=541D9693-BA5C
 -49F3-B354-186D1A701882&match=110
DTSTART;TZID=Europe/Brussels:20250205T190000
DTEND;TZID=Europe/Brussels:20250205T190000
END:VEVENT
BEGIN:VEVENT
UID:541D9693-BA5C-49F3-B354-186D1A701882-3-106_awayreminder@102.badmintonne
 rs.net
DTSTAMP:20260420T072409Z
SUMMARY:Uitmatch bevestigd? (Beerke 1D (49) - Klein Boom 2D (58))
DESCRIPTION:Je hebt 72 uur na aanvang om een uitmatch op Badmintonvlaandere
 n in te vullen. Match info: Beerke 1D (49) - Klein Boom 2D (58) - Link: ht
 tps://www.badmintonvlaanderen.be/sport/teammatch.aspx?id=541D9693-BA5C-49F
 3-B354-186D1A701882&match=106
DTSTART;TZID=Europe/Brussels:20250416T100000
DTEND;TZID=Europe/Brussels:20250416T100000
END:VEVENT
END:VCALENDAR