BEGIN:VCALENDAR
VERSION:2.0
PRODID:spatie/icalendar-generator
NAME:zoersel_1d_58_reminders
X-WR-CALNAME:zoersel_1d_58_reminders
BEGIN:VTIMEZONE
TZID:Europe/Brussels
BEGIN:DAYLIGHT
DTSTART:20240331T010000
TZOFFSETFROM:+0100
TZOFFSETTO:+0200
END:DAYLIGHT
BEGIN:STANDARD
DTSTART:20241027T030000
TZOFFSETFROM:+0200
TZOFFSETTO:+0100
END:STANDARD
BEGIN:DAYLIGHT
DTSTART:20250330T010000
TZOFFSETFROM:+0100
TZOFFSETTO:+0200
END:DAYLIGHT
BEGIN:STANDARD
DTSTART:20251026T030000
TZOFFSETFROM:+0200
TZOFFSETTO:+0100
END:STANDARD
END:VTIMEZONE
BEGIN:VTIMEZONE
TZID:UTC
BEGIN:STANDARD
DTSTART:20250724T055137
TZOFFSETFROM:+0000
TZOFFSETTO:+0000
END:STANDARD
END:VTIMEZONE
BEGIN:VEVENT
UID:541D9693-BA5C-49F3-B354-186D1A701882-3-138_homereminder@103.badmintonne
 rs.net
DTSTAMP:20260420T055137Z
SUMMARY:Thuismatch ingevuld? (Zoersel 1D (58) - Brasschaat 2D (45))
DESCRIPTION:Je hebt 36 uur na aanvang om een thuismatch op Badmintonvlaande
 ren in te vullen. Match info: Zoersel 1D (58) - Brasschaat 2D (45) - Link:
  https://www.badmintonvlaanderen.be/sport/teammatch.aspx?id=541D9693-BA5C-
 49F3-B354-186D1A701882&match=138
DTSTART;TZID=Europe/Brussels:20241029T000000
DTEND;TZID=Europe/Brussels:20241029T000000
END:VEVENT
BEGIN:VEVENT
UID:541D9693-BA5C-49F3-B354-186D1A701882-3-126_homereminder@103.badmintonne
 rs.net
DTSTAMP:20260420T055137Z
SUMMARY:Thuismatch ingevuld? (Zoersel 1D (58) - Bacss 1D (61))
DESCRIPTION:Je hebt 36 uur na aanvang om een thuismatch op Badmintonvlaande
 ren in te vullen. Match info: Zoersel 1D (58) - Bacss 1D (61) - Link: http
 s://www.badmintonvlaanderen.be/sport/teammatch.aspx?id=541D9693-BA5C-49F3-
 B354-186D1A701882&match=126
DTSTART;TZID=Europe/Brussels:20241210T000000
DTEND;TZID=Europe/Brussels:20241210T000000
END:VEVENT
BEGIN:VEVENT
UID:541D9693-BA5C-49F3-B354-186D1A701882-3-107_homereminder@103.badmintonne
 rs.net
DTSTAMP:20260420T055137Z
SUMMARY:Thuismatch ingevuld? (Zoersel 1D (58) - Klein Boom 2D (58))
DESCRIPTION:Je hebt 36 uur na aanvang om een thuismatch op Badmintonvlaande
 ren in te vullen. Match info: Zoersel 1D (58) - Klein Boom 2D (58) - Link:
  https://www.badmintonvlaanderen.be/sport/teammatch.aspx?id=541D9693-BA5C-
 49F3-B354-186D1A701882&match=107
DTSTART;TZID=Europe/Brussels:20241224T000000
DTEND;TZID=Europe/Brussels:20241224T000000
END:VEVENT
BEGIN:VEVENT
UID:541D9693-BA5C-49F3-B354-186D1A701882-3-113_homereminder@103.badmintonne
 rs.net
DTSTAMP:20260420T055137Z
SUMMARY:Thuismatch ingevuld? (Zoersel 1D (58) - Beerke 1D (49))
DESCRIPTION:Je hebt 36 uur na aanvang om een thuismatch op Badmintonvlaande
 ren in te vullen. Match info: Zoersel 1D (58) - Beerke 1D (49) - Link: htt
 ps://www.badmintonvlaanderen.be/sport/teammatch.aspx?id=541D9693-BA5C-49F3
 -B354-186D1A701882&match=113
DTSTART;TZID=Europe/Brussels:20250218T000000
DTEND;TZID=Europe/Brussels:20250218T000000
END:VEVENT
BEGIN:VEVENT
UID:541D9693-BA5C-49F3-B354-186D1A701882-3-132_homereminder@103.badmintonne
 rs.net
DTSTAMP:20260420T055137Z
SUMMARY:Thuismatch ingevuld? (Zoersel 1D (58) - Spinshuttle 1D (63))
DESCRIPTION:Je hebt 36 uur na aanvang om een thuismatch op Badmintonvlaande
 ren in te vullen. Match info: Zoersel 1D (58) - Spinshuttle 1D (63) - Link
 : https://www.badmintonvlaanderen.be/sport/teammatch.aspx?id=541D9693-BA5C
 -49F3-B354-186D1A701882&match=132
DTSTART;TZID=Europe/Brussels:20250225T000000
DTEND;TZID=Europe/Brussels:20250225T000000
END:VEVENT
BEGIN:VEVENT
UID:541D9693-BA5C-49F3-B354-186D1A701882-3-144_homereminder@103.badmintonne
 rs.net
DTSTAMP:20260420T055137Z
SUMMARY:Thuismatch ingevuld? (Zoersel 1D (58) - Rijkerack 1D (55))
DESCRIPTION:Je hebt 36 uur na aanvang om een thuismatch op Badmintonvlaande
 ren in te vullen. Match info: Zoersel 1D (58) - Rijkerack 1D (55) - Link: 
 https://www.badmintonvlaanderen.be/sport/teammatch.aspx?id=541D9693-BA5C-4
 9F3-B354-186D1A701882&match=144
DTSTART;TZID=Europe/Brussels:20250415T000000
DTEND;TZID=Europe/Brussels:20250415T000000
END:VEVENT
BEGIN:VEVENT
UID:541D9693-BA5C-49F3-B354-186D1A701882-3-123_awayreminder@103.badmintonne
 rs.net
DTSTAMP:20260420T055137Z
SUMMARY:Uitmatch bevestigd? (Rijkerack 1D (55) - Zoersel 1D (58))
DESCRIPTION:Je hebt 72 uur na aanvang om een uitmatch op Badmintonvlaandere
 n in te vullen. Match info: Rijkerack 1D (55) - Zoersel 1D (58) - Link: ht
 tps://www.badmintonvlaanderen.be/sport/teammatch.aspx?id=541D9693-BA5C-49F
 3-B354-186D1A701882&match=123
DTSTART;TZID=Europe/Brussels:20241016T190000
DTEND;TZID=Europe/Brussels:20241016T190000
END:VEVENT
BEGIN:VEVENT
UID:541D9693-BA5C-49F3-B354-186D1A701882-3-121_awayreminder@103.badmintonne
 rs.net
DTSTAMP:20260420T055137Z
SUMMARY:Uitmatch bevestigd? (Spinshuttle 1D (63) - Zoersel 1D (58))
DESCRIPTION:Je hebt 72 uur na aanvang om een uitmatch op Badmintonvlaandere
 n in te vullen. Match info: Spinshuttle 1D (63) - Zoersel 1D (58) - Link: 
 https://www.badmintonvlaanderen.be/sport/teammatch.aspx?id=541D9693-BA5C-4
 9F3-B354-186D1A701882&match=121
DTSTART;TZID=Europe/Brussels:20241025T200000
DTEND;TZID=Europe/Brussels:20241025T200000
END:VEVENT
BEGIN:VEVENT
UID:541D9693-BA5C-49F3-B354-186D1A701882-3-119_awayreminder@103.badmintonne
 rs.net
DTSTAMP:20260420T055137Z
SUMMARY:Uitmatch bevestigd? (Beerke 1D (49) - Zoersel 1D (58))
DESCRIPTION:Je hebt 72 uur na aanvang om een uitmatch op Badmintonvlaandere
 n in te vullen. Match info: Beerke 1D (49) - Zoersel 1D (58) - Link: https
 ://www.badmintonvlaanderen.be/sport/teammatch.aspx?id=541D9693-BA5C-49F3-B
 354-186D1A701882&match=119
DTSTART;TZID=Europe/Brussels:20241113T100000
DTEND;TZID=Europe/Brussels:20241113T100000
END:VEVENT
BEGIN:VEVENT
UID:541D9693-BA5C-49F3-B354-186D1A701882-3-118_awayreminder@103.badmintonne
 rs.net
DTSTAMP:20260420T055137Z
SUMMARY:Uitmatch bevestigd? (Klein Boom 2D (58) - Zoersel 1D (58))
DESCRIPTION:Je hebt 72 uur na aanvang om een uitmatch op Badmintonvlaandere
 n in te vullen. Match info: Klein Boom 2D (58) - Zoersel 1D (58) - Link: h
 ttps://www.badmintonvlaanderen.be/sport/teammatch.aspx?id=541D9693-BA5C-49
 F3-B354-186D1A701882&match=118
DTSTART;TZID=Europe/Brussels:20250319T190000
DTEND;TZID=Europe/Brussels:20250319T190000
END:VEVENT
BEGIN:VEVENT
UID:541D9693-BA5C-49F3-B354-186D1A701882-3-120_awayreminder@103.badmintonne
 rs.net
DTSTAMP:20260420T055137Z
SUMMARY:Uitmatch bevestigd? (Bacss 1D (61) - Zoersel 1D (58))
DESCRIPTION:Je hebt 72 uur na aanvang om een uitmatch op Badmintonvlaandere
 n in te vullen. Match info: Bacss 1D (61) - Zoersel 1D (58) - Link: https:
 //www.badmintonvlaanderen.be/sport/teammatch.aspx?id=541D9693-BA5C-49F3-B3
 54-186D1A701882&match=120
DTSTART;TZID=Europe/Brussels:20250324T201500
DTEND;TZID=Europe/Brussels:20250324T201500
END:VEVENT
BEGIN:VEVENT
UID:541D9693-BA5C-49F3-B354-186D1A701882-3-122_awayreminder@103.badmintonne
 rs.net
DTSTAMP:20260420T055137Z
SUMMARY:Uitmatch bevestigd? (Brasschaat 2D (45) - Zoersel 1D (58))
DESCRIPTION:Je hebt 72 uur na aanvang om een uitmatch op Badmintonvlaandere
 n in te vullen. Match info: Brasschaat 2D (45) - Zoersel 1D (58) - Link: h
 ttps://www.badmintonvlaanderen.be/sport/teammatch.aspx?id=541D9693-BA5C-49
 F3-B354-186D1A701882&match=122
DTSTART;TZID=Europe/Brussels:20250430T190000
DTEND;TZID=Europe/Brussels:20250430T190000
END:VEVENT
END:VCALENDAR