BEGIN:VCALENDAR
VERSION:2.0
PRODID:spatie/icalendar-generator
NAME:beerke_1d_49_reminders
X-WR-CALNAME:beerke_1d_49_reminders
BEGIN:VTIMEZONE
TZID:Europe/Brussels
BEGIN:DAYLIGHT
DTSTART:20240331T010000
TZOFFSETFROM:+0100
TZOFFSETTO:+0200
END:DAYLIGHT
BEGIN:STANDARD
DTSTART:20241027T030000
TZOFFSETFROM:+0200
TZOFFSETTO:+0100
END:STANDARD
BEGIN:DAYLIGHT
DTSTART:20250330T010000
TZOFFSETFROM:+0100
TZOFFSETTO:+0200
END:DAYLIGHT
BEGIN:STANDARD
DTSTART:20251026T030000
TZOFFSETFROM:+0200
TZOFFSETTO:+0100
END:STANDARD
END:VTIMEZONE
BEGIN:VTIMEZONE
TZID:UTC
BEGIN:STANDARD
DTSTART:20250724T072404
TZOFFSETFROM:+0000
TZOFFSETTO:+0000
END:STANDARD
END:VTIMEZONE
BEGIN:VEVENT
UID:541D9693-BA5C-49F3-B354-186D1A701882-3-143_homereminder@104.badmintonne
 rs.net
DTSTAMP:20260420T072404Z
SUMMARY:Thuismatch ingevuld? (Beerke 1D (49) - Rijkerack 1D (55))
DESCRIPTION:Je hebt 36 uur na aanvang om een thuismatch op Badmintonvlaande
 ren in te vullen. Match info: Beerke 1D (49) - Rijkerack 1D (55) - Link: h
 ttps://www.badmintonvlaanderen.be/sport/teammatch.aspx?id=541D9693-BA5C-49
 F3-B354-186D1A701882&match=143
DTSTART;TZID=Europe/Brussels:20241028T220000
DTEND;TZID=Europe/Brussels:20241028T220000
END:VEVENT
BEGIN:VEVENT
UID:541D9693-BA5C-49F3-B354-186D1A701882-3-119_homereminder@104.badmintonne
 rs.net
DTSTAMP:20260420T072404Z
SUMMARY:Thuismatch ingevuld? (Beerke 1D (49) - Zoersel 1D (58))
DESCRIPTION:Je hebt 36 uur na aanvang om een thuismatch op Badmintonvlaande
 ren in te vullen. Match info: Beerke 1D (49) - Zoersel 1D (58) - Link: htt
 ps://www.badmintonvlaanderen.be/sport/teammatch.aspx?id=541D9693-BA5C-49F3
 -B354-186D1A701882&match=119
DTSTART;TZID=Europe/Brussels:20241111T220000
DTEND;TZID=Europe/Brussels:20241111T220000
END:VEVENT
BEGIN:VEVENT
UID:541D9693-BA5C-49F3-B354-186D1A701882-3-131_homereminder@104.badmintonne
 rs.net
DTSTAMP:20260420T072404Z
SUMMARY:Thuismatch ingevuld? (Beerke 1D (49) - Spinshuttle 1D (63))
DESCRIPTION:Je hebt 36 uur na aanvang om een thuismatch op Badmintonvlaande
 ren in te vullen. Match info: Beerke 1D (49) - Spinshuttle 1D (63) - Link:
  https://www.badmintonvlaanderen.be/sport/teammatch.aspx?id=541D9693-BA5C-
 49F3-B354-186D1A701882&match=131
DTSTART;TZID=Europe/Brussels:20241209T220000
DTEND;TZID=Europe/Brussels:20241209T220000
END:VEVENT
BEGIN:VEVENT
UID:541D9693-BA5C-49F3-B354-186D1A701882-3-137_homereminder@104.badmintonne
 rs.net
DTSTAMP:20260420T072404Z
SUMMARY:Thuismatch ingevuld? (Beerke 1D (49) - Brasschaat 2D (45))
DESCRIPTION:Je hebt 36 uur na aanvang om een thuismatch op Badmintonvlaande
 ren in te vullen. Match info: Beerke 1D (49) - Brasschaat 2D (45) - Link: 
 https://www.badmintonvlaanderen.be/sport/teammatch.aspx?id=541D9693-BA5C-4
 9F3-B354-186D1A701882&match=137
DTSTART;TZID=Europe/Brussels:20250120T220000
DTEND;TZID=Europe/Brussels:20250120T220000
END:VEVENT
BEGIN:VEVENT
UID:541D9693-BA5C-49F3-B354-186D1A701882-3-125_homereminder@104.badmintonne
 rs.net
DTSTAMP:20260420T072404Z
SUMMARY:Thuismatch ingevuld? (Beerke 1D (49) - Bacss 1D (61))
DESCRIPTION:Je hebt 36 uur na aanvang om een thuismatch op Badmintonvlaande
 ren in te vullen. Match info: Beerke 1D (49) - Bacss 1D (61) - Link: https
 ://www.badmintonvlaanderen.be/sport/teammatch.aspx?id=541D9693-BA5C-49F3-B
 354-186D1A701882&match=125
DTSTART;TZID=Europe/Brussels:20250329T080000
DTEND;TZID=Europe/Brussels:20250329T080000
END:VEVENT
BEGIN:VEVENT
UID:541D9693-BA5C-49F3-B354-186D1A701882-3-106_homereminder@104.badmintonne
 rs.net
DTSTAMP:20260420T072404Z
SUMMARY:Thuismatch ingevuld? (Beerke 1D (49) - Klein Boom 2D (58))
DESCRIPTION:Je hebt 36 uur na aanvang om een thuismatch op Badmintonvlaande
 ren in te vullen. Match info: Beerke 1D (49) - Klein Boom 2D (58) - Link: 
 https://www.badmintonvlaanderen.be/sport/teammatch.aspx?id=541D9693-BA5C-4
 9F3-B354-186D1A701882&match=106
DTSTART;TZID=Europe/Brussels:20250414T220000
DTEND;TZID=Europe/Brussels:20250414T220000
END:VEVENT
BEGIN:VEVENT
UID:541D9693-BA5C-49F3-B354-186D1A701882-3-116_awayreminder@104.badmintonne
 rs.net
DTSTAMP:20260420T072404Z
SUMMARY:Uitmatch bevestigd? (Brasschaat 2D (45) - Beerke 1D (49))
DESCRIPTION:Je hebt 72 uur na aanvang om een uitmatch op Badmintonvlaandere
 n in te vullen. Match info: Brasschaat 2D (45) - Beerke 1D (49) - Link: ht
 tps://www.badmintonvlaanderen.be/sport/teammatch.aspx?id=541D9693-BA5C-49F
 3-B354-186D1A701882&match=116
DTSTART;TZID=Europe/Brussels:20240918T190000
DTEND;TZID=Europe/Brussels:20240918T190000
END:VEVENT
BEGIN:VEVENT
UID:541D9693-BA5C-49F3-B354-186D1A701882-3-112_awayreminder@104.badmintonne
 rs.net
DTSTAMP:20260420T072404Z
SUMMARY:Uitmatch bevestigd? (Klein Boom 2D (58) - Beerke 1D (49))
DESCRIPTION:Je hebt 72 uur na aanvang om een uitmatch op Badmintonvlaandere
 n in te vullen. Match info: Klein Boom 2D (58) - Beerke 1D (49) - Link: ht
 tps://www.badmintonvlaanderen.be/sport/teammatch.aspx?id=541D9693-BA5C-49F
 3-B354-186D1A701882&match=112
DTSTART;TZID=Europe/Brussels:20241107T200000
DTEND;TZID=Europe/Brussels:20241107T200000
END:VEVENT
BEGIN:VEVENT
UID:541D9693-BA5C-49F3-B354-186D1A701882-3-114_awayreminder@104.badmintonne
 rs.net
DTSTAMP:20260420T072404Z
SUMMARY:Uitmatch bevestigd? (Bacss 1D (61) - Beerke 1D (49))
DESCRIPTION:Je hebt 72 uur na aanvang om een uitmatch op Badmintonvlaandere
 n in te vullen. Match info: Bacss 1D (61) - Beerke 1D (49) - Link: https:/
 /www.badmintonvlaanderen.be/sport/teammatch.aspx?id=541D9693-BA5C-49F3-B35
 4-186D1A701882&match=114
DTSTART;TZID=Europe/Brussels:20241118T201500
DTEND;TZID=Europe/Brussels:20241118T201500
END:VEVENT
BEGIN:VEVENT
UID:541D9693-BA5C-49F3-B354-186D1A701882-3-115_awayreminder@104.badmintonne
 rs.net
DTSTAMP:20260420T072404Z
SUMMARY:Uitmatch bevestigd? (Spinshuttle 1D (63) - Beerke 1D (49))
DESCRIPTION:Je hebt 72 uur na aanvang om een uitmatch op Badmintonvlaandere
 n in te vullen. Match info: Spinshuttle 1D (63) - Beerke 1D (49) - Link: h
 ttps://www.badmintonvlaanderen.be/sport/teammatch.aspx?id=541D9693-BA5C-49
 F3-B354-186D1A701882&match=115
DTSTART;TZID=Europe/Brussels:20250202T200000
DTEND;TZID=Europe/Brussels:20250202T200000
END:VEVENT
BEGIN:VEVENT
UID:541D9693-BA5C-49F3-B354-186D1A701882-3-113_awayreminder@104.badmintonne
 rs.net
DTSTAMP:20260420T072404Z
SUMMARY:Uitmatch bevestigd? (Zoersel 1D (58) - Beerke 1D (49))
DESCRIPTION:Je hebt 72 uur na aanvang om een uitmatch op Badmintonvlaandere
 n in te vullen. Match info: Zoersel 1D (58) - Beerke 1D (49) - Link: https
 ://www.badmintonvlaanderen.be/sport/teammatch.aspx?id=541D9693-BA5C-49F3-B
 354-186D1A701882&match=113
DTSTART;TZID=Europe/Brussels:20250219T120000
DTEND;TZID=Europe/Brussels:20250219T120000
END:VEVENT
BEGIN:VEVENT
UID:541D9693-BA5C-49F3-B354-186D1A701882-3-117_awayreminder@104.badmintonne
 rs.net
DTSTAMP:20260420T072404Z
SUMMARY:Uitmatch bevestigd? (Rijkerack 1D (55) - Beerke 1D (49))
DESCRIPTION:Je hebt 72 uur na aanvang om een uitmatch op Badmintonvlaandere
 n in te vullen. Match info: Rijkerack 1D (55) - Beerke 1D (49) - Link: htt
 ps://www.badmintonvlaanderen.be/sport/teammatch.aspx?id=541D9693-BA5C-49F3
 -B354-186D1A701882&match=117
DTSTART;TZID=Europe/Brussels:20250430T190000
DTEND;TZID=Europe/Brussels:20250430T190000
END:VEVENT
END:VCALENDAR