BEGIN:VCALENDAR
VERSION:2.0
PRODID:spatie/icalendar-generator
NAME:rijkerack_1d_55_reminders
X-WR-CALNAME:rijkerack_1d_55_reminders
BEGIN:VTIMEZONE
TZID:Europe/Brussels
BEGIN:DAYLIGHT
DTSTART:20240331T010000
TZOFFSETFROM:+0100
TZOFFSETTO:+0200
END:DAYLIGHT
BEGIN:STANDARD
DTSTART:20241027T030000
TZOFFSETFROM:+0200
TZOFFSETTO:+0100
END:STANDARD
BEGIN:DAYLIGHT
DTSTART:20250330T010000
TZOFFSETFROM:+0100
TZOFFSETTO:+0200
END:DAYLIGHT
BEGIN:STANDARD
DTSTART:20251026T030000
TZOFFSETFROM:+0200
TZOFFSETTO:+0100
END:STANDARD
END:VTIMEZONE
BEGIN:VTIMEZONE
TZID:UTC
BEGIN:STANDARD
DTSTART:20250724T055135
TZOFFSETFROM:+0000
TZOFFSETTO:+0000
END:STANDARD
END:VTIMEZONE
BEGIN:VEVENT
UID:541D9693-BA5C-49F3-B354-186D1A701882-3-111_homereminder@98.badmintonner
 s.net
DTSTAMP:20260420T055135Z
SUMMARY:Thuismatch ingevuld? (Rijkerack 1D (55) - Klein Boom 2D (58))
DESCRIPTION:Je hebt 36 uur na aanvang om een thuismatch op Badmintonvlaande
 ren in te vullen. Match info: Rijkerack 1D (55) - Klein Boom 2D (58) - Lin
 k: https://www.badmintonvlaanderen.be/sport/teammatch.aspx?id=541D9693-BA5
 C-49F3-B354-186D1A701882&match=111
DTSTART;TZID=Europe/Brussels:20241001T070000
DTEND;TZID=Europe/Brussels:20241001T070000
END:VEVENT
BEGIN:VEVENT
UID:541D9693-BA5C-49F3-B354-186D1A701882-3-123_homereminder@98.badmintonner
 s.net
DTSTAMP:20260420T055135Z
SUMMARY:Thuismatch ingevuld? (Rijkerack 1D (55) - Zoersel 1D (58))
DESCRIPTION:Je hebt 36 uur na aanvang om een thuismatch op Badmintonvlaande
 ren in te vullen. Match info: Rijkerack 1D (55) - Zoersel 1D (58) - Link: 
 https://www.badmintonvlaanderen.be/sport/teammatch.aspx?id=541D9693-BA5C-4
 9F3-B354-186D1A701882&match=123
DTSTART;TZID=Europe/Brussels:20241015T070000
DTEND;TZID=Europe/Brussels:20241015T070000
END:VEVENT
BEGIN:VEVENT
UID:541D9693-BA5C-49F3-B354-186D1A701882-3-135_homereminder@98.badmintonner
 s.net
DTSTAMP:20260420T055135Z
SUMMARY:Thuismatch ingevuld? (Rijkerack 1D (55) - Spinshuttle 1D (63))
DESCRIPTION:Je hebt 36 uur na aanvang om een thuismatch op Badmintonvlaande
 ren in te vullen. Match info: Rijkerack 1D (55) - Spinshuttle 1D (63) - Li
 nk: https://www.badmintonvlaanderen.be/sport/teammatch.aspx?id=541D9693-BA
 5C-49F3-B354-186D1A701882&match=135
DTSTART;TZID=Europe/Brussels:20241112T070000
DTEND;TZID=Europe/Brussels:20241112T070000
END:VEVENT
BEGIN:VEVENT
UID:541D9693-BA5C-49F3-B354-186D1A701882-3-141_homereminder@98.badmintonner
 s.net
DTSTAMP:20260420T055135Z
SUMMARY:Thuismatch ingevuld? (Rijkerack 1D (55) - Brasschaat 2D (45))
DESCRIPTION:Je hebt 36 uur na aanvang om een thuismatch op Badmintonvlaande
 ren in te vullen. Match info: Rijkerack 1D (55) - Brasschaat 2D (45) - Lin
 k: https://www.badmintonvlaanderen.be/sport/teammatch.aspx?id=541D9693-BA5
 C-49F3-B354-186D1A701882&match=141
DTSTART;TZID=Europe/Brussels:20250304T070000
DTEND;TZID=Europe/Brussels:20250304T070000
END:VEVENT
BEGIN:VEVENT
UID:541D9693-BA5C-49F3-B354-186D1A701882-3-129_homereminder@98.badmintonner
 s.net
DTSTAMP:20260420T055135Z
SUMMARY:Thuismatch ingevuld? (Rijkerack 1D (55) - Bacss 1D (61))
DESCRIPTION:Je hebt 36 uur na aanvang om een thuismatch op Badmintonvlaande
 ren in te vullen. Match info: Rijkerack 1D (55) - Bacss 1D (61) - Link: ht
 tps://www.badmintonvlaanderen.be/sport/teammatch.aspx?id=541D9693-BA5C-49F
 3-B354-186D1A701882&match=129
DTSTART;TZID=Europe/Brussels:20250318T070000
DTEND;TZID=Europe/Brussels:20250318T070000
END:VEVENT
BEGIN:VEVENT
UID:541D9693-BA5C-49F3-B354-186D1A701882-3-117_homereminder@98.badmintonner
 s.net
DTSTAMP:20260420T055135Z
SUMMARY:Thuismatch ingevuld? (Rijkerack 1D (55) - Beerke 1D (49))
DESCRIPTION:Je hebt 36 uur na aanvang om een thuismatch op Badmintonvlaande
 ren in te vullen. Match info: Rijkerack 1D (55) - Beerke 1D (49) - Link: h
 ttps://www.badmintonvlaanderen.be/sport/teammatch.aspx?id=541D9693-BA5C-49
 F3-B354-186D1A701882&match=117
DTSTART;TZID=Europe/Brussels:20250429T070000
DTEND;TZID=Europe/Brussels:20250429T070000
END:VEVENT
BEGIN:VEVENT
UID:541D9693-BA5C-49F3-B354-186D1A701882-3-143_awayreminder@98.badmintonner
 s.net
DTSTAMP:20260420T055135Z
SUMMARY:Uitmatch bevestigd? (Beerke 1D (49) - Rijkerack 1D (55))
DESCRIPTION:Je hebt 72 uur na aanvang om een uitmatch op Badmintonvlaandere
 n in te vullen. Match info: Beerke 1D (49) - Rijkerack 1D (55) - Link: htt
 ps://www.badmintonvlaanderen.be/sport/teammatch.aspx?id=541D9693-BA5C-49F3
 -B354-186D1A701882&match=143
DTSTART;TZID=Europe/Brussels:20241030T100000
DTEND;TZID=Europe/Brussels:20241030T100000
END:VEVENT
BEGIN:VEVENT
UID:541D9693-BA5C-49F3-B354-186D1A701882-3-147_awayreminder@98.badmintonner
 s.net
DTSTAMP:20260420T055135Z
SUMMARY:Uitmatch bevestigd? (Brasschaat 2D (45) - Rijkerack 1D (55))
DESCRIPTION:Je hebt 72 uur na aanvang om een uitmatch op Badmintonvlaandere
 n in te vullen. Match info: Brasschaat 2D (45) - Rijkerack 1D (55) - Link:
  https://www.badmintonvlaanderen.be/sport/teammatch.aspx?id=541D9693-BA5C-
 49F3-B354-186D1A701882&match=147
DTSTART;TZID=Europe/Brussels:20241127T190000
DTEND;TZID=Europe/Brussels:20241127T190000
END:VEVENT
BEGIN:VEVENT
UID:541D9693-BA5C-49F3-B354-186D1A701882-3-145_awayreminder@98.badmintonner
 s.net
DTSTAMP:20260420T055135Z
SUMMARY:Uitmatch bevestigd? (Bacss 1D (61) - Rijkerack 1D (55))
DESCRIPTION:Je hebt 72 uur na aanvang om een uitmatch op Badmintonvlaandere
 n in te vullen. Match info: Bacss 1D (61) - Rijkerack 1D (55) - Link: http
 s://www.badmintonvlaanderen.be/sport/teammatch.aspx?id=541D9693-BA5C-49F3-
 B354-186D1A701882&match=145
DTSTART;TZID=Europe/Brussels:20241225T100000
DTEND;TZID=Europe/Brussels:20241225T100000
END:VEVENT
BEGIN:VEVENT
UID:541D9693-BA5C-49F3-B354-186D1A701882-3-142_awayreminder@98.badmintonner
 s.net
DTSTAMP:20260420T055135Z
SUMMARY:Uitmatch bevestigd? (Klein Boom 2D (58) - Rijkerack 1D (55))
DESCRIPTION:Je hebt 72 uur na aanvang om een uitmatch op Badmintonvlaandere
 n in te vullen. Match info: Klein Boom 2D (58) - Rijkerack 1D (55) - Link:
  https://www.badmintonvlaanderen.be/sport/teammatch.aspx?id=541D9693-BA5C-
 49F3-B354-186D1A701882&match=142
DTSTART;TZID=Europe/Brussels:20250122T190000
DTEND;TZID=Europe/Brussels:20250122T190000
END:VEVENT
BEGIN:VEVENT
UID:541D9693-BA5C-49F3-B354-186D1A701882-3-146_awayreminder@98.badmintonner
 s.net
DTSTAMP:20260420T055135Z
SUMMARY:Uitmatch bevestigd? (Spinshuttle 1D (63) - Rijkerack 1D (55))
DESCRIPTION:Je hebt 72 uur na aanvang om een uitmatch op Badmintonvlaandere
 n in te vullen. Match info: Spinshuttle 1D (63) - Rijkerack 1D (55) - Link
 : https://www.badmintonvlaanderen.be/sport/teammatch.aspx?id=541D9693-BA5C
 -49F3-B354-186D1A701882&match=146
DTSTART;TZID=Europe/Brussels:20250214T200000
DTEND;TZID=Europe/Brussels:20250214T200000
END:VEVENT
BEGIN:VEVENT
UID:541D9693-BA5C-49F3-B354-186D1A701882-3-144_awayreminder@98.badmintonner
 s.net
DTSTAMP:20260420T055135Z
SUMMARY:Uitmatch bevestigd? (Zoersel 1D (58) - Rijkerack 1D (55))
DESCRIPTION:Je hebt 72 uur na aanvang om een uitmatch op Badmintonvlaandere
 n in te vullen. Match info: Zoersel 1D (58) - Rijkerack 1D (55) - Link: ht
 tps://www.badmintonvlaanderen.be/sport/teammatch.aspx?id=541D9693-BA5C-49F
 3-B354-186D1A701882&match=144
DTSTART;TZID=Europe/Brussels:20250416T120000
DTEND;TZID=Europe/Brussels:20250416T120000
END:VEVENT
END:VCALENDAR