BEGIN:VCALENDAR
VERSION:2.0
PRODID:spatie/icalendar-generator
NAME:bacss_1d_61_reminders
X-WR-CALNAME:bacss_1d_61_reminders
BEGIN:VTIMEZONE
TZID:Europe/Brussels
BEGIN:DAYLIGHT
DTSTART:20240331T010000
TZOFFSETFROM:+0100
TZOFFSETTO:+0200
END:DAYLIGHT
BEGIN:STANDARD
DTSTART:20241027T030000
TZOFFSETFROM:+0200
TZOFFSETTO:+0100
END:STANDARD
BEGIN:DAYLIGHT
DTSTART:20250330T010000
TZOFFSETFROM:+0100
TZOFFSETTO:+0200
END:DAYLIGHT
BEGIN:STANDARD
DTSTART:20251026T030000
TZOFFSETFROM:+0200
TZOFFSETTO:+0100
END:STANDARD
END:VTIMEZONE
BEGIN:VTIMEZONE
TZID:UTC
BEGIN:STANDARD
DTSTART:20250724T055133
TZOFFSETFROM:+0000
TZOFFSETTO:+0000
END:STANDARD
END:VTIMEZONE
BEGIN:VEVENT
UID:541D9693-BA5C-49F3-B354-186D1A701882-3-133_homereminder@99.badmintonner
 s.net
DTSTAMP:20260420T055133Z
SUMMARY:Thuismatch ingevuld? (Bacss 1D (61) - Spinshuttle 1D (63))
DESCRIPTION:Je hebt 36 uur na aanvang om een thuismatch op Badmintonvlaande
 ren in te vullen. Match info: Bacss 1D (61) - Spinshuttle 1D (63) - Link: 
 https://www.badmintonvlaanderen.be/sport/teammatch.aspx?id=541D9693-BA5C-4
 9F3-B354-186D1A701882&match=133
DTSTART;TZID=Europe/Brussels:20241028T220000
DTEND;TZID=Europe/Brussels:20241028T220000
END:VEVENT
BEGIN:VEVENT
UID:541D9693-BA5C-49F3-B354-186D1A701882-3-114_homereminder@99.badmintonner
 s.net
DTSTAMP:20260420T055133Z
SUMMARY:Thuismatch ingevuld? (Bacss 1D (61) - Beerke 1D (49))
DESCRIPTION:Je hebt 36 uur na aanvang om een thuismatch op Badmintonvlaande
 ren in te vullen. Match info: Bacss 1D (61) - Beerke 1D (49) - Link: https
 ://www.badmintonvlaanderen.be/sport/teammatch.aspx?id=541D9693-BA5C-49F3-B
 354-186D1A701882&match=114
DTSTART;TZID=Europe/Brussels:20241117T081500
DTEND;TZID=Europe/Brussels:20241117T081500
END:VEVENT
BEGIN:VEVENT
UID:541D9693-BA5C-49F3-B354-186D1A701882-3-145_homereminder@99.badmintonner
 s.net
DTSTAMP:20260420T055133Z
SUMMARY:Thuismatch ingevuld? (Bacss 1D (61) - Rijkerack 1D (55))
DESCRIPTION:Je hebt 36 uur na aanvang om een thuismatch op Badmintonvlaande
 ren in te vullen. Match info: Bacss 1D (61) - Rijkerack 1D (55) - Link: ht
 tps://www.badmintonvlaanderen.be/sport/teammatch.aspx?id=541D9693-BA5C-49F
 3-B354-186D1A701882&match=145
DTSTART;TZID=Europe/Brussels:20241223T220000
DTEND;TZID=Europe/Brussels:20241223T220000
END:VEVENT
BEGIN:VEVENT
UID:541D9693-BA5C-49F3-B354-186D1A701882-3-108_homereminder@99.badmintonner
 s.net
DTSTAMP:20260420T055133Z
SUMMARY:Thuismatch ingevuld? (Bacss 1D (61) - Klein Boom 2D (58))
DESCRIPTION:Je hebt 36 uur na aanvang om een thuismatch op Badmintonvlaande
 ren in te vullen. Match info: Bacss 1D (61) - Klein Boom 2D (58) - Link: h
 ttps://www.badmintonvlaanderen.be/sport/teammatch.aspx?id=541D9693-BA5C-49
 F3-B354-186D1A701882&match=108
DTSTART;TZID=Europe/Brussels:20250105T081500
DTEND;TZID=Europe/Brussels:20250105T081500
END:VEVENT
BEGIN:VEVENT
UID:541D9693-BA5C-49F3-B354-186D1A701882-3-139_homereminder@99.badmintonner
 s.net
DTSTAMP:20260420T055133Z
SUMMARY:Thuismatch ingevuld? (Bacss 1D (61) - Brasschaat 2D (45))
DESCRIPTION:Je hebt 36 uur na aanvang om een thuismatch op Badmintonvlaande
 ren in te vullen. Match info: Bacss 1D (61) - Brasschaat 2D (45) - Link: h
 ttps://www.badmintonvlaanderen.be/sport/teammatch.aspx?id=541D9693-BA5C-49
 F3-B354-186D1A701882&match=139
DTSTART;TZID=Europe/Brussels:20250126T081500
DTEND;TZID=Europe/Brussels:20250126T081500
END:VEVENT
BEGIN:VEVENT
UID:541D9693-BA5C-49F3-B354-186D1A701882-3-120_homereminder@99.badmintonner
 s.net
DTSTAMP:20260420T055133Z
SUMMARY:Thuismatch ingevuld? (Bacss 1D (61) - Zoersel 1D (58))
DESCRIPTION:Je hebt 36 uur na aanvang om een thuismatch op Badmintonvlaande
 ren in te vullen. Match info: Bacss 1D (61) - Zoersel 1D (58) - Link: http
 s://www.badmintonvlaanderen.be/sport/teammatch.aspx?id=541D9693-BA5C-49F3-
 B354-186D1A701882&match=120
DTSTART;TZID=Europe/Brussels:20250323T081500
DTEND;TZID=Europe/Brussels:20250323T081500
END:VEVENT
BEGIN:VEVENT
UID:541D9693-BA5C-49F3-B354-186D1A701882-3-124_awayreminder@99.badmintonner
 s.net
DTSTAMP:20260420T055133Z
SUMMARY:Uitmatch bevestigd? (Klein Boom 2D (58) - Bacss 1D (61))
DESCRIPTION:Je hebt 72 uur na aanvang om een uitmatch op Badmintonvlaandere
 n in te vullen. Match info: Klein Boom 2D (58) - Bacss 1D (61) - Link: htt
 ps://www.badmintonvlaanderen.be/sport/teammatch.aspx?id=541D9693-BA5C-49F3
 -B354-186D1A701882&match=124
DTSTART;TZID=Europe/Brussels:20241205T200000
DTEND;TZID=Europe/Brussels:20241205T200000
END:VEVENT
BEGIN:VEVENT
UID:541D9693-BA5C-49F3-B354-186D1A701882-3-126_awayreminder@99.badmintonner
 s.net
DTSTAMP:20260420T055133Z
SUMMARY:Uitmatch bevestigd? (Zoersel 1D (58) - Bacss 1D (61))
DESCRIPTION:Je hebt 72 uur na aanvang om een uitmatch op Badmintonvlaandere
 n in te vullen. Match info: Zoersel 1D (58) - Bacss 1D (61) - Link: https:
 //www.badmintonvlaanderen.be/sport/teammatch.aspx?id=541D9693-BA5C-49F3-B3
 54-186D1A701882&match=126
DTSTART;TZID=Europe/Brussels:20241211T120000
DTEND;TZID=Europe/Brussels:20241211T120000
END:VEVENT
BEGIN:VEVENT
UID:541D9693-BA5C-49F3-B354-186D1A701882-3-128_awayreminder@99.badmintonner
 s.net
DTSTAMP:20260420T055133Z
SUMMARY:Uitmatch bevestigd? (Brasschaat 2D (45) - Bacss 1D (61))
DESCRIPTION:Je hebt 72 uur na aanvang om een uitmatch op Badmintonvlaandere
 n in te vullen. Match info: Brasschaat 2D (45) - Bacss 1D (61) - Link: htt
 ps://www.badmintonvlaanderen.be/sport/teammatch.aspx?id=541D9693-BA5C-49F3
 -B354-186D1A701882&match=128
DTSTART;TZID=Europe/Brussels:20241225T190000
DTEND;TZID=Europe/Brussels:20241225T190000
END:VEVENT
BEGIN:VEVENT
UID:541D9693-BA5C-49F3-B354-186D1A701882-3-129_awayreminder@99.badmintonner
 s.net
DTSTAMP:20260420T055133Z
SUMMARY:Uitmatch bevestigd? (Rijkerack 1D (55) - Bacss 1D (61))
DESCRIPTION:Je hebt 72 uur na aanvang om een uitmatch op Badmintonvlaandere
 n in te vullen. Match info: Rijkerack 1D (55) - Bacss 1D (61) - Link: http
 s://www.badmintonvlaanderen.be/sport/teammatch.aspx?id=541D9693-BA5C-49F3-
 B354-186D1A701882&match=129
DTSTART;TZID=Europe/Brussels:20250319T190000
DTEND;TZID=Europe/Brussels:20250319T190000
END:VEVENT
BEGIN:VEVENT
UID:541D9693-BA5C-49F3-B354-186D1A701882-3-125_awayreminder@99.badmintonner
 s.net
DTSTAMP:20260420T055133Z
SUMMARY:Uitmatch bevestigd? (Beerke 1D (49) - Bacss 1D (61))
DESCRIPTION:Je hebt 72 uur na aanvang om een uitmatch op Badmintonvlaandere
 n in te vullen. Match info: Beerke 1D (49) - Bacss 1D (61) - Link: https:/
 /www.badmintonvlaanderen.be/sport/teammatch.aspx?id=541D9693-BA5C-49F3-B35
 4-186D1A701882&match=125
DTSTART;TZID=Europe/Brussels:20250330T210000
DTEND;TZID=Europe/Brussels:20250330T210000
END:VEVENT
BEGIN:VEVENT
UID:541D9693-BA5C-49F3-B354-186D1A701882-3-127_awayreminder@99.badmintonner
 s.net
DTSTAMP:20260420T055133Z
SUMMARY:Uitmatch bevestigd? (Spinshuttle 1D (63) - Bacss 1D (61))
DESCRIPTION:Je hebt 72 uur na aanvang om een uitmatch op Badmintonvlaandere
 n in te vullen. Match info: Spinshuttle 1D (63) - Bacss 1D (61) - Link: ht
 tps://www.badmintonvlaanderen.be/sport/teammatch.aspx?id=541D9693-BA5C-49F
 3-B354-186D1A701882&match=127
DTSTART;TZID=Europe/Brussels:20250425T200000
DTEND;TZID=Europe/Brussels:20250425T200000
END:VEVENT
END:VCALENDAR