BEGIN:VCALENDAR
VERSION:2.0
PRODID:spatie/icalendar-generator
NAME:zandhoven_2g_98_reminders
X-WR-CALNAME:zandhoven_2g_98_reminders
BEGIN:VTIMEZONE
TZID:Europe/Brussels
BEGIN:DAYLIGHT
DTSTART:20240331T010000
TZOFFSETFROM:+0100
TZOFFSETTO:+0200
END:DAYLIGHT
BEGIN:STANDARD
DTSTART:20241027T030000
TZOFFSETFROM:+0200
TZOFFSETTO:+0100
END:STANDARD
BEGIN:DAYLIGHT
DTSTART:20250330T010000
TZOFFSETFROM:+0100
TZOFFSETTO:+0200
END:DAYLIGHT
END:VTIMEZONE
BEGIN:VTIMEZONE
TZID:UTC
BEGIN:STANDARD
DTSTART:20250724T055126
TZOFFSETFROM:+0000
TZOFFSETTO:+0000
END:STANDARD
END:VTIMEZONE
BEGIN:VEVENT
UID:541D9693-BA5C-49F3-B354-186D1A701882-30-1300_homereminder@145.badminton
 ners.net
DTSTAMP:20260420T055126Z
SUMMARY:Thuismatch ingevuld? (Zandhoven 2G (98) - Antverpino 1G (88))
DESCRIPTION:Je hebt 36 uur na aanvang om een thuismatch op Badmintonvlaande
 ren in te vullen. Match info: Zandhoven 2G (98) - Antverpino 1G (88) - Lin
 k: https://www.badmintonvlaanderen.be/sport/teammatch.aspx?id=541D9693-BA5
 C-49F3-B354-186D1A701882&match=1300
DTSTART;TZID=Europe/Brussels:20240918T080000
DTEND;TZID=Europe/Brussels:20240918T080000
END:VEVENT
BEGIN:VEVENT
UID:541D9693-BA5C-49F3-B354-186D1A701882-30-1286_homereminder@145.badminton
 ners.net
DTSTAMP:20260420T055126Z
SUMMARY:Thuismatch ingevuld? (Zandhoven 2G (98) - Zoersel 3G (93))
DESCRIPTION:Je hebt 36 uur na aanvang om een thuismatch op Badmintonvlaande
 ren in te vullen. Match info: Zandhoven 2G (98) - Zoersel 3G (93) - Link: 
 https://www.badmintonvlaanderen.be/sport/teammatch.aspx?id=541D9693-BA5C-4
 9F3-B354-186D1A701882&match=1286
DTSTART;TZID=Europe/Brussels:20241016T080000
DTEND;TZID=Europe/Brussels:20241016T080000
END:VEVENT
BEGIN:VEVENT
UID:541D9693-BA5C-49F3-B354-186D1A701882-30-1321_homereminder@145.badminton
 ners.net
DTSTAMP:20260420T055126Z
SUMMARY:Thuismatch ingevuld? (Zandhoven 2G (98) - Beerke 3G (91))
DESCRIPTION:Je hebt 36 uur na aanvang om een thuismatch op Badmintonvlaande
 ren in te vullen. Match info: Zandhoven 2G (98) - Beerke 3G (91) - Link: h
 ttps://www.badmintonvlaanderen.be/sport/teammatch.aspx?id=541D9693-BA5C-49
 F3-B354-186D1A701882&match=1321
DTSTART;TZID=Europe/Brussels:20241120T080000
DTEND;TZID=Europe/Brussels:20241120T080000
END:VEVENT
BEGIN:VEVENT
UID:541D9693-BA5C-49F3-B354-186D1A701882-30-1314_homereminder@145.badminton
 ners.net
DTSTAMP:20260420T055126Z
SUMMARY:Thuismatch ingevuld? (Zandhoven 2G (98) - Klein Boom 3G (84))
DESCRIPTION:Je hebt 36 uur na aanvang om een thuismatch op Badmintonvlaande
 ren in te vullen. Match info: Zandhoven 2G (98) - Klein Boom 3G (84) - Lin
 k: https://www.badmintonvlaanderen.be/sport/teammatch.aspx?id=541D9693-BA5
 C-49F3-B354-186D1A701882&match=1314
DTSTART;TZID=Europe/Brussels:20241211T080000
DTEND;TZID=Europe/Brussels:20241211T080000
END:VEVENT
BEGIN:VEVENT
UID:541D9693-BA5C-49F3-B354-186D1A701882-30-1307_homereminder@145.badminton
 ners.net
DTSTAMP:20260420T055126Z
SUMMARY:Thuismatch ingevuld? (Zandhoven 2G (98) - Olmen Balen 1G (100))
DESCRIPTION:Je hebt 36 uur na aanvang om een thuismatch op Badmintonvlaande
 ren in te vullen. Match info: Zandhoven 2G (98) - Olmen Balen 1G (100) - L
 ink: https://www.badmintonvlaanderen.be/sport/teammatch.aspx?id=541D9693-B
 A5C-49F3-B354-186D1A701882&match=1307
DTSTART;TZID=Europe/Brussels:20250108T080000
DTEND;TZID=Europe/Brussels:20250108T080000
END:VEVENT
BEGIN:VEVENT
UID:541D9693-BA5C-49F3-B354-186D1A701882-30-1271_homereminder@145.badminton
 ners.net
DTSTAMP:20260420T055126Z
SUMMARY:Thuismatch ingevuld? (Zandhoven 2G (98) - Spinshuttle 2G (90))
DESCRIPTION:Je hebt 36 uur na aanvang om een thuismatch op Badmintonvlaande
 ren in te vullen. Match info: Zandhoven 2G (98) - Spinshuttle 2G (90) - Li
 nk: https://www.badmintonvlaanderen.be/sport/teammatch.aspx?id=541D9693-BA
 5C-49F3-B354-186D1A701882&match=1271
DTSTART;TZID=Europe/Brussels:20250205T080000
DTEND;TZID=Europe/Brussels:20250205T080000
END:VEVENT
BEGIN:VEVENT
UID:541D9693-BA5C-49F3-B354-186D1A701882-30-1293_homereminder@145.badminton
 ners.net
DTSTAMP:20260420T055126Z
SUMMARY:Thuismatch ingevuld? (Zandhoven 2G (98) - Rita Serveert 2G (95))
DESCRIPTION:Je hebt 36 uur na aanvang om een thuismatch op Badmintonvlaande
 ren in te vullen. Match info: Zandhoven 2G (98) - Rita Serveert 2G (95) - 
 Link: https://www.badmintonvlaanderen.be/sport/teammatch.aspx?id=541D9693-
 BA5C-49F3-B354-186D1A701882&match=1293
DTSTART;TZID=Europe/Brussels:20250319T080000
DTEND;TZID=Europe/Brussels:20250319T080000
END:VEVENT
BEGIN:VEVENT
UID:541D9693-BA5C-49F3-B354-186D1A701882-30-1280_awayreminder@145.badminton
 ners.net
DTSTAMP:20260420T055126Z
SUMMARY:Uitmatch bevestigd? (Rita Serveert 2G (95) - Zandhoven 2G (98))
DESCRIPTION:Je hebt 72 uur na aanvang om een uitmatch op Badmintonvlaandere
 n in te vullen. Match info: Rita Serveert 2G (95) - Zandhoven 2G (98) - Li
 nk: https://www.badmintonvlaanderen.be/sport/teammatch.aspx?id=541D9693-BA
 5C-49F3-B354-186D1A701882&match=1280
DTSTART;TZID=Europe/Brussels:20241009T190000
DTEND;TZID=Europe/Brussels:20241009T190000
END:VEVENT
BEGIN:VEVENT
UID:541D9693-BA5C-49F3-B354-186D1A701882-30-1278_awayreminder@145.badminton
 ners.net
DTSTAMP:20260420T055126Z
SUMMARY:Uitmatch bevestigd? (Spinshuttle 2G (90) - Zandhoven 2G (98))
DESCRIPTION:Je hebt 72 uur na aanvang om een uitmatch op Badmintonvlaandere
 n in te vullen. Match info: Spinshuttle 2G (90) - Zandhoven 2G (98) - Link
 : https://www.badmintonvlaanderen.be/sport/teammatch.aspx?id=541D9693-BA5C
 -49F3-B354-186D1A701882&match=1278
DTSTART;TZID=Europe/Brussels:20241129T200000
DTEND;TZID=Europe/Brussels:20241129T200000
END:VEVENT
BEGIN:VEVENT
UID:541D9693-BA5C-49F3-B354-186D1A701882-30-1282_awayreminder@145.badminton
 ners.net
DTSTAMP:20260420T055126Z
SUMMARY:Uitmatch bevestigd? (Olmen Balen 1G (100) - Zandhoven 2G (98))
DESCRIPTION:Je hebt 72 uur na aanvang om een uitmatch op Badmintonvlaandere
 n in te vullen. Match info: Olmen Balen 1G (100) - Zandhoven 2G (98) - Lin
 k: https://www.badmintonvlaanderen.be/sport/teammatch.aspx?id=541D9693-BA5
 C-49F3-B354-186D1A701882&match=1282
DTSTART;TZID=Europe/Brussels:20241225T190000
DTEND;TZID=Europe/Brussels:20241225T190000
END:VEVENT
BEGIN:VEVENT
UID:541D9693-BA5C-49F3-B354-186D1A701882-30-1281_awayreminder@145.badminton
 ners.net
DTSTAMP:20260420T055126Z
SUMMARY:Uitmatch bevestigd? (Antverpino 1G (88) - Zandhoven 2G (98))
DESCRIPTION:Je hebt 72 uur na aanvang om een uitmatch op Badmintonvlaandere
 n in te vullen. Match info: Antverpino 1G (88) - Zandhoven 2G (98) - Link:
  https://www.badmintonvlaanderen.be/sport/teammatch.aspx?id=541D9693-BA5C-
 49F3-B354-186D1A701882&match=1281
DTSTART;TZID=Europe/Brussels:20250125T203000
DTEND;TZID=Europe/Brussels:20250125T203000
END:VEVENT
BEGIN:VEVENT
UID:541D9693-BA5C-49F3-B354-186D1A701882-30-1284_awayreminder@145.badminton
 ners.net
DTSTAMP:20260420T055126Z
SUMMARY:Uitmatch bevestigd? (Beerke 3G (91) - Zandhoven 2G (98))
DESCRIPTION:Je hebt 72 uur na aanvang om een uitmatch op Badmintonvlaandere
 n in te vullen. Match info: Beerke 3G (91) - Zandhoven 2G (98) - Link: htt
 ps://www.badmintonvlaanderen.be/sport/teammatch.aspx?id=541D9693-BA5C-49F3
 -B354-186D1A701882&match=1284
DTSTART;TZID=Europe/Brussels:20250226T100000
DTEND;TZID=Europe/Brussels:20250226T100000
END:VEVENT
BEGIN:VEVENT
UID:541D9693-BA5C-49F3-B354-186D1A701882-30-1279_awayreminder@145.badminton
 ners.net
DTSTAMP:20260420T055126Z
SUMMARY:Uitmatch bevestigd? (Zoersel 3G (93) - Zandhoven 2G (98))
DESCRIPTION:Je hebt 72 uur na aanvang om een uitmatch op Badmintonvlaandere
 n in te vullen. Match info: Zoersel 3G (93) - Zandhoven 2G (98) - Link: ht
 tps://www.badmintonvlaanderen.be/sport/teammatch.aspx?id=541D9693-BA5C-49F
 3-B354-186D1A701882&match=1279
DTSTART;TZID=Europe/Brussels:20250312T120000
DTEND;TZID=Europe/Brussels:20250312T120000
END:VEVENT
BEGIN:VEVENT
UID:541D9693-BA5C-49F3-B354-186D1A701882-30-1283_awayreminder@145.badminton
 ners.net
DTSTAMP:20260420T055126Z
SUMMARY:Uitmatch bevestigd? (Klein Boom 3G (84) - Zandhoven 2G (98))
DESCRIPTION:Je hebt 72 uur na aanvang om een uitmatch op Badmintonvlaandere
 n in te vullen. Match info: Klein Boom 3G (84) - Zandhoven 2G (98) - Link:
  https://www.badmintonvlaanderen.be/sport/teammatch.aspx?id=541D9693-BA5C-
 49F3-B354-186D1A701882&match=1283
DTSTART;TZID=Europe/Brussels:20250409T190000
DTEND;TZID=Europe/Brussels:20250409T190000
END:VEVENT
END:VCALENDAR