BEGIN:VCALENDAR
VERSION:2.0
PRODID:spatie/icalendar-generator
NAME:klein_boom_3g_84_reminders
X-WR-CALNAME:klein_boom_3g_84_reminders
BEGIN:VTIMEZONE
TZID:Europe/Brussels
BEGIN:DAYLIGHT
DTSTART:20240331T010000
TZOFFSETFROM:+0100
TZOFFSETTO:+0200
END:DAYLIGHT
BEGIN:STANDARD
DTSTART:20241027T030000
TZOFFSETFROM:+0200
TZOFFSETTO:+0100
END:STANDARD
BEGIN:DAYLIGHT
DTSTART:20250330T010000
TZOFFSETFROM:+0100
TZOFFSETTO:+0200
END:DAYLIGHT
END:VTIMEZONE
BEGIN:VTIMEZONE
TZID:UTC
BEGIN:STANDARD
DTSTART:20250724T072404
TZOFFSETFROM:+0000
TZOFFSETTO:+0000
END:STANDARD
END:VTIMEZONE
BEGIN:VEVENT
UID:541D9693-BA5C-49F3-B354-186D1A701882-30-1304_homereminder@147.badminton
 ners.net
DTSTAMP:20260420T072404Z
SUMMARY:Thuismatch ingevuld? (Klein Boom 3G (84) - Antverpino 1G (88))
DESCRIPTION:Je hebt 36 uur na aanvang om een thuismatch op Badmintonvlaande
 ren in te vullen. Match info: Klein Boom 3G (84) - Antverpino 1G (88) - Li
 nk: https://www.badmintonvlaanderen.be/sport/teammatch.aspx?id=541D9693-BA
 5C-49F3-B354-186D1A701882&match=1304
DTSTART;TZID=Europe/Brussels:20241022T070000
DTEND;TZID=Europe/Brussels:20241022T070000
END:VEVENT
BEGIN:VEVENT
UID:541D9693-BA5C-49F3-B354-186D1A701882-30-1276_homereminder@147.badminton
 ners.net
DTSTAMP:20260420T072404Z
SUMMARY:Thuismatch ingevuld? (Klein Boom 3G (84) - Spinshuttle 2G (90))
DESCRIPTION:Je hebt 36 uur na aanvang om een thuismatch op Badmintonvlaande
 ren in te vullen. Match info: Klein Boom 3G (84) - Spinshuttle 2G (90) - L
 ink: https://www.badmintonvlaanderen.be/sport/teammatch.aspx?id=541D9693-B
 A5C-49F3-B354-186D1A701882&match=1276
DTSTART;TZID=Europe/Brussels:20241112T070000
DTEND;TZID=Europe/Brussels:20241112T070000
END:VEVENT
BEGIN:VEVENT
UID:541D9693-BA5C-49F3-B354-186D1A701882-30-1290_homereminder@147.badminton
 ners.net
DTSTAMP:20260420T072404Z
SUMMARY:Thuismatch ingevuld? (Klein Boom 3G (84) - Zoersel 3G (93))
DESCRIPTION:Je hebt 36 uur na aanvang om een thuismatch op Badmintonvlaande
 ren in te vullen. Match info: Klein Boom 3G (84) - Zoersel 3G (93) - Link:
  https://www.badmintonvlaanderen.be/sport/teammatch.aspx?id=541D9693-BA5C-
 49F3-B354-186D1A701882&match=1290
DTSTART;TZID=Europe/Brussels:20241203T070000
DTEND;TZID=Europe/Brussels:20241203T070000
END:VEVENT
BEGIN:VEVENT
UID:541D9693-BA5C-49F3-B354-186D1A701882-30-1326_homereminder@147.badminton
 ners.net
DTSTAMP:20260420T072404Z
SUMMARY:Thuismatch ingevuld? (Klein Boom 3G (84) - Beerke 3G (91))
DESCRIPTION:Je hebt 36 uur na aanvang om een thuismatch op Badmintonvlaande
 ren in te vullen. Match info: Klein Boom 3G (84) - Beerke 3G (91) - Link: 
 https://www.badmintonvlaanderen.be/sport/teammatch.aspx?id=541D9693-BA5C-4
 9F3-B354-186D1A701882&match=1326
DTSTART;TZID=Europe/Brussels:20250128T070000
DTEND;TZID=Europe/Brussels:20250128T070000
END:VEVENT
BEGIN:VEVENT
UID:541D9693-BA5C-49F3-B354-186D1A701882-30-1297_homereminder@147.badminton
 ners.net
DTSTAMP:20260420T072404Z
SUMMARY:Thuismatch ingevuld? (Klein Boom 3G (84) - Rita Serveert 2G (95))
DESCRIPTION:Je hebt 36 uur na aanvang om een thuismatch op Badmintonvlaande
 ren in te vullen. Match info: Klein Boom 3G (84) - Rita Serveert 2G (95) -
  Link: https://www.badmintonvlaanderen.be/sport/teammatch.aspx?id=541D9693
 -BA5C-49F3-B354-186D1A701882&match=1297
DTSTART;TZID=Europe/Brussels:20250225T070000
DTEND;TZID=Europe/Brussels:20250225T070000
END:VEVENT
BEGIN:VEVENT
UID:541D9693-BA5C-49F3-B354-186D1A701882-30-1311_homereminder@147.badminton
 ners.net
DTSTAMP:20260420T072404Z
SUMMARY:Thuismatch ingevuld? (Klein Boom 3G (84) - Olmen Balen 1G (100))
DESCRIPTION:Je hebt 36 uur na aanvang om een thuismatch op Badmintonvlaande
 ren in te vullen. Match info: Klein Boom 3G (84) - Olmen Balen 1G (100) - 
 Link: https://www.badmintonvlaanderen.be/sport/teammatch.aspx?id=541D9693-
 BA5C-49F3-B354-186D1A701882&match=1311
DTSTART;TZID=Europe/Brussels:20250325T070000
DTEND;TZID=Europe/Brussels:20250325T070000
END:VEVENT
BEGIN:VEVENT
UID:541D9693-BA5C-49F3-B354-186D1A701882-30-1283_homereminder@147.badminton
 ners.net
DTSTAMP:20260420T072404Z
SUMMARY:Thuismatch ingevuld? (Klein Boom 3G (84) - Zandhoven 2G (98))
DESCRIPTION:Je hebt 36 uur na aanvang om een thuismatch op Badmintonvlaande
 ren in te vullen. Match info: Klein Boom 3G (84) - Zandhoven 2G (98) - Lin
 k: https://www.badmintonvlaanderen.be/sport/teammatch.aspx?id=541D9693-BA5
 C-49F3-B354-186D1A701882&match=1283
DTSTART;TZID=Europe/Brussels:20250408T070000
DTEND;TZID=Europe/Brussels:20250408T070000
END:VEVENT
BEGIN:VEVENT
UID:541D9693-BA5C-49F3-B354-186D1A701882-30-1318_awayreminder@147.badminton
 ners.net
DTSTAMP:20260420T072404Z
SUMMARY:Uitmatch bevestigd? (Olmen Balen 1G (100) - Klein Boom 3G (84))
DESCRIPTION:Je hebt 72 uur na aanvang om een uitmatch op Badmintonvlaandere
 n in te vullen. Match info: Olmen Balen 1G (100) - Klein Boom 3G (84) - Li
 nk: https://www.badmintonvlaanderen.be/sport/teammatch.aspx?id=541D9693-BA
 5C-49F3-B354-186D1A701882&match=1318
DTSTART;TZID=Europe/Brussels:20241009T190000
DTEND;TZID=Europe/Brussels:20241009T190000
END:VEVENT
BEGIN:VEVENT
UID:541D9693-BA5C-49F3-B354-186D1A701882-30-1316_awayreminder@147.badminton
 ners.net
DTSTAMP:20260420T072404Z
SUMMARY:Uitmatch bevestigd? (Rita Serveert 2G (95) - Klein Boom 3G (84))
DESCRIPTION:Je hebt 72 uur na aanvang om een uitmatch op Badmintonvlaandere
 n in te vullen. Match info: Rita Serveert 2G (95) - Klein Boom 3G (84) - L
 ink: https://www.badmintonvlaanderen.be/sport/teammatch.aspx?id=541D9693-B
 A5C-49F3-B354-186D1A701882&match=1316
DTSTART;TZID=Europe/Brussels:20241120T190000
DTEND;TZID=Europe/Brussels:20241120T190000
END:VEVENT
BEGIN:VEVENT
UID:541D9693-BA5C-49F3-B354-186D1A701882-30-1314_awayreminder@147.badminton
 ners.net
DTSTAMP:20260420T072404Z
SUMMARY:Uitmatch bevestigd? (Zandhoven 2G (98) - Klein Boom 3G (84))
DESCRIPTION:Je hebt 72 uur na aanvang om een uitmatch op Badmintonvlaandere
 n in te vullen. Match info: Zandhoven 2G (98) - Klein Boom 3G (84) - Link:
  https://www.badmintonvlaanderen.be/sport/teammatch.aspx?id=541D9693-BA5C-
 49F3-B354-186D1A701882&match=1314
DTSTART;TZID=Europe/Brussels:20241212T200000
DTEND;TZID=Europe/Brussels:20241212T200000
END:VEVENT
BEGIN:VEVENT
UID:541D9693-BA5C-49F3-B354-186D1A701882-30-1319_awayreminder@147.badminton
 ners.net
DTSTAMP:20260420T072404Z
SUMMARY:Uitmatch bevestigd? (Beerke 3G (91) - Klein Boom 3G (84))
DESCRIPTION:Je hebt 72 uur na aanvang om een uitmatch op Badmintonvlaandere
 n in te vullen. Match info: Beerke 3G (91) - Klein Boom 3G (84) - Link: ht
 tps://www.badmintonvlaanderen.be/sport/teammatch.aspx?id=541D9693-BA5C-49F
 3-B354-186D1A701882&match=1319
DTSTART;TZID=Europe/Brussels:20241218T100000
DTEND;TZID=Europe/Brussels:20241218T100000
END:VEVENT
BEGIN:VEVENT
UID:541D9693-BA5C-49F3-B354-186D1A701882-30-1313_awayreminder@147.badminton
 ners.net
DTSTAMP:20260420T072404Z
SUMMARY:Uitmatch bevestigd? (Spinshuttle 2G (90) - Klein Boom 3G (84))
DESCRIPTION:Je hebt 72 uur na aanvang om een uitmatch op Badmintonvlaandere
 n in te vullen. Match info: Spinshuttle 2G (90) - Klein Boom 3G (84) - Lin
 k: https://www.badmintonvlaanderen.be/sport/teammatch.aspx?id=541D9693-BA5
 C-49F3-B354-186D1A701882&match=1313
DTSTART;TZID=Europe/Brussels:20250110T200000
DTEND;TZID=Europe/Brussels:20250110T200000
END:VEVENT
BEGIN:VEVENT
UID:541D9693-BA5C-49F3-B354-186D1A701882-30-1315_awayreminder@147.badminton
 ners.net
DTSTAMP:20260420T072404Z
SUMMARY:Uitmatch bevestigd? (Zoersel 3G (93) - Klein Boom 3G (84))
DESCRIPTION:Je hebt 72 uur na aanvang om een uitmatch op Badmintonvlaandere
 n in te vullen. Match info: Zoersel 3G (93) - Klein Boom 3G (84) - Link: h
 ttps://www.badmintonvlaanderen.be/sport/teammatch.aspx?id=541D9693-BA5C-49
 F3-B354-186D1A701882&match=1315
DTSTART;TZID=Europe/Brussels:20250212T120000
DTEND;TZID=Europe/Brussels:20250212T120000
END:VEVENT
BEGIN:VEVENT
UID:541D9693-BA5C-49F3-B354-186D1A701882-30-1317_awayreminder@147.badminton
 ners.net
DTSTAMP:20260420T072404Z
SUMMARY:Uitmatch bevestigd? (Antverpino 1G (88) - Klein Boom 3G (84))
DESCRIPTION:Je hebt 72 uur na aanvang om een uitmatch op Badmintonvlaandere
 n in te vullen. Match info: Antverpino 1G (88) - Klein Boom 3G (84) - Link
 : https://www.badmintonvlaanderen.be/sport/teammatch.aspx?id=541D9693-BA5C
 -49F3-B354-186D1A701882&match=1317
DTSTART;TZID=Europe/Brussels:20250308T203000
DTEND;TZID=Europe/Brussels:20250308T203000
END:VEVENT
END:VCALENDAR