BEGIN:VCALENDAR
VERSION:2.0
PRODID:spatie/icalendar-generator
NAME:spinshuttle_2g_90_reminders
X-WR-CALNAME:spinshuttle_2g_90_reminders
BEGIN:VTIMEZONE
TZID:Europe/Brussels
BEGIN:DAYLIGHT
DTSTART:20240331T010000
TZOFFSETFROM:+0100
TZOFFSETTO:+0200
END:DAYLIGHT
BEGIN:STANDARD
DTSTART:20241027T030000
TZOFFSETFROM:+0200
TZOFFSETTO:+0100
END:STANDARD
BEGIN:DAYLIGHT
DTSTART:20250330T010000
TZOFFSETFROM:+0100
TZOFFSETTO:+0200
END:DAYLIGHT
END:VTIMEZONE
BEGIN:VTIMEZONE
TZID:UTC
BEGIN:STANDARD
DTSTART:20250724T072406
TZOFFSETFROM:+0000
TZOFFSETTO:+0000
END:STANDARD
END:VTIMEZONE
BEGIN:VEVENT
UID:541D9693-BA5C-49F3-B354-186D1A701882-30-1292_homereminder@157.badminton
 ners.net
DTSTAMP:20260420T072406Z
SUMMARY:Thuismatch ingevuld? (Spinshuttle 2G (90) - Rita Serveert 2G (95))
DESCRIPTION:Je hebt 36 uur na aanvang om een thuismatch op Badmintonvlaande
 ren in te vullen. Match info: Spinshuttle 2G (90) - Rita Serveert 2G (95) 
 - Link: https://www.badmintonvlaanderen.be/sport/teammatch.aspx?id=541D969
 3-BA5C-49F3-B354-186D1A701882&match=1292
DTSTART;TZID=Europe/Brussels:20241017T080000
DTEND;TZID=Europe/Brussels:20241017T080000
END:VEVENT
BEGIN:VEVENT
UID:541D9693-BA5C-49F3-B354-186D1A701882-30-1306_homereminder@157.badminton
 ners.net
DTSTAMP:20260420T072406Z
SUMMARY:Thuismatch ingevuld? (Spinshuttle 2G (90) - Olmen Balen 1G (100))
DESCRIPTION:Je hebt 36 uur na aanvang om een thuismatch op Badmintonvlaande
 ren in te vullen. Match info: Spinshuttle 2G (90) - Olmen Balen 1G (100) -
  Link: https://www.badmintonvlaanderen.be/sport/teammatch.aspx?id=541D9693
 -BA5C-49F3-B354-186D1A701882&match=1306
DTSTART;TZID=Europe/Brussels:20241031T080000
DTEND;TZID=Europe/Brussels:20241031T080000
END:VEVENT
BEGIN:VEVENT
UID:541D9693-BA5C-49F3-B354-186D1A701882-30-1278_homereminder@157.badminton
 ners.net
DTSTAMP:20260420T072406Z
SUMMARY:Thuismatch ingevuld? (Spinshuttle 2G (90) - Zandhoven 2G (98))
DESCRIPTION:Je hebt 36 uur na aanvang om een thuismatch op Badmintonvlaande
 ren in te vullen. Match info: Spinshuttle 2G (90) - Zandhoven 2G (98) - Li
 nk: https://www.badmintonvlaanderen.be/sport/teammatch.aspx?id=541D9693-BA
 5C-49F3-B354-186D1A701882&match=1278
DTSTART;TZID=Europe/Brussels:20241128T080000
DTEND;TZID=Europe/Brussels:20241128T080000
END:VEVENT
BEGIN:VEVENT
UID:541D9693-BA5C-49F3-B354-186D1A701882-30-1320_homereminder@157.badminton
 ners.net
DTSTAMP:20260420T072406Z
SUMMARY:Thuismatch ingevuld? (Spinshuttle 2G (90) - Beerke 3G (91))
DESCRIPTION:Je hebt 36 uur na aanvang om een thuismatch op Badmintonvlaande
 ren in te vullen. Match info: Spinshuttle 2G (90) - Beerke 3G (91) - Link:
  https://www.badmintonvlaanderen.be/sport/teammatch.aspx?id=541D9693-BA5C-
 49F3-B354-186D1A701882&match=1320
DTSTART;TZID=Europe/Brussels:20241205T080000
DTEND;TZID=Europe/Brussels:20241205T080000
END:VEVENT
BEGIN:VEVENT
UID:541D9693-BA5C-49F3-B354-186D1A701882-30-1313_homereminder@157.badminton
 ners.net
DTSTAMP:20260420T072406Z
SUMMARY:Thuismatch ingevuld? (Spinshuttle 2G (90) - Klein Boom 3G (84))
DESCRIPTION:Je hebt 36 uur na aanvang om een thuismatch op Badmintonvlaande
 ren in te vullen. Match info: Spinshuttle 2G (90) - Klein Boom 3G (84) - L
 ink: https://www.badmintonvlaanderen.be/sport/teammatch.aspx?id=541D9693-B
 A5C-49F3-B354-186D1A701882&match=1313
DTSTART;TZID=Europe/Brussels:20250109T080000
DTEND;TZID=Europe/Brussels:20250109T080000
END:VEVENT
BEGIN:VEVENT
UID:541D9693-BA5C-49F3-B354-186D1A701882-30-1285_homereminder@157.badminton
 ners.net
DTSTAMP:20260420T072406Z
SUMMARY:Thuismatch ingevuld? (Spinshuttle 2G (90) - Zoersel 3G (93))
DESCRIPTION:Je hebt 36 uur na aanvang om een thuismatch op Badmintonvlaande
 ren in te vullen. Match info: Spinshuttle 2G (90) - Zoersel 3G (93) - Link
 : https://www.badmintonvlaanderen.be/sport/teammatch.aspx?id=541D9693-BA5C
 -49F3-B354-186D1A701882&match=1285
DTSTART;TZID=Europe/Brussels:20250220T080000
DTEND;TZID=Europe/Brussels:20250220T080000
END:VEVENT
BEGIN:VEVENT
UID:541D9693-BA5C-49F3-B354-186D1A701882-30-1299_homereminder@157.badminton
 ners.net
DTSTAMP:20260420T072406Z
SUMMARY:Thuismatch ingevuld? (Spinshuttle 2G (90) - Antverpino 1G (88))
DESCRIPTION:Je hebt 36 uur na aanvang om een thuismatch op Badmintonvlaande
 ren in te vullen. Match info: Spinshuttle 2G (90) - Antverpino 1G (88) - L
 ink: https://www.badmintonvlaanderen.be/sport/teammatch.aspx?id=541D9693-B
 A5C-49F3-B354-186D1A701882&match=1299
DTSTART;TZID=Europe/Brussels:20250313T080000
DTEND;TZID=Europe/Brussels:20250313T080000
END:VEVENT
BEGIN:VEVENT
UID:541D9693-BA5C-49F3-B354-186D1A701882-30-1274_awayreminder@157.badminton
 ners.net
DTSTAMP:20260420T072406Z
SUMMARY:Uitmatch bevestigd? (Antverpino 1G (88) - Spinshuttle 2G (90))
DESCRIPTION:Je hebt 72 uur na aanvang om een uitmatch op Badmintonvlaandere
 n in te vullen. Match info: Antverpino 1G (88) - Spinshuttle 2G (90) - Lin
 k: https://www.badmintonvlaanderen.be/sport/teammatch.aspx?id=541D9693-BA5
 C-49F3-B354-186D1A701882&match=1274
DTSTART;TZID=Europe/Brussels:20241005T203000
DTEND;TZID=Europe/Brussels:20241005T203000
END:VEVENT
BEGIN:VEVENT
UID:541D9693-BA5C-49F3-B354-186D1A701882-30-1276_awayreminder@157.badminton
 ners.net
DTSTAMP:20260420T072406Z
SUMMARY:Uitmatch bevestigd? (Klein Boom 3G (84) - Spinshuttle 2G (90))
DESCRIPTION:Je hebt 72 uur na aanvang om een uitmatch op Badmintonvlaandere
 n in te vullen. Match info: Klein Boom 3G (84) - Spinshuttle 2G (90) - Lin
 k: https://www.badmintonvlaanderen.be/sport/teammatch.aspx?id=541D9693-BA5
 C-49F3-B354-186D1A701882&match=1276
DTSTART;TZID=Europe/Brussels:20241113T190000
DTEND;TZID=Europe/Brussels:20241113T190000
END:VEVENT
BEGIN:VEVENT
UID:541D9693-BA5C-49F3-B354-186D1A701882-30-1272_awayreminder@157.badminton
 ners.net
DTSTAMP:20260420T072406Z
SUMMARY:Uitmatch bevestigd? (Zoersel 3G (93) - Spinshuttle 2G (90))
DESCRIPTION:Je hebt 72 uur na aanvang om een uitmatch op Badmintonvlaandere
 n in te vullen. Match info: Zoersel 3G (93) - Spinshuttle 2G (90) - Link: 
 https://www.badmintonvlaanderen.be/sport/teammatch.aspx?id=541D9693-BA5C-4
 9F3-B354-186D1A701882&match=1272
DTSTART;TZID=Europe/Brussels:20241120T120000
DTEND;TZID=Europe/Brussels:20241120T120000
END:VEVENT
BEGIN:VEVENT
UID:541D9693-BA5C-49F3-B354-186D1A701882-30-1271_awayreminder@157.badminton
 ners.net
DTSTAMP:20260420T072406Z
SUMMARY:Uitmatch bevestigd? (Zandhoven 2G (98) - Spinshuttle 2G (90))
DESCRIPTION:Je hebt 72 uur na aanvang om een uitmatch op Badmintonvlaandere
 n in te vullen. Match info: Zandhoven 2G (98) - Spinshuttle 2G (90) - Link
 : https://www.badmintonvlaanderen.be/sport/teammatch.aspx?id=541D9693-BA5C
 -49F3-B354-186D1A701882&match=1271
DTSTART;TZID=Europe/Brussels:20250206T200000
DTEND;TZID=Europe/Brussels:20250206T200000
END:VEVENT
BEGIN:VEVENT
UID:541D9693-BA5C-49F3-B354-186D1A701882-30-1275_awayreminder@157.badminton
 ners.net
DTSTAMP:20260420T072406Z
SUMMARY:Uitmatch bevestigd? (Olmen Balen 1G (100) - Spinshuttle 2G (90))
DESCRIPTION:Je hebt 72 uur na aanvang om een uitmatch op Badmintonvlaandere
 n in te vullen. Match info: Olmen Balen 1G (100) - Spinshuttle 2G (90) - L
 ink: https://www.badmintonvlaanderen.be/sport/teammatch.aspx?id=541D9693-B
 A5C-49F3-B354-186D1A701882&match=1275
DTSTART;TZID=Europe/Brussels:20250219T190000
DTEND;TZID=Europe/Brussels:20250219T190000
END:VEVENT
BEGIN:VEVENT
UID:541D9693-BA5C-49F3-B354-186D1A701882-30-1273_awayreminder@157.badminton
 ners.net
DTSTAMP:20260420T072406Z
SUMMARY:Uitmatch bevestigd? (Rita Serveert 2G (95) - Spinshuttle 2G (90))
DESCRIPTION:Je hebt 72 uur na aanvang om een uitmatch op Badmintonvlaandere
 n in te vullen. Match info: Rita Serveert 2G (95) - Spinshuttle 2G (90) - 
 Link: https://www.badmintonvlaanderen.be/sport/teammatch.aspx?id=541D9693-
 BA5C-49F3-B354-186D1A701882&match=1273
DTSTART;TZID=Europe/Brussels:20250312T190000
DTEND;TZID=Europe/Brussels:20250312T190000
END:VEVENT
BEGIN:VEVENT
UID:541D9693-BA5C-49F3-B354-186D1A701882-30-1277_awayreminder@157.badminton
 ners.net
DTSTAMP:20260420T072406Z
SUMMARY:Uitmatch bevestigd? (Beerke 3G (91) - Spinshuttle 2G (90))
DESCRIPTION:Je hebt 72 uur na aanvang om een uitmatch op Badmintonvlaandere
 n in te vullen. Match info: Beerke 3G (91) - Spinshuttle 2G (90) - Link: h
 ttps://www.badmintonvlaanderen.be/sport/teammatch.aspx?id=541D9693-BA5C-49
 F3-B354-186D1A701882&match=1277
DTSTART;TZID=Europe/Brussels:20250409T100000
DTEND;TZID=Europe/Brussels:20250409T100000
END:VEVENT
END:VCALENDAR