BEGIN:VCALENDAR
VERSION:2.0
PRODID:spatie/icalendar-generator
NAME:rita_serveert_2g_95_reminders
X-WR-CALNAME:rita_serveert_2g_95_reminders
BEGIN:VTIMEZONE
TZID:Europe/Brussels
BEGIN:DAYLIGHT
DTSTART:20240331T010000
TZOFFSETFROM:+0100
TZOFFSETTO:+0200
END:DAYLIGHT
BEGIN:STANDARD
DTSTART:20241027T030000
TZOFFSETFROM:+0200
TZOFFSETTO:+0100
END:STANDARD
BEGIN:DAYLIGHT
DTSTART:20250330T010000
TZOFFSETFROM:+0100
TZOFFSETTO:+0200
END:DAYLIGHT
END:VTIMEZONE
BEGIN:VTIMEZONE
TZID:UTC
BEGIN:STANDARD
DTSTART:20250724T055128
TZOFFSETFROM:+0000
TZOFFSETTO:+0000
END:STANDARD
END:VTIMEZONE
BEGIN:VEVENT
UID:541D9693-BA5C-49F3-B354-186D1A701882-30-1323_homereminder@162.badminton
 ners.net
DTSTAMP:20260420T055128Z
SUMMARY:Thuismatch ingevuld? (Rita Serveert 2G (95) - Beerke 3G (91))
DESCRIPTION:Je hebt 36 uur na aanvang om een thuismatch op Badmintonvlaande
 ren in te vullen. Match info: Rita Serveert 2G (95) - Beerke 3G (91) - Lin
 k: https://www.badmintonvlaanderen.be/sport/teammatch.aspx?id=541D9693-BA5
 C-49F3-B354-186D1A701882&match=1323
DTSTART;TZID=Europe/Brussels:20240910T070000
DTEND;TZID=Europe/Brussels:20240910T070000
END:VEVENT
BEGIN:VEVENT
UID:541D9693-BA5C-49F3-B354-186D1A701882-30-1280_homereminder@162.badminton
 ners.net
DTSTAMP:20260420T055128Z
SUMMARY:Thuismatch ingevuld? (Rita Serveert 2G (95) - Zandhoven 2G (98))
DESCRIPTION:Je hebt 36 uur na aanvang om een thuismatch op Badmintonvlaande
 ren in te vullen. Match info: Rita Serveert 2G (95) - Zandhoven 2G (98) - 
 Link: https://www.badmintonvlaanderen.be/sport/teammatch.aspx?id=541D9693-
 BA5C-49F3-B354-186D1A701882&match=1280
DTSTART;TZID=Europe/Brussels:20241008T070000
DTEND;TZID=Europe/Brussels:20241008T070000
END:VEVENT
BEGIN:VEVENT
UID:541D9693-BA5C-49F3-B354-186D1A701882-30-1316_homereminder@162.badminton
 ners.net
DTSTAMP:20260420T055128Z
SUMMARY:Thuismatch ingevuld? (Rita Serveert 2G (95) - Klein Boom 3G (84))
DESCRIPTION:Je hebt 36 uur na aanvang om een thuismatch op Badmintonvlaande
 ren in te vullen. Match info: Rita Serveert 2G (95) - Klein Boom 3G (84) -
  Link: https://www.badmintonvlaanderen.be/sport/teammatch.aspx?id=541D9693
 -BA5C-49F3-B354-186D1A701882&match=1316
DTSTART;TZID=Europe/Brussels:20241119T070000
DTEND;TZID=Europe/Brussels:20241119T070000
END:VEVENT
BEGIN:VEVENT
UID:541D9693-BA5C-49F3-B354-186D1A701882-30-1302_homereminder@162.badminton
 ners.net
DTSTAMP:20260420T055128Z
SUMMARY:Thuismatch ingevuld? (Rita Serveert 2G (95) - Antverpino 1G (88))
DESCRIPTION:Je hebt 36 uur na aanvang om een thuismatch op Badmintonvlaande
 ren in te vullen. Match info: Rita Serveert 2G (95) - Antverpino 1G (88) -
  Link: https://www.badmintonvlaanderen.be/sport/teammatch.aspx?id=541D9693
 -BA5C-49F3-B354-186D1A701882&match=1302
DTSTART;TZID=Europe/Brussels:20241217T070000
DTEND;TZID=Europe/Brussels:20241217T070000
END:VEVENT
BEGIN:VEVENT
UID:541D9693-BA5C-49F3-B354-186D1A701882-30-1287_homereminder@162.badminton
 ners.net
DTSTAMP:20260420T055128Z
SUMMARY:Thuismatch ingevuld? (Rita Serveert 2G (95) - Zoersel 3G (93))
DESCRIPTION:Je hebt 36 uur na aanvang om een thuismatch op Badmintonvlaande
 ren in te vullen. Match info: Rita Serveert 2G (95) - Zoersel 3G (93) - Li
 nk: https://www.badmintonvlaanderen.be/sport/teammatch.aspx?id=541D9693-BA
 5C-49F3-B354-186D1A701882&match=1287
DTSTART;TZID=Europe/Brussels:20250128T070000
DTEND;TZID=Europe/Brussels:20250128T070000
END:VEVENT
BEGIN:VEVENT
UID:541D9693-BA5C-49F3-B354-186D1A701882-30-1309_homereminder@162.badminton
 ners.net
DTSTAMP:20260420T055128Z
SUMMARY:Thuismatch ingevuld? (Rita Serveert 2G (95) - Olmen Balen 1G (100))
DESCRIPTION:Je hebt 36 uur na aanvang om een thuismatch op Badmintonvlaande
 ren in te vullen. Match info: Rita Serveert 2G (95) - Olmen Balen 1G (100)
  - Link: https://www.badmintonvlaanderen.be/sport/teammatch.aspx?id=541D96
 93-BA5C-49F3-B354-186D1A701882&match=1309
DTSTART;TZID=Europe/Brussels:20250211T070000
DTEND;TZID=Europe/Brussels:20250211T070000
END:VEVENT
BEGIN:VEVENT
UID:541D9693-BA5C-49F3-B354-186D1A701882-30-1273_homereminder@162.badminton
 ners.net
DTSTAMP:20260420T055128Z
SUMMARY:Thuismatch ingevuld? (Rita Serveert 2G (95) - Spinshuttle 2G (90))
DESCRIPTION:Je hebt 36 uur na aanvang om een thuismatch op Badmintonvlaande
 ren in te vullen. Match info: Rita Serveert 2G (95) - Spinshuttle 2G (90) 
 - Link: https://www.badmintonvlaanderen.be/sport/teammatch.aspx?id=541D969
 3-BA5C-49F3-B354-186D1A701882&match=1273
DTSTART;TZID=Europe/Brussels:20250311T070000
DTEND;TZID=Europe/Brussels:20250311T070000
END:VEVENT
BEGIN:VEVENT
UID:541D9693-BA5C-49F3-B354-186D1A701882-30-1294_awayreminder@162.badminton
 ners.net
DTSTAMP:20260420T055128Z
SUMMARY:Uitmatch bevestigd? (Zoersel 3G (93) - Rita Serveert 2G (95))
DESCRIPTION:Je hebt 72 uur na aanvang om een uitmatch op Badmintonvlaandere
 n in te vullen. Match info: Zoersel 3G (93) - Rita Serveert 2G (95) - Link
 : https://www.badmintonvlaanderen.be/sport/teammatch.aspx?id=541D9693-BA5C
 -49F3-B354-186D1A701882&match=1294
DTSTART;TZID=Europe/Brussels:20240925T120000
DTEND;TZID=Europe/Brussels:20240925T120000
END:VEVENT
BEGIN:VEVENT
UID:541D9693-BA5C-49F3-B354-186D1A701882-30-1292_awayreminder@162.badminton
 ners.net
DTSTAMP:20260420T055128Z
SUMMARY:Uitmatch bevestigd? (Spinshuttle 2G (90) - Rita Serveert 2G (95))
DESCRIPTION:Je hebt 72 uur na aanvang om een uitmatch op Badmintonvlaandere
 n in te vullen. Match info: Spinshuttle 2G (90) - Rita Serveert 2G (95) - 
 Link: https://www.badmintonvlaanderen.be/sport/teammatch.aspx?id=541D9693-
 BA5C-49F3-B354-186D1A701882&match=1292
DTSTART;TZID=Europe/Brussels:20241018T200000
DTEND;TZID=Europe/Brussels:20241018T200000
END:VEVENT
BEGIN:VEVENT
UID:541D9693-BA5C-49F3-B354-186D1A701882-30-1296_awayreminder@162.badminton
 ners.net
DTSTAMP:20260420T055128Z
SUMMARY:Uitmatch bevestigd? (Olmen Balen 1G (100) - Rita Serveert 2G (95))
DESCRIPTION:Je hebt 72 uur na aanvang om een uitmatch op Badmintonvlaandere
 n in te vullen. Match info: Olmen Balen 1G (100) - Rita Serveert 2G (95) -
  Link: https://www.badmintonvlaanderen.be/sport/teammatch.aspx?id=541D9693
 -BA5C-49F3-B354-186D1A701882&match=1296
DTSTART;TZID=Europe/Brussels:20241204T190000
DTEND;TZID=Europe/Brussels:20241204T190000
END:VEVENT
BEGIN:VEVENT
UID:541D9693-BA5C-49F3-B354-186D1A701882-30-1298_awayreminder@162.badminton
 ners.net
DTSTAMP:20260420T055128Z
SUMMARY:Uitmatch bevestigd? (Beerke 3G (91) - Rita Serveert 2G (95))
DESCRIPTION:Je hebt 72 uur na aanvang om een uitmatch op Badmintonvlaandere
 n in te vullen. Match info: Beerke 3G (91) - Rita Serveert 2G (95) - Link:
  https://www.badmintonvlaanderen.be/sport/teammatch.aspx?id=541D9693-BA5C-
 49F3-B354-186D1A701882&match=1298
DTSTART;TZID=Europe/Brussels:20250115T100000
DTEND;TZID=Europe/Brussels:20250115T100000
END:VEVENT
BEGIN:VEVENT
UID:541D9693-BA5C-49F3-B354-186D1A701882-30-1297_awayreminder@162.badminton
 ners.net
DTSTAMP:20260420T055128Z
SUMMARY:Uitmatch bevestigd? (Klein Boom 3G (84) - Rita Serveert 2G (95))
DESCRIPTION:Je hebt 72 uur na aanvang om een uitmatch op Badmintonvlaandere
 n in te vullen. Match info: Klein Boom 3G (84) - Rita Serveert 2G (95) - L
 ink: https://www.badmintonvlaanderen.be/sport/teammatch.aspx?id=541D9693-B
 A5C-49F3-B354-186D1A701882&match=1297
DTSTART;TZID=Europe/Brussels:20250226T190000
DTEND;TZID=Europe/Brussels:20250226T190000
END:VEVENT
BEGIN:VEVENT
UID:541D9693-BA5C-49F3-B354-186D1A701882-30-1293_awayreminder@162.badminton
 ners.net
DTSTAMP:20260420T055128Z
SUMMARY:Uitmatch bevestigd? (Zandhoven 2G (98) - Rita Serveert 2G (95))
DESCRIPTION:Je hebt 72 uur na aanvang om een uitmatch op Badmintonvlaandere
 n in te vullen. Match info: Zandhoven 2G (98) - Rita Serveert 2G (95) - Li
 nk: https://www.badmintonvlaanderen.be/sport/teammatch.aspx?id=541D9693-BA
 5C-49F3-B354-186D1A701882&match=1293
DTSTART;TZID=Europe/Brussels:20250320T200000
DTEND;TZID=Europe/Brussels:20250320T200000
END:VEVENT
BEGIN:VEVENT
UID:541D9693-BA5C-49F3-B354-186D1A701882-30-1295_awayreminder@162.badminton
 ners.net
DTSTAMP:20260420T055128Z
SUMMARY:Uitmatch bevestigd? (Antverpino 1G (88) - Rita Serveert 2G (95))
DESCRIPTION:Je hebt 72 uur na aanvang om een uitmatch op Badmintonvlaandere
 n in te vullen. Match info: Antverpino 1G (88) - Rita Serveert 2G (95) - L
 ink: https://www.badmintonvlaanderen.be/sport/teammatch.aspx?id=541D9693-B
 A5C-49F3-B354-186D1A701882&match=1295
DTSTART;TZID=Europe/Brussels:20250405T203000
DTEND;TZID=Europe/Brussels:20250405T203000
END:VEVENT
END:VCALENDAR