BEGIN:VCALENDAR
VERSION:2.0
PRODID:spatie/icalendar-generator
NAME:zoersel_3g_93_reminders
X-WR-CALNAME:zoersel_3g_93_reminders
BEGIN:VTIMEZONE
TZID:Europe/Brussels
BEGIN:DAYLIGHT
DTSTART:20240331T010000
TZOFFSETFROM:+0100
TZOFFSETTO:+0200
END:DAYLIGHT
BEGIN:STANDARD
DTSTART:20241027T030000
TZOFFSETFROM:+0200
TZOFFSETTO:+0100
END:STANDARD
BEGIN:DAYLIGHT
DTSTART:20250330T010000
TZOFFSETFROM:+0100
TZOFFSETTO:+0200
END:DAYLIGHT
END:VTIMEZONE
BEGIN:VTIMEZONE
TZID:UTC
BEGIN:STANDARD
DTSTART:20250724T055216
TZOFFSETFROM:+0000
TZOFFSETTO:+0000
END:STANDARD
END:VTIMEZONE
BEGIN:VEVENT
UID:541D9693-BA5C-49F3-B354-186D1A701882-30-1294_homereminder@163.badminton
 ners.net
DTSTAMP:20260420T055216Z
SUMMARY:Thuismatch ingevuld? (Zoersel 3G (93) - Rita Serveert 2G (95))
DESCRIPTION:Je hebt 36 uur na aanvang om een thuismatch op Badmintonvlaande
 ren in te vullen. Match info: Zoersel 3G (93) - Rita Serveert 2G (95) - Li
 nk: https://www.badmintonvlaanderen.be/sport/teammatch.aspx?id=541D9693-BA
 5C-49F3-B354-186D1A701882&match=1294
DTSTART;TZID=Europe/Brussels:20240924T000000
DTEND;TZID=Europe/Brussels:20240924T000000
END:VEVENT
BEGIN:VEVENT
UID:541D9693-BA5C-49F3-B354-186D1A701882-30-1322_homereminder@163.badminton
 ners.net
DTSTAMP:20260420T055216Z
SUMMARY:Thuismatch ingevuld? (Zoersel 3G (93) - Beerke 3G (91))
DESCRIPTION:Je hebt 36 uur na aanvang om een thuismatch op Badmintonvlaande
 ren in te vullen. Match info: Zoersel 3G (93) - Beerke 3G (91) - Link: htt
 ps://www.badmintonvlaanderen.be/sport/teammatch.aspx?id=541D9693-BA5C-49F3
 -B354-186D1A701882&match=1322
DTSTART;TZID=Europe/Brussels:20241008T000000
DTEND;TZID=Europe/Brussels:20241008T000000
END:VEVENT
BEGIN:VEVENT
UID:541D9693-BA5C-49F3-B354-186D1A701882-30-1272_homereminder@163.badminton
 ners.net
DTSTAMP:20260420T055216Z
SUMMARY:Thuismatch ingevuld? (Zoersel 3G (93) - Spinshuttle 2G (90))
DESCRIPTION:Je hebt 36 uur na aanvang om een thuismatch op Badmintonvlaande
 ren in te vullen. Match info: Zoersel 3G (93) - Spinshuttle 2G (90) - Link
 : https://www.badmintonvlaanderen.be/sport/teammatch.aspx?id=541D9693-BA5C
 -49F3-B354-186D1A701882&match=1272
DTSTART;TZID=Europe/Brussels:20241119T000000
DTEND;TZID=Europe/Brussels:20241119T000000
END:VEVENT
BEGIN:VEVENT
UID:541D9693-BA5C-49F3-B354-186D1A701882-30-1308_homereminder@163.badminton
 ners.net
DTSTAMP:20260420T055216Z
SUMMARY:Thuismatch ingevuld? (Zoersel 3G (93) - Olmen Balen 1G (100))
DESCRIPTION:Je hebt 36 uur na aanvang om een thuismatch op Badmintonvlaande
 ren in te vullen. Match info: Zoersel 3G (93) - Olmen Balen 1G (100) - Lin
 k: https://www.badmintonvlaanderen.be/sport/teammatch.aspx?id=541D9693-BA5
 C-49F3-B354-186D1A701882&match=1308
DTSTART;TZID=Europe/Brussels:20241231T000000
DTEND;TZID=Europe/Brussels:20241231T000000
END:VEVENT
BEGIN:VEVENT
UID:541D9693-BA5C-49F3-B354-186D1A701882-30-1301_homereminder@163.badminton
 ners.net
DTSTAMP:20260420T055216Z
SUMMARY:Thuismatch ingevuld? (Zoersel 3G (93) - Antverpino 1G (88))
DESCRIPTION:Je hebt 36 uur na aanvang om een thuismatch op Badmintonvlaande
 ren in te vullen. Match info: Zoersel 3G (93) - Antverpino 1G (88) - Link:
  https://www.badmintonvlaanderen.be/sport/teammatch.aspx?id=541D9693-BA5C-
 49F3-B354-186D1A701882&match=1301
DTSTART;TZID=Europe/Brussels:20250114T000000
DTEND;TZID=Europe/Brussels:20250114T000000
END:VEVENT
BEGIN:VEVENT
UID:541D9693-BA5C-49F3-B354-186D1A701882-30-1315_homereminder@163.badminton
 ners.net
DTSTAMP:20260420T055216Z
SUMMARY:Thuismatch ingevuld? (Zoersel 3G (93) - Klein Boom 3G (84))
DESCRIPTION:Je hebt 36 uur na aanvang om een thuismatch op Badmintonvlaande
 ren in te vullen. Match info: Zoersel 3G (93) - Klein Boom 3G (84) - Link:
  https://www.badmintonvlaanderen.be/sport/teammatch.aspx?id=541D9693-BA5C-
 49F3-B354-186D1A701882&match=1315
DTSTART;TZID=Europe/Brussels:20250211T000000
DTEND;TZID=Europe/Brussels:20250211T000000
END:VEVENT
BEGIN:VEVENT
UID:541D9693-BA5C-49F3-B354-186D1A701882-30-1279_homereminder@163.badminton
 ners.net
DTSTAMP:20260420T055216Z
SUMMARY:Thuismatch ingevuld? (Zoersel 3G (93) - Zandhoven 2G (98))
DESCRIPTION:Je hebt 36 uur na aanvang om een thuismatch op Badmintonvlaande
 ren in te vullen. Match info: Zoersel 3G (93) - Zandhoven 2G (98) - Link: 
 https://www.badmintonvlaanderen.be/sport/teammatch.aspx?id=541D9693-BA5C-4
 9F3-B354-186D1A701882&match=1279
DTSTART;TZID=Europe/Brussels:20250311T000000
DTEND;TZID=Europe/Brussels:20250311T000000
END:VEVENT
BEGIN:VEVENT
UID:541D9693-BA5C-49F3-B354-186D1A701882-30-1288_awayreminder@163.badminton
 ners.net
DTSTAMP:20260420T055216Z
SUMMARY:Uitmatch bevestigd? (Antverpino 1G (88) - Zoersel 3G (93))
DESCRIPTION:Je hebt 72 uur na aanvang om een uitmatch op Badmintonvlaandere
 n in te vullen. Match info: Antverpino 1G (88) - Zoersel 3G (93) - Link: h
 ttps://www.badmintonvlaanderen.be/sport/teammatch.aspx?id=541D9693-BA5C-49
 F3-B354-186D1A701882&match=1288
DTSTART;TZID=Europe/Brussels:20240907T203000
DTEND;TZID=Europe/Brussels:20240907T203000
END:VEVENT
BEGIN:VEVENT
UID:541D9693-BA5C-49F3-B354-186D1A701882-30-1286_awayreminder@163.badminton
 ners.net
DTSTAMP:20260420T055216Z
SUMMARY:Uitmatch bevestigd? (Zandhoven 2G (98) - Zoersel 3G (93))
DESCRIPTION:Je hebt 72 uur na aanvang om een uitmatch op Badmintonvlaandere
 n in te vullen. Match info: Zandhoven 2G (98) - Zoersel 3G (93) - Link: ht
 tps://www.badmintonvlaanderen.be/sport/teammatch.aspx?id=541D9693-BA5C-49F
 3-B354-186D1A701882&match=1286
DTSTART;TZID=Europe/Brussels:20241017T200000
DTEND;TZID=Europe/Brussels:20241017T200000
END:VEVENT
BEGIN:VEVENT
UID:541D9693-BA5C-49F3-B354-186D1A701882-30-1290_awayreminder@163.badminton
 ners.net
DTSTAMP:20260420T055216Z
SUMMARY:Uitmatch bevestigd? (Klein Boom 3G (84) - Zoersel 3G (93))
DESCRIPTION:Je hebt 72 uur na aanvang om een uitmatch op Badmintonvlaandere
 n in te vullen. Match info: Klein Boom 3G (84) - Zoersel 3G (93) - Link: h
 ttps://www.badmintonvlaanderen.be/sport/teammatch.aspx?id=541D9693-BA5C-49
 F3-B354-186D1A701882&match=1290
DTSTART;TZID=Europe/Brussels:20241204T190000
DTEND;TZID=Europe/Brussels:20241204T190000
END:VEVENT
BEGIN:VEVENT
UID:541D9693-BA5C-49F3-B354-186D1A701882-30-1287_awayreminder@163.badminton
 ners.net
DTSTAMP:20260420T055216Z
SUMMARY:Uitmatch bevestigd? (Rita Serveert 2G (95) - Zoersel 3G (93))
DESCRIPTION:Je hebt 72 uur na aanvang om een uitmatch op Badmintonvlaandere
 n in te vullen. Match info: Rita Serveert 2G (95) - Zoersel 3G (93) - Link
 : https://www.badmintonvlaanderen.be/sport/teammatch.aspx?id=541D9693-BA5C
 -49F3-B354-186D1A701882&match=1287
DTSTART;TZID=Europe/Brussels:20250129T190000
DTEND;TZID=Europe/Brussels:20250129T190000
END:VEVENT
BEGIN:VEVENT
UID:541D9693-BA5C-49F3-B354-186D1A701882-30-1289_awayreminder@163.badminton
 ners.net
DTSTAMP:20260420T055216Z
SUMMARY:Uitmatch bevestigd? (Olmen Balen 1G (100) - Zoersel 3G (93))
DESCRIPTION:Je hebt 72 uur na aanvang om een uitmatch op Badmintonvlaandere
 n in te vullen. Match info: Olmen Balen 1G (100) - Zoersel 3G (93) - Link:
  https://www.badmintonvlaanderen.be/sport/teammatch.aspx?id=541D9693-BA5C-
 49F3-B354-186D1A701882&match=1289
DTSTART;TZID=Europe/Brussels:20250205T190000
DTEND;TZID=Europe/Brussels:20250205T190000
END:VEVENT
BEGIN:VEVENT
UID:541D9693-BA5C-49F3-B354-186D1A701882-30-1285_awayreminder@163.badminton
 ners.net
DTSTAMP:20260420T055216Z
SUMMARY:Uitmatch bevestigd? (Spinshuttle 2G (90) - Zoersel 3G (93))
DESCRIPTION:Je hebt 72 uur na aanvang om een uitmatch op Badmintonvlaandere
 n in te vullen. Match info: Spinshuttle 2G (90) - Zoersel 3G (93) - Link: 
 https://www.badmintonvlaanderen.be/sport/teammatch.aspx?id=541D9693-BA5C-4
 9F3-B354-186D1A701882&match=1285
DTSTART;TZID=Europe/Brussels:20250221T200000
DTEND;TZID=Europe/Brussels:20250221T200000
END:VEVENT
BEGIN:VEVENT
UID:541D9693-BA5C-49F3-B354-186D1A701882-30-1291_awayreminder@163.badminton
 ners.net
DTSTAMP:20260420T055216Z
SUMMARY:Uitmatch bevestigd? (Beerke 3G (91) - Zoersel 3G (93))
DESCRIPTION:Je hebt 72 uur na aanvang om een uitmatch op Badmintonvlaandere
 n in te vullen. Match info: Beerke 3G (91) - Zoersel 3G (93) - Link: https
 ://www.badmintonvlaanderen.be/sport/teammatch.aspx?id=541D9693-BA5C-49F3-B
 354-186D1A701882&match=1291
DTSTART;TZID=Europe/Brussels:20250326T100000
DTEND;TZID=Europe/Brussels:20250326T100000
END:VEVENT
END:VCALENDAR