BEGIN:VCALENDAR
VERSION:2.0
PRODID:spatie/icalendar-generator
NAME:olmen_balen_1g_100_reminders
X-WR-CALNAME:olmen_balen_1g_100_reminders
BEGIN:VTIMEZONE
TZID:Europe/Brussels
BEGIN:DAYLIGHT
DTSTART:20240331T010000
TZOFFSETFROM:+0100
TZOFFSETTO:+0200
END:DAYLIGHT
BEGIN:STANDARD
DTSTART:20241027T030000
TZOFFSETFROM:+0200
TZOFFSETTO:+0100
END:STANDARD
BEGIN:DAYLIGHT
DTSTART:20250330T010000
TZOFFSETFROM:+0100
TZOFFSETTO:+0200
END:DAYLIGHT
END:VTIMEZONE
BEGIN:VTIMEZONE
TZID:UTC
BEGIN:STANDARD
DTSTART:20250724T072404
TZOFFSETFROM:+0000
TZOFFSETTO:+0000
END:STANDARD
END:VTIMEZONE
BEGIN:VEVENT
UID:541D9693-BA5C-49F3-B354-186D1A701882-30-1318_homereminder@164.badminton
 ners.net
DTSTAMP:20260420T072404Z
SUMMARY:Thuismatch ingevuld? (Olmen Balen 1G (100) - Klein Boom 3G (84))
DESCRIPTION:Je hebt 36 uur na aanvang om een thuismatch op Badmintonvlaande
 ren in te vullen. Match info: Olmen Balen 1G (100) - Klein Boom 3G (84) - 
 Link: https://www.badmintonvlaanderen.be/sport/teammatch.aspx?id=541D9693-
 BA5C-49F3-B354-186D1A701882&match=1318
DTSTART;TZID=Europe/Brussels:20241008T070000
DTEND;TZID=Europe/Brussels:20241008T070000
END:VEVENT
BEGIN:VEVENT
UID:541D9693-BA5C-49F3-B354-186D1A701882-30-1296_homereminder@164.badminton
 ners.net
DTSTAMP:20260420T072404Z
SUMMARY:Thuismatch ingevuld? (Olmen Balen 1G (100) - Rita Serveert 2G (95))
DESCRIPTION:Je hebt 36 uur na aanvang om een thuismatch op Badmintonvlaande
 ren in te vullen. Match info: Olmen Balen 1G (100) - Rita Serveert 2G (95)
  - Link: https://www.badmintonvlaanderen.be/sport/teammatch.aspx?id=541D96
 93-BA5C-49F3-B354-186D1A701882&match=1296
DTSTART;TZID=Europe/Brussels:20241203T070000
DTEND;TZID=Europe/Brussels:20241203T070000
END:VEVENT
BEGIN:VEVENT
UID:541D9693-BA5C-49F3-B354-186D1A701882-30-1282_homereminder@164.badminton
 ners.net
DTSTAMP:20260420T072404Z
SUMMARY:Thuismatch ingevuld? (Olmen Balen 1G (100) - Zandhoven 2G (98))
DESCRIPTION:Je hebt 36 uur na aanvang om een thuismatch op Badmintonvlaande
 ren in te vullen. Match info: Olmen Balen 1G (100) - Zandhoven 2G (98) - L
 ink: https://www.badmintonvlaanderen.be/sport/teammatch.aspx?id=541D9693-B
 A5C-49F3-B354-186D1A701882&match=1282
DTSTART;TZID=Europe/Brussels:20241224T070000
DTEND;TZID=Europe/Brussels:20241224T070000
END:VEVENT
BEGIN:VEVENT
UID:541D9693-BA5C-49F3-B354-186D1A701882-30-1289_homereminder@164.badminton
 ners.net
DTSTAMP:20260420T072404Z
SUMMARY:Thuismatch ingevuld? (Olmen Balen 1G (100) - Zoersel 3G (93))
DESCRIPTION:Je hebt 36 uur na aanvang om een thuismatch op Badmintonvlaande
 ren in te vullen. Match info: Olmen Balen 1G (100) - Zoersel 3G (93) - Lin
 k: https://www.badmintonvlaanderen.be/sport/teammatch.aspx?id=541D9693-BA5
 C-49F3-B354-186D1A701882&match=1289
DTSTART;TZID=Europe/Brussels:20250204T070000
DTEND;TZID=Europe/Brussels:20250204T070000
END:VEVENT
BEGIN:VEVENT
UID:541D9693-BA5C-49F3-B354-186D1A701882-30-1275_homereminder@164.badminton
 ners.net
DTSTAMP:20260420T072404Z
SUMMARY:Thuismatch ingevuld? (Olmen Balen 1G (100) - Spinshuttle 2G (90))
DESCRIPTION:Je hebt 36 uur na aanvang om een thuismatch op Badmintonvlaande
 ren in te vullen. Match info: Olmen Balen 1G (100) - Spinshuttle 2G (90) -
  Link: https://www.badmintonvlaanderen.be/sport/teammatch.aspx?id=541D9693
 -BA5C-49F3-B354-186D1A701882&match=1275
DTSTART;TZID=Europe/Brussels:20250218T070000
DTEND;TZID=Europe/Brussels:20250218T070000
END:VEVENT
BEGIN:VEVENT
UID:541D9693-BA5C-49F3-B354-186D1A701882-30-1303_homereminder@164.badminton
 ners.net
DTSTAMP:20260420T072404Z
SUMMARY:Thuismatch ingevuld? (Olmen Balen 1G (100) - Antverpino 1G (88))
DESCRIPTION:Je hebt 36 uur na aanvang om een thuismatch op Badmintonvlaande
 ren in te vullen. Match info: Olmen Balen 1G (100) - Antverpino 1G (88) - 
 Link: https://www.badmintonvlaanderen.be/sport/teammatch.aspx?id=541D9693-
 BA5C-49F3-B354-186D1A701882&match=1303
DTSTART;TZID=Europe/Brussels:20250225T070000
DTEND;TZID=Europe/Brussels:20250225T070000
END:VEVENT
BEGIN:VEVENT
UID:541D9693-BA5C-49F3-B354-186D1A701882-30-1325_homereminder@164.badminton
 ners.net
DTSTAMP:20260420T072404Z
SUMMARY:Thuismatch ingevuld? (Olmen Balen 1G (100) - Beerke 3G (91))
DESCRIPTION:Je hebt 36 uur na aanvang om een thuismatch op Badmintonvlaande
 ren in te vullen. Match info: Olmen Balen 1G (100) - Beerke 3G (91) - Link
 : https://www.badmintonvlaanderen.be/sport/teammatch.aspx?id=541D9693-BA5C
 -49F3-B354-186D1A701882&match=1325
DTSTART;TZID=Europe/Brussels:20250311T070000
DTEND;TZID=Europe/Brussels:20250311T070000
END:VEVENT
BEGIN:VEVENT
UID:541D9693-BA5C-49F3-B354-186D1A701882-30-1312_awayreminder@164.badminton
 ners.net
DTSTAMP:20260420T072404Z
SUMMARY:Uitmatch bevestigd? (Beerke 3G (91) - Olmen Balen 1G (100))
DESCRIPTION:Je hebt 72 uur na aanvang om een uitmatch op Badmintonvlaandere
 n in te vullen. Match info: Beerke 3G (91) - Olmen Balen 1G (100) - Link: 
 https://www.badmintonvlaanderen.be/sport/teammatch.aspx?id=541D9693-BA5C-4
 9F3-B354-186D1A701882&match=1312
DTSTART;TZID=Europe/Brussels:20241023T100000
DTEND;TZID=Europe/Brussels:20241023T100000
END:VEVENT
BEGIN:VEVENT
UID:541D9693-BA5C-49F3-B354-186D1A701882-30-1306_awayreminder@164.badminton
 ners.net
DTSTAMP:20260420T072404Z
SUMMARY:Uitmatch bevestigd? (Spinshuttle 2G (90) - Olmen Balen 1G (100))
DESCRIPTION:Je hebt 72 uur na aanvang om een uitmatch op Badmintonvlaandere
 n in te vullen. Match info: Spinshuttle 2G (90) - Olmen Balen 1G (100) - L
 ink: https://www.badmintonvlaanderen.be/sport/teammatch.aspx?id=541D9693-B
 A5C-49F3-B354-186D1A701882&match=1306
DTSTART;TZID=Europe/Brussels:20241101T200000
DTEND;TZID=Europe/Brussels:20241101T200000
END:VEVENT
BEGIN:VEVENT
UID:541D9693-BA5C-49F3-B354-186D1A701882-30-1310_awayreminder@164.badminton
 ners.net
DTSTAMP:20260420T072404Z
SUMMARY:Uitmatch bevestigd? (Antverpino 1G (88) - Olmen Balen 1G (100))
DESCRIPTION:Je hebt 72 uur na aanvang om een uitmatch op Badmintonvlaandere
 n in te vullen. Match info: Antverpino 1G (88) - Olmen Balen 1G (100) - Li
 nk: https://www.badmintonvlaanderen.be/sport/teammatch.aspx?id=541D9693-BA
 5C-49F3-B354-186D1A701882&match=1310
DTSTART;TZID=Europe/Brussels:20241214T203000
DTEND;TZID=Europe/Brussels:20241214T203000
END:VEVENT
BEGIN:VEVENT
UID:541D9693-BA5C-49F3-B354-186D1A701882-30-1308_awayreminder@164.badminton
 ners.net
DTSTAMP:20260420T072404Z
SUMMARY:Uitmatch bevestigd? (Zoersel 3G (93) - Olmen Balen 1G (100))
DESCRIPTION:Je hebt 72 uur na aanvang om een uitmatch op Badmintonvlaandere
 n in te vullen. Match info: Zoersel 3G (93) - Olmen Balen 1G (100) - Link:
  https://www.badmintonvlaanderen.be/sport/teammatch.aspx?id=541D9693-BA5C-
 49F3-B354-186D1A701882&match=1308
DTSTART;TZID=Europe/Brussels:20250101T120000
DTEND;TZID=Europe/Brussels:20250101T120000
END:VEVENT
BEGIN:VEVENT
UID:541D9693-BA5C-49F3-B354-186D1A701882-30-1307_awayreminder@164.badminton
 ners.net
DTSTAMP:20260420T072404Z
SUMMARY:Uitmatch bevestigd? (Zandhoven 2G (98) - Olmen Balen 1G (100))
DESCRIPTION:Je hebt 72 uur na aanvang om een uitmatch op Badmintonvlaandere
 n in te vullen. Match info: Zandhoven 2G (98) - Olmen Balen 1G (100) - Lin
 k: https://www.badmintonvlaanderen.be/sport/teammatch.aspx?id=541D9693-BA5
 C-49F3-B354-186D1A701882&match=1307
DTSTART;TZID=Europe/Brussels:20250109T200000
DTEND;TZID=Europe/Brussels:20250109T200000
END:VEVENT
BEGIN:VEVENT
UID:541D9693-BA5C-49F3-B354-186D1A701882-30-1309_awayreminder@164.badminton
 ners.net
DTSTAMP:20260420T072404Z
SUMMARY:Uitmatch bevestigd? (Rita Serveert 2G (95) - Olmen Balen 1G (100))
DESCRIPTION:Je hebt 72 uur na aanvang om een uitmatch op Badmintonvlaandere
 n in te vullen. Match info: Rita Serveert 2G (95) - Olmen Balen 1G (100) -
  Link: https://www.badmintonvlaanderen.be/sport/teammatch.aspx?id=541D9693
 -BA5C-49F3-B354-186D1A701882&match=1309
DTSTART;TZID=Europe/Brussels:20250212T190000
DTEND;TZID=Europe/Brussels:20250212T190000
END:VEVENT
BEGIN:VEVENT
UID:541D9693-BA5C-49F3-B354-186D1A701882-30-1311_awayreminder@164.badminton
 ners.net
DTSTAMP:20260420T072404Z
SUMMARY:Uitmatch bevestigd? (Klein Boom 3G (84) - Olmen Balen 1G (100))
DESCRIPTION:Je hebt 72 uur na aanvang om een uitmatch op Badmintonvlaandere
 n in te vullen. Match info: Klein Boom 3G (84) - Olmen Balen 1G (100) - Li
 nk: https://www.badmintonvlaanderen.be/sport/teammatch.aspx?id=541D9693-BA
 5C-49F3-B354-186D1A701882&match=1311
DTSTART;TZID=Europe/Brussels:20250326T190000
DTEND;TZID=Europe/Brussels:20250326T190000
END:VEVENT
END:VCALENDAR