BEGIN:VCALENDAR
VERSION:2.0
PRODID:spatie/icalendar-generator
NAME:antverpino_1g_88_reminders
X-WR-CALNAME:antverpino_1g_88_reminders
BEGIN:VTIMEZONE
TZID:Europe/Brussels
BEGIN:DAYLIGHT
DTSTART:20240331T010000
TZOFFSETFROM:+0100
TZOFFSETTO:+0200
END:DAYLIGHT
BEGIN:STANDARD
DTSTART:20241027T030000
TZOFFSETFROM:+0200
TZOFFSETTO:+0100
END:STANDARD
BEGIN:DAYLIGHT
DTSTART:20250330T010000
TZOFFSETFROM:+0100
TZOFFSETTO:+0200
END:DAYLIGHT
END:VTIMEZONE
BEGIN:VTIMEZONE
TZID:UTC
BEGIN:STANDARD
DTSTART:20250724T072408
TZOFFSETFROM:+0000
TZOFFSETTO:+0000
END:STANDARD
END:VTIMEZONE
BEGIN:VEVENT
UID:541D9693-BA5C-49F3-B354-186D1A701882-30-1288_homereminder@165.badminton
 ners.net
DTSTAMP:20260420T072408Z
SUMMARY:Thuismatch ingevuld? (Antverpino 1G (88) - Zoersel 3G (93))
DESCRIPTION:Je hebt 36 uur na aanvang om een thuismatch op Badmintonvlaande
 ren in te vullen. Match info: Antverpino 1G (88) - Zoersel 3G (93) - Link:
  https://www.badmintonvlaanderen.be/sport/teammatch.aspx?id=541D9693-BA5C-
 49F3-B354-186D1A701882&match=1288
DTSTART;TZID=Europe/Brussels:20240906T083000
DTEND;TZID=Europe/Brussels:20240906T083000
END:VEVENT
BEGIN:VEVENT
UID:541D9693-BA5C-49F3-B354-186D1A701882-30-1274_homereminder@165.badminton
 ners.net
DTSTAMP:20260420T072408Z
SUMMARY:Thuismatch ingevuld? (Antverpino 1G (88) - Spinshuttle 2G (90))
DESCRIPTION:Je hebt 36 uur na aanvang om een thuismatch op Badmintonvlaande
 ren in te vullen. Match info: Antverpino 1G (88) - Spinshuttle 2G (90) - L
 ink: https://www.badmintonvlaanderen.be/sport/teammatch.aspx?id=541D9693-B
 A5C-49F3-B354-186D1A701882&match=1274
DTSTART;TZID=Europe/Brussels:20241004T083000
DTEND;TZID=Europe/Brussels:20241004T083000
END:VEVENT
BEGIN:VEVENT
UID:541D9693-BA5C-49F3-B354-186D1A701882-30-1310_homereminder@165.badminton
 ners.net
DTSTAMP:20260420T072408Z
SUMMARY:Thuismatch ingevuld? (Antverpino 1G (88) - Olmen Balen 1G (100))
DESCRIPTION:Je hebt 36 uur na aanvang om een thuismatch op Badmintonvlaande
 ren in te vullen. Match info: Antverpino 1G (88) - Olmen Balen 1G (100) - 
 Link: https://www.badmintonvlaanderen.be/sport/teammatch.aspx?id=541D9693-
 BA5C-49F3-B354-186D1A701882&match=1310
DTSTART;TZID=Europe/Brussels:20241213T083000
DTEND;TZID=Europe/Brussels:20241213T083000
END:VEVENT
BEGIN:VEVENT
UID:541D9693-BA5C-49F3-B354-186D1A701882-30-1281_homereminder@165.badminton
 ners.net
DTSTAMP:20260420T072408Z
SUMMARY:Thuismatch ingevuld? (Antverpino 1G (88) - Zandhoven 2G (98))
DESCRIPTION:Je hebt 36 uur na aanvang om een thuismatch op Badmintonvlaande
 ren in te vullen. Match info: Antverpino 1G (88) - Zandhoven 2G (98) - Lin
 k: https://www.badmintonvlaanderen.be/sport/teammatch.aspx?id=541D9693-BA5
 C-49F3-B354-186D1A701882&match=1281
DTSTART;TZID=Europe/Brussels:20250124T083000
DTEND;TZID=Europe/Brussels:20250124T083000
END:VEVENT
BEGIN:VEVENT
UID:541D9693-BA5C-49F3-B354-186D1A701882-30-1324_homereminder@165.badminton
 ners.net
DTSTAMP:20260420T072408Z
SUMMARY:Thuismatch ingevuld? (Antverpino 1G (88) - Beerke 3G (91))
DESCRIPTION:Je hebt 36 uur na aanvang om een thuismatch op Badmintonvlaande
 ren in te vullen. Match info: Antverpino 1G (88) - Beerke 3G (91) - Link: 
 https://www.badmintonvlaanderen.be/sport/teammatch.aspx?id=541D9693-BA5C-4
 9F3-B354-186D1A701882&match=1324
DTSTART;TZID=Europe/Brussels:20250214T083000
DTEND;TZID=Europe/Brussels:20250214T083000
END:VEVENT
BEGIN:VEVENT
UID:541D9693-BA5C-49F3-B354-186D1A701882-30-1317_homereminder@165.badminton
 ners.net
DTSTAMP:20260420T072408Z
SUMMARY:Thuismatch ingevuld? (Antverpino 1G (88) - Klein Boom 3G (84))
DESCRIPTION:Je hebt 36 uur na aanvang om een thuismatch op Badmintonvlaande
 ren in te vullen. Match info: Antverpino 1G (88) - Klein Boom 3G (84) - Li
 nk: https://www.badmintonvlaanderen.be/sport/teammatch.aspx?id=541D9693-BA
 5C-49F3-B354-186D1A701882&match=1317
DTSTART;TZID=Europe/Brussels:20250307T083000
DTEND;TZID=Europe/Brussels:20250307T083000
END:VEVENT
BEGIN:VEVENT
UID:541D9693-BA5C-49F3-B354-186D1A701882-30-1295_homereminder@165.badminton
 ners.net
DTSTAMP:20260420T072408Z
SUMMARY:Thuismatch ingevuld? (Antverpino 1G (88) - Rita Serveert 2G (95))
DESCRIPTION:Je hebt 36 uur na aanvang om een thuismatch op Badmintonvlaande
 ren in te vullen. Match info: Antverpino 1G (88) - Rita Serveert 2G (95) -
  Link: https://www.badmintonvlaanderen.be/sport/teammatch.aspx?id=541D9693
 -BA5C-49F3-B354-186D1A701882&match=1295
DTSTART;TZID=Europe/Brussels:20250404T083000
DTEND;TZID=Europe/Brussels:20250404T083000
END:VEVENT
BEGIN:VEVENT
UID:541D9693-BA5C-49F3-B354-186D1A701882-30-1300_awayreminder@165.badminton
 ners.net
DTSTAMP:20260420T072408Z
SUMMARY:Uitmatch bevestigd? (Zandhoven 2G (98) - Antverpino 1G (88))
DESCRIPTION:Je hebt 72 uur na aanvang om een uitmatch op Badmintonvlaandere
 n in te vullen. Match info: Zandhoven 2G (98) - Antverpino 1G (88) - Link:
  https://www.badmintonvlaanderen.be/sport/teammatch.aspx?id=541D9693-BA5C-
 49F3-B354-186D1A701882&match=1300
DTSTART;TZID=Europe/Brussels:20240919T200000
DTEND;TZID=Europe/Brussels:20240919T200000
END:VEVENT
BEGIN:VEVENT
UID:541D9693-BA5C-49F3-B354-186D1A701882-30-1304_awayreminder@165.badminton
 ners.net
DTSTAMP:20260420T072408Z
SUMMARY:Uitmatch bevestigd? (Klein Boom 3G (84) - Antverpino 1G (88))
DESCRIPTION:Je hebt 72 uur na aanvang om een uitmatch op Badmintonvlaandere
 n in te vullen. Match info: Klein Boom 3G (84) - Antverpino 1G (88) - Link
 : https://www.badmintonvlaanderen.be/sport/teammatch.aspx?id=541D9693-BA5C
 -49F3-B354-186D1A701882&match=1304
DTSTART;TZID=Europe/Brussels:20241023T190000
DTEND;TZID=Europe/Brussels:20241023T190000
END:VEVENT
BEGIN:VEVENT
UID:541D9693-BA5C-49F3-B354-186D1A701882-30-1305_awayreminder@165.badminton
 ners.net
DTSTAMP:20260420T072408Z
SUMMARY:Uitmatch bevestigd? (Beerke 3G (91) - Antverpino 1G (88))
DESCRIPTION:Je hebt 72 uur na aanvang om een uitmatch op Badmintonvlaandere
 n in te vullen. Match info: Beerke 3G (91) - Antverpino 1G (88) - Link: ht
 tps://www.badmintonvlaanderen.be/sport/teammatch.aspx?id=541D9693-BA5C-49F
 3-B354-186D1A701882&match=1305
DTSTART;TZID=Europe/Brussels:20241120T100000
DTEND;TZID=Europe/Brussels:20241120T100000
END:VEVENT
BEGIN:VEVENT
UID:541D9693-BA5C-49F3-B354-186D1A701882-30-1302_awayreminder@165.badminton
 ners.net
DTSTAMP:20260420T072408Z
SUMMARY:Uitmatch bevestigd? (Rita Serveert 2G (95) - Antverpino 1G (88))
DESCRIPTION:Je hebt 72 uur na aanvang om een uitmatch op Badmintonvlaandere
 n in te vullen. Match info: Rita Serveert 2G (95) - Antverpino 1G (88) - L
 ink: https://www.badmintonvlaanderen.be/sport/teammatch.aspx?id=541D9693-B
 A5C-49F3-B354-186D1A701882&match=1302
DTSTART;TZID=Europe/Brussels:20241218T190000
DTEND;TZID=Europe/Brussels:20241218T190000
END:VEVENT
BEGIN:VEVENT
UID:541D9693-BA5C-49F3-B354-186D1A701882-30-1301_awayreminder@165.badminton
 ners.net
DTSTAMP:20260420T072408Z
SUMMARY:Uitmatch bevestigd? (Zoersel 3G (93) - Antverpino 1G (88))
DESCRIPTION:Je hebt 72 uur na aanvang om een uitmatch op Badmintonvlaandere
 n in te vullen. Match info: Zoersel 3G (93) - Antverpino 1G (88) - Link: h
 ttps://www.badmintonvlaanderen.be/sport/teammatch.aspx?id=541D9693-BA5C-49
 F3-B354-186D1A701882&match=1301
DTSTART;TZID=Europe/Brussels:20250115T120000
DTEND;TZID=Europe/Brussels:20250115T120000
END:VEVENT
BEGIN:VEVENT
UID:541D9693-BA5C-49F3-B354-186D1A701882-30-1303_awayreminder@165.badminton
 ners.net
DTSTAMP:20260420T072408Z
SUMMARY:Uitmatch bevestigd? (Olmen Balen 1G (100) - Antverpino 1G (88))
DESCRIPTION:Je hebt 72 uur na aanvang om een uitmatch op Badmintonvlaandere
 n in te vullen. Match info: Olmen Balen 1G (100) - Antverpino 1G (88) - Li
 nk: https://www.badmintonvlaanderen.be/sport/teammatch.aspx?id=541D9693-BA
 5C-49F3-B354-186D1A701882&match=1303
DTSTART;TZID=Europe/Brussels:20250226T190000
DTEND;TZID=Europe/Brussels:20250226T190000
END:VEVENT
BEGIN:VEVENT
UID:541D9693-BA5C-49F3-B354-186D1A701882-30-1299_awayreminder@165.badminton
 ners.net
DTSTAMP:20260420T072408Z
SUMMARY:Uitmatch bevestigd? (Spinshuttle 2G (90) - Antverpino 1G (88))
DESCRIPTION:Je hebt 72 uur na aanvang om een uitmatch op Badmintonvlaandere
 n in te vullen. Match info: Spinshuttle 2G (90) - Antverpino 1G (88) - Lin
 k: https://www.badmintonvlaanderen.be/sport/teammatch.aspx?id=541D9693-BA5
 C-49F3-B354-186D1A701882&match=1299
DTSTART;TZID=Europe/Brussels:20250314T200000
DTEND;TZID=Europe/Brussels:20250314T200000
END:VEVENT
END:VCALENDAR