BEGIN:VCALENDAR
VERSION:2.0
PRODID:spatie/icalendar-generator
NAME:beerke_3g_91_reminders
X-WR-CALNAME:beerke_3g_91_reminders
BEGIN:VTIMEZONE
TZID:Europe/Brussels
BEGIN:DAYLIGHT
DTSTART:20240331T010000
TZOFFSETFROM:+0100
TZOFFSETTO:+0200
END:DAYLIGHT
BEGIN:STANDARD
DTSTART:20241027T030000
TZOFFSETFROM:+0200
TZOFFSETTO:+0100
END:STANDARD
BEGIN:DAYLIGHT
DTSTART:20250330T010000
TZOFFSETFROM:+0100
TZOFFSETTO:+0200
END:DAYLIGHT
END:VTIMEZONE
BEGIN:VTIMEZONE
TZID:UTC
BEGIN:STANDARD
DTSTART:20250724T055126
TZOFFSETFROM:+0000
TZOFFSETTO:+0000
END:STANDARD
END:VTIMEZONE
BEGIN:VEVENT
UID:541D9693-BA5C-49F3-B354-186D1A701882-30-1312_homereminder@166.badminton
 ners.net
DTSTAMP:20260420T055126Z
SUMMARY:Thuismatch ingevuld? (Beerke 3G (91) - Olmen Balen 1G (100))
DESCRIPTION:Je hebt 36 uur na aanvang om een thuismatch op Badmintonvlaande
 ren in te vullen. Match info: Beerke 3G (91) - Olmen Balen 1G (100) - Link
 : https://www.badmintonvlaanderen.be/sport/teammatch.aspx?id=541D9693-BA5C
 -49F3-B354-186D1A701882&match=1312
DTSTART;TZID=Europe/Brussels:20241021T220000
DTEND;TZID=Europe/Brussels:20241021T220000
END:VEVENT
BEGIN:VEVENT
UID:541D9693-BA5C-49F3-B354-186D1A701882-30-1305_homereminder@166.badminton
 ners.net
DTSTAMP:20260420T055126Z
SUMMARY:Thuismatch ingevuld? (Beerke 3G (91) - Antverpino 1G (88))
DESCRIPTION:Je hebt 36 uur na aanvang om een thuismatch op Badmintonvlaande
 ren in te vullen. Match info: Beerke 3G (91) - Antverpino 1G (88) - Link: 
 https://www.badmintonvlaanderen.be/sport/teammatch.aspx?id=541D9693-BA5C-4
 9F3-B354-186D1A701882&match=1305
DTSTART;TZID=Europe/Brussels:20241118T220000
DTEND;TZID=Europe/Brussels:20241118T220000
END:VEVENT
BEGIN:VEVENT
UID:541D9693-BA5C-49F3-B354-186D1A701882-30-1319_homereminder@166.badminton
 ners.net
DTSTAMP:20260420T055126Z
SUMMARY:Thuismatch ingevuld? (Beerke 3G (91) - Klein Boom 3G (84))
DESCRIPTION:Je hebt 36 uur na aanvang om een thuismatch op Badmintonvlaande
 ren in te vullen. Match info: Beerke 3G (91) - Klein Boom 3G (84) - Link: 
 https://www.badmintonvlaanderen.be/sport/teammatch.aspx?id=541D9693-BA5C-4
 9F3-B354-186D1A701882&match=1319
DTSTART;TZID=Europe/Brussels:20241216T220000
DTEND;TZID=Europe/Brussels:20241216T220000
END:VEVENT
BEGIN:VEVENT
UID:541D9693-BA5C-49F3-B354-186D1A701882-30-1298_homereminder@166.badminton
 ners.net
DTSTAMP:20260420T055126Z
SUMMARY:Thuismatch ingevuld? (Beerke 3G (91) - Rita Serveert 2G (95))
DESCRIPTION:Je hebt 36 uur na aanvang om een thuismatch op Badmintonvlaande
 ren in te vullen. Match info: Beerke 3G (91) - Rita Serveert 2G (95) - Lin
 k: https://www.badmintonvlaanderen.be/sport/teammatch.aspx?id=541D9693-BA5
 C-49F3-B354-186D1A701882&match=1298
DTSTART;TZID=Europe/Brussels:20250113T220000
DTEND;TZID=Europe/Brussels:20250113T220000
END:VEVENT
BEGIN:VEVENT
UID:541D9693-BA5C-49F3-B354-186D1A701882-30-1284_homereminder@166.badminton
 ners.net
DTSTAMP:20260420T055126Z
SUMMARY:Thuismatch ingevuld? (Beerke 3G (91) - Zandhoven 2G (98))
DESCRIPTION:Je hebt 36 uur na aanvang om een thuismatch op Badmintonvlaande
 ren in te vullen. Match info: Beerke 3G (91) - Zandhoven 2G (98) - Link: h
 ttps://www.badmintonvlaanderen.be/sport/teammatch.aspx?id=541D9693-BA5C-49
 F3-B354-186D1A701882&match=1284
DTSTART;TZID=Europe/Brussels:20250224T220000
DTEND;TZID=Europe/Brussels:20250224T220000
END:VEVENT
BEGIN:VEVENT
UID:541D9693-BA5C-49F3-B354-186D1A701882-30-1291_homereminder@166.badminton
 ners.net
DTSTAMP:20260420T055126Z
SUMMARY:Thuismatch ingevuld? (Beerke 3G (91) - Zoersel 3G (93))
DESCRIPTION:Je hebt 36 uur na aanvang om een thuismatch op Badmintonvlaande
 ren in te vullen. Match info: Beerke 3G (91) - Zoersel 3G (93) - Link: htt
 ps://www.badmintonvlaanderen.be/sport/teammatch.aspx?id=541D9693-BA5C-49F3
 -B354-186D1A701882&match=1291
DTSTART;TZID=Europe/Brussels:20250324T220000
DTEND;TZID=Europe/Brussels:20250324T220000
END:VEVENT
BEGIN:VEVENT
UID:541D9693-BA5C-49F3-B354-186D1A701882-30-1277_homereminder@166.badminton
 ners.net
DTSTAMP:20260420T055126Z
SUMMARY:Thuismatch ingevuld? (Beerke 3G (91) - Spinshuttle 2G (90))
DESCRIPTION:Je hebt 36 uur na aanvang om een thuismatch op Badmintonvlaande
 ren in te vullen. Match info: Beerke 3G (91) - Spinshuttle 2G (90) - Link:
  https://www.badmintonvlaanderen.be/sport/teammatch.aspx?id=541D9693-BA5C-
 49F3-B354-186D1A701882&match=1277
DTSTART;TZID=Europe/Brussels:20250407T220000
DTEND;TZID=Europe/Brussels:20250407T220000
END:VEVENT
BEGIN:VEVENT
UID:541D9693-BA5C-49F3-B354-186D1A701882-30-1323_awayreminder@166.badminton
 ners.net
DTSTAMP:20260420T055126Z
SUMMARY:Uitmatch bevestigd? (Rita Serveert 2G (95) - Beerke 3G (91))
DESCRIPTION:Je hebt 72 uur na aanvang om een uitmatch op Badmintonvlaandere
 n in te vullen. Match info: Rita Serveert 2G (95) - Beerke 3G (91) - Link:
  https://www.badmintonvlaanderen.be/sport/teammatch.aspx?id=541D9693-BA5C-
 49F3-B354-186D1A701882&match=1323
DTSTART;TZID=Europe/Brussels:20240911T190000
DTEND;TZID=Europe/Brussels:20240911T190000
END:VEVENT
BEGIN:VEVENT
UID:541D9693-BA5C-49F3-B354-186D1A701882-30-1322_awayreminder@166.badminton
 ners.net
DTSTAMP:20260420T055126Z
SUMMARY:Uitmatch bevestigd? (Zoersel 3G (93) - Beerke 3G (91))
DESCRIPTION:Je hebt 72 uur na aanvang om een uitmatch op Badmintonvlaandere
 n in te vullen. Match info: Zoersel 3G (93) - Beerke 3G (91) - Link: https
 ://www.badmintonvlaanderen.be/sport/teammatch.aspx?id=541D9693-BA5C-49F3-B
 354-186D1A701882&match=1322
DTSTART;TZID=Europe/Brussels:20241009T120000
DTEND;TZID=Europe/Brussels:20241009T120000
END:VEVENT
BEGIN:VEVENT
UID:541D9693-BA5C-49F3-B354-186D1A701882-30-1321_awayreminder@166.badminton
 ners.net
DTSTAMP:20260420T055126Z
SUMMARY:Uitmatch bevestigd? (Zandhoven 2G (98) - Beerke 3G (91))
DESCRIPTION:Je hebt 72 uur na aanvang om een uitmatch op Badmintonvlaandere
 n in te vullen. Match info: Zandhoven 2G (98) - Beerke 3G (91) - Link: htt
 ps://www.badmintonvlaanderen.be/sport/teammatch.aspx?id=541D9693-BA5C-49F3
 -B354-186D1A701882&match=1321
DTSTART;TZID=Europe/Brussels:20241121T200000
DTEND;TZID=Europe/Brussels:20241121T200000
END:VEVENT
BEGIN:VEVENT
UID:541D9693-BA5C-49F3-B354-186D1A701882-30-1320_awayreminder@166.badminton
 ners.net
DTSTAMP:20260420T055126Z
SUMMARY:Uitmatch bevestigd? (Spinshuttle 2G (90) - Beerke 3G (91))
DESCRIPTION:Je hebt 72 uur na aanvang om een uitmatch op Badmintonvlaandere
 n in te vullen. Match info: Spinshuttle 2G (90) - Beerke 3G (91) - Link: h
 ttps://www.badmintonvlaanderen.be/sport/teammatch.aspx?id=541D9693-BA5C-49
 F3-B354-186D1A701882&match=1320
DTSTART;TZID=Europe/Brussels:20241206T200000
DTEND;TZID=Europe/Brussels:20241206T200000
END:VEVENT
BEGIN:VEVENT
UID:541D9693-BA5C-49F3-B354-186D1A701882-30-1326_awayreminder@166.badminton
 ners.net
DTSTAMP:20260420T055126Z
SUMMARY:Uitmatch bevestigd? (Klein Boom 3G (84) - Beerke 3G (91))
DESCRIPTION:Je hebt 72 uur na aanvang om een uitmatch op Badmintonvlaandere
 n in te vullen. Match info: Klein Boom 3G (84) - Beerke 3G (91) - Link: ht
 tps://www.badmintonvlaanderen.be/sport/teammatch.aspx?id=541D9693-BA5C-49F
 3-B354-186D1A701882&match=1326
DTSTART;TZID=Europe/Brussels:20250129T190000
DTEND;TZID=Europe/Brussels:20250129T190000
END:VEVENT
BEGIN:VEVENT
UID:541D9693-BA5C-49F3-B354-186D1A701882-30-1324_awayreminder@166.badminton
 ners.net
DTSTAMP:20260420T055126Z
SUMMARY:Uitmatch bevestigd? (Antverpino 1G (88) - Beerke 3G (91))
DESCRIPTION:Je hebt 72 uur na aanvang om een uitmatch op Badmintonvlaandere
 n in te vullen. Match info: Antverpino 1G (88) - Beerke 3G (91) - Link: ht
 tps://www.badmintonvlaanderen.be/sport/teammatch.aspx?id=541D9693-BA5C-49F
 3-B354-186D1A701882&match=1324
DTSTART;TZID=Europe/Brussels:20250215T203000
DTEND;TZID=Europe/Brussels:20250215T203000
END:VEVENT
BEGIN:VEVENT
UID:541D9693-BA5C-49F3-B354-186D1A701882-30-1325_awayreminder@166.badminton
 ners.net
DTSTAMP:20260420T055126Z
SUMMARY:Uitmatch bevestigd? (Olmen Balen 1G (100) - Beerke 3G (91))
DESCRIPTION:Je hebt 72 uur na aanvang om een uitmatch op Badmintonvlaandere
 n in te vullen. Match info: Olmen Balen 1G (100) - Beerke 3G (91) - Link: 
 https://www.badmintonvlaanderen.be/sport/teammatch.aspx?id=541D9693-BA5C-4
 9F3-B354-186D1A701882&match=1325
DTSTART;TZID=Europe/Brussels:20250312T190000
DTEND;TZID=Europe/Brussels:20250312T190000
END:VEVENT
END:VCALENDAR