BEGIN:VCALENDAR
VERSION:2.0
PRODID:spatie/icalendar-generator
NAME:herentals_3g_89_reminders
X-WR-CALNAME:herentals_3g_89_reminders
BEGIN:VTIMEZONE
TZID:Europe/Brussels
BEGIN:DAYLIGHT
DTSTART:20240331T010000
TZOFFSETFROM:+0100
TZOFFSETTO:+0200
END:DAYLIGHT
BEGIN:STANDARD
DTSTART:20241027T030000
TZOFFSETFROM:+0200
TZOFFSETTO:+0100
END:STANDARD
BEGIN:DAYLIGHT
DTSTART:20250330T010000
TZOFFSETFROM:+0100
TZOFFSETTO:+0200
END:DAYLIGHT
BEGIN:STANDARD
DTSTART:20251026T030000
TZOFFSETFROM:+0200
TZOFFSETTO:+0100
END:STANDARD
END:VTIMEZONE
BEGIN:VTIMEZONE
TZID:UTC
BEGIN:STANDARD
DTSTART:20250724T072404
TZOFFSETFROM:+0000
TZOFFSETTO:+0000
END:STANDARD
END:VTIMEZONE
BEGIN:VEVENT
UID:541D9693-BA5C-49F3-B354-186D1A701882-31-1339_homereminder@150.badminton
 ners.net
DTSTAMP:20260420T072404Z
SUMMARY:Thuismatch ingevuld? (Herentals 3G (89) - Merksplas 2G (96))
DESCRIPTION:Je hebt 36 uur na aanvang om een thuismatch op Badmintonvlaande
 ren in te vullen. Match info: Herentals 3G (89) - Merksplas 2G (96) - Link
 : https://www.badmintonvlaanderen.be/sport/teammatch.aspx?id=541D9693-BA5C
 -49F3-B354-186D1A701882&match=1339
DTSTART;TZID=Europe/Brussels:20241116T090000
DTEND;TZID=Europe/Brussels:20241116T090000
END:VEVENT
BEGIN:VEVENT
UID:541D9693-BA5C-49F3-B354-186D1A701882-31-1363_homereminder@150.badminton
 ners.net
DTSTAMP:20260420T072404Z
SUMMARY:Thuismatch ingevuld? (Herentals 3G (89) - Poona 2G (83))
DESCRIPTION:Je hebt 36 uur na aanvang om een thuismatch op Badmintonvlaande
 ren in te vullen. Match info: Herentals 3G (89) - Poona 2G (83) - Link: ht
 tps://www.badmintonvlaanderen.be/sport/teammatch.aspx?id=541D9693-BA5C-49F
 3-B354-186D1A701882&match=1363
DTSTART;TZID=Europe/Brussels:20241211T090000
DTEND;TZID=Europe/Brussels:20241211T090000
END:VEVENT
BEGIN:VEVENT
UID:541D9693-BA5C-49F3-B354-186D1A701882-31-1351_homereminder@150.badminton
 ners.net
DTSTAMP:20260420T072404Z
SUMMARY:Thuismatch ingevuld? (Herentals 3G (89) - Plumula 3G (103))
DESCRIPTION:Je hebt 36 uur na aanvang om een thuismatch op Badmintonvlaande
 ren in te vullen. Match info: Herentals 3G (89) - Plumula 3G (103) - Link:
  https://www.badmintonvlaanderen.be/sport/teammatch.aspx?id=541D9693-BA5C-
 49F3-B354-186D1A701882&match=1351
DTSTART;TZID=Europe/Brussels:20241221T090000
DTEND;TZID=Europe/Brussels:20241221T090000
END:VEVENT
BEGIN:VEVENT
UID:541D9693-BA5C-49F3-B354-186D1A701882-31-1345_homereminder@150.badminton
 ners.net
DTSTAMP:20260420T072404Z
SUMMARY:Thuismatch ingevuld? (Herentals 3G (89) - De Nekker 2G (87))
DESCRIPTION:Je hebt 36 uur na aanvang om een thuismatch op Badmintonvlaande
 ren in te vullen. Match info: Herentals 3G (89) - De Nekker 2G (87) - Link
 : https://www.badmintonvlaanderen.be/sport/teammatch.aspx?id=541D9693-BA5C
 -49F3-B354-186D1A701882&match=1345
DTSTART;TZID=Europe/Brussels:20250108T090000
DTEND;TZID=Europe/Brussels:20250108T090000
END:VEVENT
BEGIN:VEVENT
UID:541D9693-BA5C-49F3-B354-186D1A701882-31-1357_homereminder@150.badminton
 ners.net
DTSTAMP:20260420T072404Z
SUMMARY:Thuismatch ingevuld? (Herentals 3G (89) - Klein Boom 4G (85))
DESCRIPTION:Je hebt 36 uur na aanvang om een thuismatch op Badmintonvlaande
 ren in te vullen. Match info: Herentals 3G (89) - Klein Boom 4G (85) - Lin
 k: https://www.badmintonvlaanderen.be/sport/teammatch.aspx?id=541D9693-BA5
 C-49F3-B354-186D1A701882&match=1357
DTSTART;TZID=Europe/Brussels:20250208T090000
DTEND;TZID=Europe/Brussels:20250208T090000
END:VEVENT
BEGIN:VEVENT
UID:541D9693-BA5C-49F3-B354-186D1A701882-31-1369_homereminder@150.badminton
 ners.net
DTSTAMP:20260420T072404Z
SUMMARY:Thuismatch ingevuld? (Herentals 3G (89) - Berlaar 2G (100))
DESCRIPTION:Je hebt 36 uur na aanvang om een thuismatch op Badmintonvlaande
 ren in te vullen. Match info: Herentals 3G (89) - Berlaar 2G (100) - Link:
  https://www.badmintonvlaanderen.be/sport/teammatch.aspx?id=541D9693-BA5C-
 49F3-B354-186D1A701882&match=1369
DTSTART;TZID=Europe/Brussels:20250305T090000
DTEND;TZID=Europe/Brussels:20250305T090000
END:VEVENT
BEGIN:VEVENT
UID:541D9693-BA5C-49F3-B354-186D1A701882-31-1371_awayreminder@150.badminton
 ners.net
DTSTAMP:20260420T072404Z
SUMMARY:Uitmatch bevestigd? (De Nekker 2G (87) - Herentals 3G (89))
DESCRIPTION:Je hebt 72 uur na aanvang om een uitmatch op Badmintonvlaandere
 n in te vullen. Match info: De Nekker 2G (87) - Herentals 3G (89) - Link: 
 https://www.badmintonvlaanderen.be/sport/teammatch.aspx?id=541D9693-BA5C-4
 9F3-B354-186D1A701882&match=1371
DTSTART;TZID=Europe/Brussels:20241019T203000
DTEND;TZID=Europe/Brussels:20241019T203000
END:VEVENT
BEGIN:VEVENT
UID:541D9693-BA5C-49F3-B354-186D1A701882-31-1375_awayreminder@150.badminton
 ners.net
DTSTAMP:20260420T072404Z
SUMMARY:Uitmatch bevestigd? (Berlaar 2G (100) - Herentals 3G (89))
DESCRIPTION:Je hebt 72 uur na aanvang om een uitmatch op Badmintonvlaandere
 n in te vullen. Match info: Berlaar 2G (100) - Herentals 3G (89) - Link: h
 ttps://www.badmintonvlaanderen.be/sport/teammatch.aspx?id=541D9693-BA5C-49
 F3-B354-186D1A701882&match=1375
DTSTART;TZID=Europe/Brussels:20241113T100000
DTEND;TZID=Europe/Brussels:20241113T100000
END:VEVENT
BEGIN:VEVENT
UID:541D9693-BA5C-49F3-B354-186D1A701882-31-1373_awayreminder@150.badminton
 ners.net
DTSTAMP:20260420T072404Z
SUMMARY:Uitmatch bevestigd? (Klein Boom 4G (85) - Herentals 3G (89))
DESCRIPTION:Je hebt 72 uur na aanvang om een uitmatch op Badmintonvlaandere
 n in te vullen. Match info: Klein Boom 4G (85) - Herentals 3G (89) - Link:
  https://www.badmintonvlaanderen.be/sport/teammatch.aspx?id=541D9693-BA5C-
 49F3-B354-186D1A701882&match=1373
DTSTART;TZID=Europe/Brussels:20241120T190000
DTEND;TZID=Europe/Brussels:20241120T190000
END:VEVENT
BEGIN:VEVENT
UID:541D9693-BA5C-49F3-B354-186D1A701882-31-1372_awayreminder@150.badminton
 ners.net
DTSTAMP:20260420T072404Z
SUMMARY:Uitmatch bevestigd? (Plumula 3G (103) - Herentals 3G (89))
DESCRIPTION:Je hebt 72 uur na aanvang om een uitmatch op Badmintonvlaandere
 n in te vullen. Match info: Plumula 3G (103) - Herentals 3G (89) - Link: h
 ttps://www.badmintonvlaanderen.be/sport/teammatch.aspx?id=541D9693-BA5C-49
 F3-B354-186D1A701882&match=1372
DTSTART;TZID=Europe/Brussels:20250129T173000
DTEND;TZID=Europe/Brussels:20250129T173000
END:VEVENT
BEGIN:VEVENT
UID:541D9693-BA5C-49F3-B354-186D1A701882-31-1374_awayreminder@150.badminton
 ners.net
DTSTAMP:20260420T072404Z
SUMMARY:Uitmatch bevestigd? (Poona 2G (83) - Herentals 3G (89))
DESCRIPTION:Je hebt 72 uur na aanvang om een uitmatch op Badmintonvlaandere
 n in te vullen. Match info: Poona 2G (83) - Herentals 3G (89) - Link: http
 s://www.badmintonvlaanderen.be/sport/teammatch.aspx?id=541D9693-BA5C-49F3-
 B354-186D1A701882&match=1374
DTSTART;TZID=Europe/Brussels:20250220T200000
DTEND;TZID=Europe/Brussels:20250220T200000
END:VEVENT
BEGIN:VEVENT
UID:541D9693-BA5C-49F3-B354-186D1A701882-31-1370_awayreminder@150.badminton
 ners.net
DTSTAMP:20260420T072404Z
SUMMARY:Uitmatch bevestigd? (Merksplas 2G (96) - Herentals 3G (89))
DESCRIPTION:Je hebt 72 uur na aanvang om een uitmatch op Badmintonvlaandere
 n in te vullen. Match info: Merksplas 2G (96) - Herentals 3G (89) - Link: 
 https://www.badmintonvlaanderen.be/sport/teammatch.aspx?id=541D9693-BA5C-4
 9F3-B354-186D1A701882&match=1370
DTSTART;TZID=Europe/Brussels:20250430T183000
DTEND;TZID=Europe/Brussels:20250430T183000
END:VEVENT
END:VCALENDAR