BEGIN:VCALENDAR
VERSION:2.0
PRODID:spatie/icalendar-generator
NAME:poona_2g_83_reminders
X-WR-CALNAME:poona_2g_83_reminders
BEGIN:VTIMEZONE
TZID:Europe/Brussels
BEGIN:DAYLIGHT
DTSTART:20240331T010000
TZOFFSETFROM:+0100
TZOFFSETTO:+0200
END:DAYLIGHT
BEGIN:STANDARD
DTSTART:20241027T030000
TZOFFSETFROM:+0200
TZOFFSETTO:+0100
END:STANDARD
BEGIN:DAYLIGHT
DTSTART:20250330T010000
TZOFFSETFROM:+0100
TZOFFSETTO:+0200
END:DAYLIGHT
END:VTIMEZONE
BEGIN:VTIMEZONE
TZID:UTC
BEGIN:STANDARD
DTSTART:20250724T055132
TZOFFSETFROM:+0000
TZOFFSETTO:+0000
END:STANDARD
END:VTIMEZONE
BEGIN:VEVENT
UID:541D9693-BA5C-49F3-B354-186D1A701882-31-1337_homereminder@151.badminton
 ners.net
DTSTAMP:20260420T055132Z
SUMMARY:Thuismatch ingevuld? (Poona 2G (83) - Merksplas 2G (96))
DESCRIPTION:Je hebt 36 uur na aanvang om een thuismatch op Badmintonvlaande
 ren in te vullen. Match info: Poona 2G (83) - Merksplas 2G (96) - Link: ht
 tps://www.badmintonvlaanderen.be/sport/teammatch.aspx?id=541D9693-BA5C-49F
 3-B354-186D1A701882&match=1337
DTSTART;TZID=Europe/Brussels:20240904T080000
DTEND;TZID=Europe/Brussels:20240904T080000
END:VEVENT
BEGIN:VEVENT
UID:541D9693-BA5C-49F3-B354-186D1A701882-31-1349_homereminder@151.badminton
 ners.net
DTSTAMP:20260420T055132Z
SUMMARY:Thuismatch ingevuld? (Poona 2G (83) - Plumula 3G (103))
DESCRIPTION:Je hebt 36 uur na aanvang om een thuismatch op Badmintonvlaande
 ren in te vullen. Match info: Poona 2G (83) - Plumula 3G (103) - Link: htt
 ps://www.badmintonvlaanderen.be/sport/teammatch.aspx?id=541D9693-BA5C-49F3
 -B354-186D1A701882&match=1349
DTSTART;TZID=Europe/Brussels:20241002T080000
DTEND;TZID=Europe/Brussels:20241002T080000
END:VEVENT
BEGIN:VEVENT
UID:541D9693-BA5C-49F3-B354-186D1A701882-31-1368_homereminder@151.badminton
 ners.net
DTSTAMP:20260420T055132Z
SUMMARY:Thuismatch ingevuld? (Poona 2G (83) - Berlaar 2G (100))
DESCRIPTION:Je hebt 36 uur na aanvang om een thuismatch op Badmintonvlaande
 ren in te vullen. Match info: Poona 2G (83) - Berlaar 2G (100) - Link: htt
 ps://www.badmintonvlaanderen.be/sport/teammatch.aspx?id=541D9693-BA5C-49F3
 -B354-186D1A701882&match=1368
DTSTART;TZID=Europe/Brussels:20241030T080000
DTEND;TZID=Europe/Brussels:20241030T080000
END:VEVENT
BEGIN:VEVENT
UID:541D9693-BA5C-49F3-B354-186D1A701882-31-1355_homereminder@151.badminton
 ners.net
DTSTAMP:20260420T055132Z
SUMMARY:Thuismatch ingevuld? (Poona 2G (83) - Klein Boom 4G (85))
DESCRIPTION:Je hebt 36 uur na aanvang om een thuismatch op Badmintonvlaande
 ren in te vullen. Match info: Poona 2G (83) - Klein Boom 4G (85) - Link: h
 ttps://www.badmintonvlaanderen.be/sport/teammatch.aspx?id=541D9693-BA5C-49
 F3-B354-186D1A701882&match=1355
DTSTART;TZID=Europe/Brussels:20250108T080000
DTEND;TZID=Europe/Brussels:20250108T080000
END:VEVENT
BEGIN:VEVENT
UID:541D9693-BA5C-49F3-B354-186D1A701882-31-1374_homereminder@151.badminton
 ners.net
DTSTAMP:20260420T055132Z
SUMMARY:Thuismatch ingevuld? (Poona 2G (83) - Herentals 3G (89))
DESCRIPTION:Je hebt 36 uur na aanvang om een thuismatch op Badmintonvlaande
 ren in te vullen. Match info: Poona 2G (83) - Herentals 3G (89) - Link: ht
 tps://www.badmintonvlaanderen.be/sport/teammatch.aspx?id=541D9693-BA5C-49F
 3-B354-186D1A701882&match=1374
DTSTART;TZID=Europe/Brussels:20250219T080000
DTEND;TZID=Europe/Brussels:20250219T080000
END:VEVENT
BEGIN:VEVENT
UID:541D9693-BA5C-49F3-B354-186D1A701882-31-1343_homereminder@151.badminton
 ners.net
DTSTAMP:20260420T055132Z
SUMMARY:Thuismatch ingevuld? (Poona 2G (83) - De Nekker 2G (87))
DESCRIPTION:Je hebt 36 uur na aanvang om een thuismatch op Badmintonvlaande
 ren in te vullen. Match info: Poona 2G (83) - De Nekker 2G (87) - Link: ht
 tps://www.badmintonvlaanderen.be/sport/teammatch.aspx?id=541D9693-BA5C-49F
 3-B354-186D1A701882&match=1343
DTSTART;TZID=Europe/Brussels:20250319T080000
DTEND;TZID=Europe/Brussels:20250319T080000
END:VEVENT
BEGIN:VEVENT
UID:541D9693-BA5C-49F3-B354-186D1A701882-31-1359_awayreminder@151.badminton
 ners.net
DTSTAMP:20260420T055132Z
SUMMARY:Uitmatch bevestigd? (De Nekker 2G (87) - Poona 2G (83))
DESCRIPTION:Je hebt 72 uur na aanvang om een uitmatch op Badmintonvlaandere
 n in te vullen. Match info: De Nekker 2G (87) - Poona 2G (83) - Link: http
 s://www.badmintonvlaanderen.be/sport/teammatch.aspx?id=541D9693-BA5C-49F3-
 B354-186D1A701882&match=1359
DTSTART;TZID=Europe/Brussels:20240921T203000
DTEND;TZID=Europe/Brussels:20240921T203000
END:VEVENT
BEGIN:VEVENT
UID:541D9693-BA5C-49F3-B354-186D1A701882-31-1361_awayreminder@151.badminton
 ners.net
DTSTAMP:20260420T055132Z
SUMMARY:Uitmatch bevestigd? (Klein Boom 4G (85) - Poona 2G (83))
DESCRIPTION:Je hebt 72 uur na aanvang om een uitmatch op Badmintonvlaandere
 n in te vullen. Match info: Klein Boom 4G (85) - Poona 2G (83) - Link: htt
 ps://www.badmintonvlaanderen.be/sport/teammatch.aspx?id=541D9693-BA5C-49F3
 -B354-186D1A701882&match=1361
DTSTART;TZID=Europe/Brussels:20241023T190000
DTEND;TZID=Europe/Brussels:20241023T190000
END:VEVENT
BEGIN:VEVENT
UID:541D9693-BA5C-49F3-B354-186D1A701882-31-1363_awayreminder@151.badminton
 ners.net
DTSTAMP:20260420T055132Z
SUMMARY:Uitmatch bevestigd? (Herentals 3G (89) - Poona 2G (83))
DESCRIPTION:Je hebt 72 uur na aanvang om een uitmatch op Badmintonvlaandere
 n in te vullen. Match info: Herentals 3G (89) - Poona 2G (83) - Link: http
 s://www.badmintonvlaanderen.be/sport/teammatch.aspx?id=541D9693-BA5C-49F3-
 B354-186D1A701882&match=1363
DTSTART;TZID=Europe/Brussels:20241212T210000
DTEND;TZID=Europe/Brussels:20241212T210000
END:VEVENT
BEGIN:VEVENT
UID:541D9693-BA5C-49F3-B354-186D1A701882-31-1362_awayreminder@151.badminton
 ners.net
DTSTAMP:20260420T055132Z
SUMMARY:Uitmatch bevestigd? (Berlaar 2G (100) - Poona 2G (83))
DESCRIPTION:Je hebt 72 uur na aanvang om een uitmatch op Badmintonvlaandere
 n in te vullen. Match info: Berlaar 2G (100) - Poona 2G (83) - Link: https
 ://www.badmintonvlaanderen.be/sport/teammatch.aspx?id=541D9693-BA5C-49F3-B
 354-186D1A701882&match=1362
DTSTART;TZID=Europe/Brussels:20250212T093000
DTEND;TZID=Europe/Brussels:20250212T093000
END:VEVENT
BEGIN:VEVENT
UID:541D9693-BA5C-49F3-B354-186D1A701882-31-1358_awayreminder@151.badminton
 ners.net
DTSTAMP:20260420T055132Z
SUMMARY:Uitmatch bevestigd? (Merksplas 2G (96) - Poona 2G (83))
DESCRIPTION:Je hebt 72 uur na aanvang om een uitmatch op Badmintonvlaandere
 n in te vullen. Match info: Merksplas 2G (96) - Poona 2G (83) - Link: http
 s://www.badmintonvlaanderen.be/sport/teammatch.aspx?id=541D9693-BA5C-49F3-
 B354-186D1A701882&match=1358
DTSTART;TZID=Europe/Brussels:20250312T183000
DTEND;TZID=Europe/Brussels:20250312T183000
END:VEVENT
BEGIN:VEVENT
UID:541D9693-BA5C-49F3-B354-186D1A701882-31-1360_awayreminder@151.badminton
 ners.net
DTSTAMP:20260420T055132Z
SUMMARY:Uitmatch bevestigd? (Plumula 3G (103) - Poona 2G (83))
DESCRIPTION:Je hebt 72 uur na aanvang om een uitmatch op Badmintonvlaandere
 n in te vullen. Match info: Plumula 3G (103) - Poona 2G (83) - Link: https
 ://www.badmintonvlaanderen.be/sport/teammatch.aspx?id=541D9693-BA5C-49F3-B
 354-186D1A701882&match=1360
DTSTART;TZID=Europe/Brussels:20250409T173000
DTEND;TZID=Europe/Brussels:20250409T173000
END:VEVENT
END:VCALENDAR