BEGIN:VCALENDAR
VERSION:2.0
PRODID:spatie/icalendar-generator
NAME:plumula_3g_103_reminders
X-WR-CALNAME:plumula_3g_103_reminders
BEGIN:VTIMEZONE
TZID:Europe/Brussels
BEGIN:DAYLIGHT
DTSTART:20240331T010000
TZOFFSETFROM:+0100
TZOFFSETTO:+0200
END:DAYLIGHT
BEGIN:STANDARD
DTSTART:20241027T030000
TZOFFSETFROM:+0200
TZOFFSETTO:+0100
END:STANDARD
BEGIN:DAYLIGHT
DTSTART:20250330T010000
TZOFFSETFROM:+0100
TZOFFSETTO:+0200
END:DAYLIGHT
END:VTIMEZONE
BEGIN:VTIMEZONE
TZID:UTC
BEGIN:STANDARD
DTSTART:20250724T072432
TZOFFSETFROM:+0000
TZOFFSETTO:+0000
END:STANDARD
END:VTIMEZONE
BEGIN:VEVENT
UID:541D9693-BA5C-49F3-B354-186D1A701882-31-1366_homereminder@153.badminton
 ners.net
DTSTAMP:20260420T072432Z
SUMMARY:Thuismatch ingevuld? (Plumula 3G (103) - Berlaar 2G (100))
DESCRIPTION:Je hebt 36 uur na aanvang om een thuismatch op Badmintonvlaande
 ren in te vullen. Match info: Plumula 3G (103) - Berlaar 2G (100) - Link: 
 https://www.badmintonvlaanderen.be/sport/teammatch.aspx?id=541D9693-BA5C-4
 9F3-B354-186D1A701882&match=1366
DTSTART;TZID=Europe/Brussels:20241022T053000
DTEND;TZID=Europe/Brussels:20241022T053000
END:VEVENT
BEGIN:VEVENT
UID:541D9693-BA5C-49F3-B354-186D1A701882-31-1354_homereminder@153.badminton
 ners.net
DTSTAMP:20260420T072432Z
SUMMARY:Thuismatch ingevuld? (Plumula 3G (103) - Klein Boom 4G (85))
DESCRIPTION:Je hebt 36 uur na aanvang om een thuismatch op Badmintonvlaande
 ren in te vullen. Match info: Plumula 3G (103) - Klein Boom 4G (85) - Link
 : https://www.badmintonvlaanderen.be/sport/teammatch.aspx?id=541D9693-BA5C
 -49F3-B354-186D1A701882&match=1354
DTSTART;TZID=Europe/Brussels:20241112T053000
DTEND;TZID=Europe/Brussels:20241112T053000
END:VEVENT
BEGIN:VEVENT
UID:541D9693-BA5C-49F3-B354-186D1A701882-31-1335_homereminder@153.badminton
 ners.net
DTSTAMP:20260420T072432Z
SUMMARY:Thuismatch ingevuld? (Plumula 3G (103) - Merksplas 2G (96))
DESCRIPTION:Je hebt 36 uur na aanvang om een thuismatch op Badmintonvlaande
 ren in te vullen. Match info: Plumula 3G (103) - Merksplas 2G (96) - Link:
  https://www.badmintonvlaanderen.be/sport/teammatch.aspx?id=541D9693-BA5C-
 49F3-B354-186D1A701882&match=1335
DTSTART;TZID=Europe/Brussels:20241119T053000
DTEND;TZID=Europe/Brussels:20241119T053000
END:VEVENT
BEGIN:VEVENT
UID:541D9693-BA5C-49F3-B354-186D1A701882-31-1372_homereminder@153.badminton
 ners.net
DTSTAMP:20260420T072432Z
SUMMARY:Thuismatch ingevuld? (Plumula 3G (103) - Herentals 3G (89))
DESCRIPTION:Je hebt 36 uur na aanvang om een thuismatch op Badmintonvlaande
 ren in te vullen. Match info: Plumula 3G (103) - Herentals 3G (89) - Link:
  https://www.badmintonvlaanderen.be/sport/teammatch.aspx?id=541D9693-BA5C-
 49F3-B354-186D1A701882&match=1372
DTSTART;TZID=Europe/Brussels:20250128T053000
DTEND;TZID=Europe/Brussels:20250128T053000
END:VEVENT
BEGIN:VEVENT
UID:541D9693-BA5C-49F3-B354-186D1A701882-31-1341_homereminder@153.badminton
 ners.net
DTSTAMP:20260420T072432Z
SUMMARY:Thuismatch ingevuld? (Plumula 3G (103) - De Nekker 2G (87))
DESCRIPTION:Je hebt 36 uur na aanvang om een thuismatch op Badmintonvlaande
 ren in te vullen. Match info: Plumula 3G (103) - De Nekker 2G (87) - Link:
  https://www.badmintonvlaanderen.be/sport/teammatch.aspx?id=541D9693-BA5C-
 49F3-B354-186D1A701882&match=1341
DTSTART;TZID=Europe/Brussels:20250225T053000
DTEND;TZID=Europe/Brussels:20250225T053000
END:VEVENT
BEGIN:VEVENT
UID:541D9693-BA5C-49F3-B354-186D1A701882-31-1360_homereminder@153.badminton
 ners.net
DTSTAMP:20260420T072432Z
SUMMARY:Thuismatch ingevuld? (Plumula 3G (103) - Poona 2G (83))
DESCRIPTION:Je hebt 36 uur na aanvang om een thuismatch op Badmintonvlaande
 ren in te vullen. Match info: Plumula 3G (103) - Poona 2G (83) - Link: htt
 ps://www.badmintonvlaanderen.be/sport/teammatch.aspx?id=541D9693-BA5C-49F3
 -B354-186D1A701882&match=1360
DTSTART;TZID=Europe/Brussels:20250408T053000
DTEND;TZID=Europe/Brussels:20250408T053000
END:VEVENT
BEGIN:VEVENT
UID:541D9693-BA5C-49F3-B354-186D1A701882-31-1349_awayreminder@153.badminton
 ners.net
DTSTAMP:20260420T072432Z
SUMMARY:Uitmatch bevestigd? (Poona 2G (83) - Plumula 3G (103))
DESCRIPTION:Je hebt 72 uur na aanvang om een uitmatch op Badmintonvlaandere
 n in te vullen. Match info: Poona 2G (83) - Plumula 3G (103) - Link: https
 ://www.badmintonvlaanderen.be/sport/teammatch.aspx?id=541D9693-BA5C-49F3-B
 354-186D1A701882&match=1349
DTSTART;TZID=Europe/Brussels:20241003T200000
DTEND;TZID=Europe/Brussels:20241003T200000
END:VEVENT
BEGIN:VEVENT
UID:541D9693-BA5C-49F3-B354-186D1A701882-31-1347_awayreminder@153.badminton
 ners.net
DTSTAMP:20260420T072432Z
SUMMARY:Uitmatch bevestigd? (De Nekker 2G (87) - Plumula 3G (103))
DESCRIPTION:Je hebt 72 uur na aanvang om een uitmatch op Badmintonvlaandere
 n in te vullen. Match info: De Nekker 2G (87) - Plumula 3G (103) - Link: h
 ttps://www.badmintonvlaanderen.be/sport/teammatch.aspx?id=541D9693-BA5C-49
 F3-B354-186D1A701882&match=1347
DTSTART;TZID=Europe/Brussels:20241214T203000
DTEND;TZID=Europe/Brussels:20241214T203000
END:VEVENT
BEGIN:VEVENT
UID:541D9693-BA5C-49F3-B354-186D1A701882-31-1351_awayreminder@153.badminton
 ners.net
DTSTAMP:20260420T072432Z
SUMMARY:Uitmatch bevestigd? (Herentals 3G (89) - Plumula 3G (103))
DESCRIPTION:Je hebt 72 uur na aanvang om een uitmatch op Badmintonvlaandere
 n in te vullen. Match info: Herentals 3G (89) - Plumula 3G (103) - Link: h
 ttps://www.badmintonvlaanderen.be/sport/teammatch.aspx?id=541D9693-BA5C-49
 F3-B354-186D1A701882&match=1351
DTSTART;TZID=Europe/Brussels:20241222T210000
DTEND;TZID=Europe/Brussels:20241222T210000
END:VEVENT
BEGIN:VEVENT
UID:541D9693-BA5C-49F3-B354-186D1A701882-31-1350_awayreminder@153.badminton
 ners.net
DTSTAMP:20260420T072432Z
SUMMARY:Uitmatch bevestigd? (Berlaar 2G (100) - Plumula 3G (103))
DESCRIPTION:Je hebt 72 uur na aanvang om een uitmatch op Badmintonvlaandere
 n in te vullen. Match info: Berlaar 2G (100) - Plumula 3G (103) - Link: ht
 tps://www.badmintonvlaanderen.be/sport/teammatch.aspx?id=541D9693-BA5C-49F
 3-B354-186D1A701882&match=1350
DTSTART;TZID=Europe/Brussels:20250115T093000
DTEND;TZID=Europe/Brussels:20250115T093000
END:VEVENT
BEGIN:VEVENT
UID:541D9693-BA5C-49F3-B354-186D1A701882-31-1346_awayreminder@153.badminton
 ners.net
DTSTAMP:20260420T072432Z
SUMMARY:Uitmatch bevestigd? (Merksplas 2G (96) - Plumula 3G (103))
DESCRIPTION:Je hebt 72 uur na aanvang om een uitmatch op Badmintonvlaandere
 n in te vullen. Match info: Merksplas 2G (96) - Plumula 3G (103) - Link: h
 ttps://www.badmintonvlaanderen.be/sport/teammatch.aspx?id=541D9693-BA5C-49
 F3-B354-186D1A701882&match=1346
DTSTART;TZID=Europe/Brussels:20250212T183000
DTEND;TZID=Europe/Brussels:20250212T183000
END:VEVENT
BEGIN:VEVENT
UID:541D9693-BA5C-49F3-B354-186D1A701882-31-1348_awayreminder@153.badminton
 ners.net
DTSTAMP:20260420T072432Z
SUMMARY:Uitmatch bevestigd? (Klein Boom 4G (85) - Plumula 3G (103))
DESCRIPTION:Je hebt 72 uur na aanvang om een uitmatch op Badmintonvlaandere
 n in te vullen. Match info: Klein Boom 4G (85) - Plumula 3G (103) - Link: 
 https://www.badmintonvlaanderen.be/sport/teammatch.aspx?id=541D9693-BA5C-4
 9F3-B354-186D1A701882&match=1348
DTSTART;TZID=Europe/Brussels:20250326T190000
DTEND;TZID=Europe/Brussels:20250326T190000
END:VEVENT
END:VCALENDAR