BEGIN:VCALENDAR
VERSION:2.0
PRODID:spatie/icalendar-generator
NAME:merksplas_2g_96_reminders
X-WR-CALNAME:merksplas_2g_96_reminders
BEGIN:VTIMEZONE
TZID:Europe/Brussels
BEGIN:DAYLIGHT
DTSTART:20240331T010000
TZOFFSETFROM:+0100
TZOFFSETTO:+0200
END:DAYLIGHT
BEGIN:STANDARD
DTSTART:20241027T030000
TZOFFSETFROM:+0200
TZOFFSETTO:+0100
END:STANDARD
BEGIN:DAYLIGHT
DTSTART:20250330T010000
TZOFFSETFROM:+0100
TZOFFSETTO:+0200
END:DAYLIGHT
BEGIN:STANDARD
DTSTART:20251026T030000
TZOFFSETFROM:+0200
TZOFFSETTO:+0100
END:STANDARD
END:VTIMEZONE
BEGIN:VTIMEZONE
TZID:UTC
BEGIN:STANDARD
DTSTART:20250724T072403
TZOFFSETFROM:+0000
TZOFFSETTO:+0000
END:STANDARD
END:VTIMEZONE
BEGIN:VEVENT
UID:541D9693-BA5C-49F3-B354-186D1A701882-31-1340_homereminder@154.badminton
 ners.net
DTSTAMP:20260420T072403Z
SUMMARY:Thuismatch ingevuld? (Merksplas 2G (96) - De Nekker 2G (87))
DESCRIPTION:Je hebt 36 uur na aanvang om een thuismatch op Badmintonvlaande
 ren in te vullen. Match info: Merksplas 2G (96) - De Nekker 2G (87) - Link
 : https://www.badmintonvlaanderen.be/sport/teammatch.aspx?id=541D9693-BA5C
 -49F3-B354-186D1A701882&match=1340
DTSTART;TZID=Europe/Brussels:20241203T063000
DTEND;TZID=Europe/Brussels:20241203T063000
END:VEVENT
BEGIN:VEVENT
UID:541D9693-BA5C-49F3-B354-186D1A701882-31-1364_homereminder@154.badminton
 ners.net
DTSTAMP:20260420T072403Z
SUMMARY:Thuismatch ingevuld? (Merksplas 2G (96) - Berlaar 2G (100))
DESCRIPTION:Je hebt 36 uur na aanvang om een thuismatch op Badmintonvlaande
 ren in te vullen. Match info: Merksplas 2G (96) - Berlaar 2G (100) - Link:
  https://www.badmintonvlaanderen.be/sport/teammatch.aspx?id=541D9693-BA5C-
 49F3-B354-186D1A701882&match=1364
DTSTART;TZID=Europe/Brussels:20241217T063000
DTEND;TZID=Europe/Brussels:20241217T063000
END:VEVENT
BEGIN:VEVENT
UID:541D9693-BA5C-49F3-B354-186D1A701882-31-1352_homereminder@154.badminton
 ners.net
DTSTAMP:20260420T072403Z
SUMMARY:Thuismatch ingevuld? (Merksplas 2G (96) - Klein Boom 4G (85))
DESCRIPTION:Je hebt 36 uur na aanvang om een thuismatch op Badmintonvlaande
 ren in te vullen. Match info: Merksplas 2G (96) - Klein Boom 4G (85) - Lin
 k: https://www.badmintonvlaanderen.be/sport/teammatch.aspx?id=541D9693-BA5
 C-49F3-B354-186D1A701882&match=1352
DTSTART;TZID=Europe/Brussels:20241231T063000
DTEND;TZID=Europe/Brussels:20241231T063000
END:VEVENT
BEGIN:VEVENT
UID:541D9693-BA5C-49F3-B354-186D1A701882-31-1346_homereminder@154.badminton
 ners.net
DTSTAMP:20260420T072403Z
SUMMARY:Thuismatch ingevuld? (Merksplas 2G (96) - Plumula 3G (103))
DESCRIPTION:Je hebt 36 uur na aanvang om een thuismatch op Badmintonvlaande
 ren in te vullen. Match info: Merksplas 2G (96) - Plumula 3G (103) - Link:
  https://www.badmintonvlaanderen.be/sport/teammatch.aspx?id=541D9693-BA5C-
 49F3-B354-186D1A701882&match=1346
DTSTART;TZID=Europe/Brussels:20250211T063000
DTEND;TZID=Europe/Brussels:20250211T063000
END:VEVENT
BEGIN:VEVENT
UID:541D9693-BA5C-49F3-B354-186D1A701882-31-1358_homereminder@154.badminton
 ners.net
DTSTAMP:20260420T072403Z
SUMMARY:Thuismatch ingevuld? (Merksplas 2G (96) - Poona 2G (83))
DESCRIPTION:Je hebt 36 uur na aanvang om een thuismatch op Badmintonvlaande
 ren in te vullen. Match info: Merksplas 2G (96) - Poona 2G (83) - Link: ht
 tps://www.badmintonvlaanderen.be/sport/teammatch.aspx?id=541D9693-BA5C-49F
 3-B354-186D1A701882&match=1358
DTSTART;TZID=Europe/Brussels:20250311T063000
DTEND;TZID=Europe/Brussels:20250311T063000
END:VEVENT
BEGIN:VEVENT
UID:541D9693-BA5C-49F3-B354-186D1A701882-31-1370_homereminder@154.badminton
 ners.net
DTSTAMP:20260420T072403Z
SUMMARY:Thuismatch ingevuld? (Merksplas 2G (96) - Herentals 3G (89))
DESCRIPTION:Je hebt 36 uur na aanvang om een thuismatch op Badmintonvlaande
 ren in te vullen. Match info: Merksplas 2G (96) - Herentals 3G (89) - Link
 : https://www.badmintonvlaanderen.be/sport/teammatch.aspx?id=541D9693-BA5C
 -49F3-B354-186D1A701882&match=1370
DTSTART;TZID=Europe/Brussels:20250429T063000
DTEND;TZID=Europe/Brussels:20250429T063000
END:VEVENT
BEGIN:VEVENT
UID:541D9693-BA5C-49F3-B354-186D1A701882-31-1337_awayreminder@154.badminton
 ners.net
DTSTAMP:20260420T072403Z
SUMMARY:Uitmatch bevestigd? (Poona 2G (83) - Merksplas 2G (96))
DESCRIPTION:Je hebt 72 uur na aanvang om een uitmatch op Badmintonvlaandere
 n in te vullen. Match info: Poona 2G (83) - Merksplas 2G (96) - Link: http
 s://www.badmintonvlaanderen.be/sport/teammatch.aspx?id=541D9693-BA5C-49F3-
 B354-186D1A701882&match=1337
DTSTART;TZID=Europe/Brussels:20240905T200000
DTEND;TZID=Europe/Brussels:20240905T200000
END:VEVENT
BEGIN:VEVENT
UID:541D9693-BA5C-49F3-B354-186D1A701882-31-1339_awayreminder@154.badminton
 ners.net
DTSTAMP:20260420T072403Z
SUMMARY:Uitmatch bevestigd? (Herentals 3G (89) - Merksplas 2G (96))
DESCRIPTION:Je hebt 72 uur na aanvang om een uitmatch op Badmintonvlaandere
 n in te vullen. Match info: Herentals 3G (89) - Merksplas 2G (96) - Link: 
 https://www.badmintonvlaanderen.be/sport/teammatch.aspx?id=541D9693-BA5C-4
 9F3-B354-186D1A701882&match=1339
DTSTART;TZID=Europe/Brussels:20241117T210000
DTEND;TZID=Europe/Brussels:20241117T210000
END:VEVENT
BEGIN:VEVENT
UID:541D9693-BA5C-49F3-B354-186D1A701882-31-1335_awayreminder@154.badminton
 ners.net
DTSTAMP:20260420T072403Z
SUMMARY:Uitmatch bevestigd? (Plumula 3G (103) - Merksplas 2G (96))
DESCRIPTION:Je hebt 72 uur na aanvang om een uitmatch op Badmintonvlaandere
 n in te vullen. Match info: Plumula 3G (103) - Merksplas 2G (96) - Link: h
 ttps://www.badmintonvlaanderen.be/sport/teammatch.aspx?id=541D9693-BA5C-49
 F3-B354-186D1A701882&match=1335
DTSTART;TZID=Europe/Brussels:20241120T173000
DTEND;TZID=Europe/Brussels:20241120T173000
END:VEVENT
BEGIN:VEVENT
UID:541D9693-BA5C-49F3-B354-186D1A701882-31-1334_awayreminder@154.badminton
 ners.net
DTSTAMP:20260420T072403Z
SUMMARY:Uitmatch bevestigd? (De Nekker 2G (87) - Merksplas 2G (96))
DESCRIPTION:Je hebt 72 uur na aanvang om een uitmatch op Badmintonvlaandere
 n in te vullen. Match info: De Nekker 2G (87) - Merksplas 2G (96) - Link: 
 https://www.badmintonvlaanderen.be/sport/teammatch.aspx?id=541D9693-BA5C-4
 9F3-B354-186D1A701882&match=1334
DTSTART;TZID=Europe/Brussels:20250125T203000
DTEND;TZID=Europe/Brussels:20250125T203000
END:VEVENT
BEGIN:VEVENT
UID:541D9693-BA5C-49F3-B354-186D1A701882-31-1336_awayreminder@154.badminton
 ners.net
DTSTAMP:20260420T072403Z
SUMMARY:Uitmatch bevestigd? (Klein Boom 4G (85) - Merksplas 2G (96))
DESCRIPTION:Je hebt 72 uur na aanvang om een uitmatch op Badmintonvlaandere
 n in te vullen. Match info: Klein Boom 4G (85) - Merksplas 2G (96) - Link:
  https://www.badmintonvlaanderen.be/sport/teammatch.aspx?id=541D9693-BA5C-
 49F3-B354-186D1A701882&match=1336
DTSTART;TZID=Europe/Brussels:20250226T190000
DTEND;TZID=Europe/Brussels:20250226T190000
END:VEVENT
BEGIN:VEVENT
UID:541D9693-BA5C-49F3-B354-186D1A701882-31-1338_awayreminder@154.badminton
 ners.net
DTSTAMP:20260420T072403Z
SUMMARY:Uitmatch bevestigd? (Berlaar 2G (100) - Merksplas 2G (96))
DESCRIPTION:Je hebt 72 uur na aanvang om een uitmatch op Badmintonvlaandere
 n in te vullen. Match info: Berlaar 2G (100) - Merksplas 2G (96) - Link: h
 ttps://www.badmintonvlaanderen.be/sport/teammatch.aspx?id=541D9693-BA5C-49
 F3-B354-186D1A701882&match=1338
DTSTART;TZID=Europe/Brussels:20250326T093000
DTEND;TZID=Europe/Brussels:20250326T093000
END:VEVENT
END:VCALENDAR