BEGIN:VCALENDAR
VERSION:2.0
PRODID:spatie/icalendar-generator
NAME:de_nekker_2g_87_reminders
X-WR-CALNAME:de_nekker_2g_87_reminders
BEGIN:VTIMEZONE
TZID:Europe/Brussels
BEGIN:DAYLIGHT
DTSTART:20240331T010000
TZOFFSETFROM:+0100
TZOFFSETTO:+0200
END:DAYLIGHT
BEGIN:STANDARD
DTSTART:20241027T030000
TZOFFSETFROM:+0200
TZOFFSETTO:+0100
END:STANDARD
BEGIN:DAYLIGHT
DTSTART:20250330T010000
TZOFFSETFROM:+0100
TZOFFSETTO:+0200
END:DAYLIGHT
END:VTIMEZONE
BEGIN:VTIMEZONE
TZID:UTC
BEGIN:STANDARD
DTSTART:20250724T072434
TZOFFSETFROM:+0000
TZOFFSETTO:+0000
END:STANDARD
END:VTIMEZONE
BEGIN:VEVENT
UID:541D9693-BA5C-49F3-B354-186D1A701882-31-1359_homereminder@158.badminton
 ners.net
DTSTAMP:20260420T072434Z
SUMMARY:Thuismatch ingevuld? (De Nekker 2G (87) - Poona 2G (83))
DESCRIPTION:Je hebt 36 uur na aanvang om een thuismatch op Badmintonvlaande
 ren in te vullen. Match info: De Nekker 2G (87) - Poona 2G (83) - Link: ht
 tps://www.badmintonvlaanderen.be/sport/teammatch.aspx?id=541D9693-BA5C-49F
 3-B354-186D1A701882&match=1359
DTSTART;TZID=Europe/Brussels:20240920T083000
DTEND;TZID=Europe/Brussels:20240920T083000
END:VEVENT
BEGIN:VEVENT
UID:541D9693-BA5C-49F3-B354-186D1A701882-31-1371_homereminder@158.badminton
 ners.net
DTSTAMP:20260420T072434Z
SUMMARY:Thuismatch ingevuld? (De Nekker 2G (87) - Herentals 3G (89))
DESCRIPTION:Je hebt 36 uur na aanvang om een thuismatch op Badmintonvlaande
 ren in te vullen. Match info: De Nekker 2G (87) - Herentals 3G (89) - Link
 : https://www.badmintonvlaanderen.be/sport/teammatch.aspx?id=541D9693-BA5C
 -49F3-B354-186D1A701882&match=1371
DTSTART;TZID=Europe/Brussels:20241018T083000
DTEND;TZID=Europe/Brussels:20241018T083000
END:VEVENT
BEGIN:VEVENT
UID:541D9693-BA5C-49F3-B354-186D1A701882-31-1347_homereminder@158.badminton
 ners.net
DTSTAMP:20260420T072434Z
SUMMARY:Thuismatch ingevuld? (De Nekker 2G (87) - Plumula 3G (103))
DESCRIPTION:Je hebt 36 uur na aanvang om een thuismatch op Badmintonvlaande
 ren in te vullen. Match info: De Nekker 2G (87) - Plumula 3G (103) - Link:
  https://www.badmintonvlaanderen.be/sport/teammatch.aspx?id=541D9693-BA5C-
 49F3-B354-186D1A701882&match=1347
DTSTART;TZID=Europe/Brussels:20241213T083000
DTEND;TZID=Europe/Brussels:20241213T083000
END:VEVENT
BEGIN:VEVENT
UID:541D9693-BA5C-49F3-B354-186D1A701882-31-1334_homereminder@158.badminton
 ners.net
DTSTAMP:20260420T072434Z
SUMMARY:Thuismatch ingevuld? (De Nekker 2G (87) - Merksplas 2G (96))
DESCRIPTION:Je hebt 36 uur na aanvang om een thuismatch op Badmintonvlaande
 ren in te vullen. Match info: De Nekker 2G (87) - Merksplas 2G (96) - Link
 : https://www.badmintonvlaanderen.be/sport/teammatch.aspx?id=541D9693-BA5C
 -49F3-B354-186D1A701882&match=1334
DTSTART;TZID=Europe/Brussels:20250124T083000
DTEND;TZID=Europe/Brussels:20250124T083000
END:VEVENT
BEGIN:VEVENT
UID:541D9693-BA5C-49F3-B354-186D1A701882-31-1365_homereminder@158.badminton
 ners.net
DTSTAMP:20260420T072434Z
SUMMARY:Thuismatch ingevuld? (De Nekker 2G (87) - Berlaar 2G (100))
DESCRIPTION:Je hebt 36 uur na aanvang om een thuismatch op Badmintonvlaande
 ren in te vullen. Match info: De Nekker 2G (87) - Berlaar 2G (100) - Link:
  https://www.badmintonvlaanderen.be/sport/teammatch.aspx?id=541D9693-BA5C-
 49F3-B354-186D1A701882&match=1365
DTSTART;TZID=Europe/Brussels:20250221T083000
DTEND;TZID=Europe/Brussels:20250221T083000
END:VEVENT
BEGIN:VEVENT
UID:541D9693-BA5C-49F3-B354-186D1A701882-31-1353_homereminder@158.badminton
 ners.net
DTSTAMP:20260420T072434Z
SUMMARY:Thuismatch ingevuld? (De Nekker 2G (87) - Klein Boom 4G (85))
DESCRIPTION:Je hebt 36 uur na aanvang om een thuismatch op Badmintonvlaande
 ren in te vullen. Match info: De Nekker 2G (87) - Klein Boom 4G (85) - Lin
 k: https://www.badmintonvlaanderen.be/sport/teammatch.aspx?id=541D9693-BA5
 C-49F3-B354-186D1A701882&match=1353
DTSTART;TZID=Europe/Brussels:20250307T083000
DTEND;TZID=Europe/Brussels:20250307T083000
END:VEVENT
BEGIN:VEVENT
UID:541D9693-BA5C-49F3-B354-186D1A701882-31-1342_awayreminder@158.badminton
 ners.net
DTSTAMP:20260420T072434Z
SUMMARY:Uitmatch bevestigd? (Klein Boom 4G (85) - De Nekker 2G (87))
DESCRIPTION:Je hebt 72 uur na aanvang om een uitmatch op Badmintonvlaandere
 n in te vullen. Match info: Klein Boom 4G (85) - De Nekker 2G (87) - Link:
  https://www.badmintonvlaanderen.be/sport/teammatch.aspx?id=541D9693-BA5C-
 49F3-B354-186D1A701882&match=1342
DTSTART;TZID=Europe/Brussels:20240911T190000
DTEND;TZID=Europe/Brussels:20240911T190000
END:VEVENT
BEGIN:VEVENT
UID:541D9693-BA5C-49F3-B354-186D1A701882-31-1344_awayreminder@158.badminton
 ners.net
DTSTAMP:20260420T072434Z
SUMMARY:Uitmatch bevestigd? (Berlaar 2G (100) - De Nekker 2G (87))
DESCRIPTION:Je hebt 72 uur na aanvang om een uitmatch op Badmintonvlaandere
 n in te vullen. Match info: Berlaar 2G (100) - De Nekker 2G (87) - Link: h
 ttps://www.badmintonvlaanderen.be/sport/teammatch.aspx?id=541D9693-BA5C-49
 F3-B354-186D1A701882&match=1344
DTSTART;TZID=Europe/Brussels:20241009T093000
DTEND;TZID=Europe/Brussels:20241009T093000
END:VEVENT
BEGIN:VEVENT
UID:541D9693-BA5C-49F3-B354-186D1A701882-31-1340_awayreminder@158.badminton
 ners.net
DTSTAMP:20260420T072434Z
SUMMARY:Uitmatch bevestigd? (Merksplas 2G (96) - De Nekker 2G (87))
DESCRIPTION:Je hebt 72 uur na aanvang om een uitmatch op Badmintonvlaandere
 n in te vullen. Match info: Merksplas 2G (96) - De Nekker 2G (87) - Link: 
 https://www.badmintonvlaanderen.be/sport/teammatch.aspx?id=541D9693-BA5C-4
 9F3-B354-186D1A701882&match=1340
DTSTART;TZID=Europe/Brussels:20241204T183000
DTEND;TZID=Europe/Brussels:20241204T183000
END:VEVENT
BEGIN:VEVENT
UID:541D9693-BA5C-49F3-B354-186D1A701882-31-1345_awayreminder@158.badminton
 ners.net
DTSTAMP:20260420T072434Z
SUMMARY:Uitmatch bevestigd? (Herentals 3G (89) - De Nekker 2G (87))
DESCRIPTION:Je hebt 72 uur na aanvang om een uitmatch op Badmintonvlaandere
 n in te vullen. Match info: Herentals 3G (89) - De Nekker 2G (87) - Link: 
 https://www.badmintonvlaanderen.be/sport/teammatch.aspx?id=541D9693-BA5C-4
 9F3-B354-186D1A701882&match=1345
DTSTART;TZID=Europe/Brussels:20250109T210000
DTEND;TZID=Europe/Brussels:20250109T210000
END:VEVENT
BEGIN:VEVENT
UID:541D9693-BA5C-49F3-B354-186D1A701882-31-1341_awayreminder@158.badminton
 ners.net
DTSTAMP:20260420T072434Z
SUMMARY:Uitmatch bevestigd? (Plumula 3G (103) - De Nekker 2G (87))
DESCRIPTION:Je hebt 72 uur na aanvang om een uitmatch op Badmintonvlaandere
 n in te vullen. Match info: Plumula 3G (103) - De Nekker 2G (87) - Link: h
 ttps://www.badmintonvlaanderen.be/sport/teammatch.aspx?id=541D9693-BA5C-49
 F3-B354-186D1A701882&match=1341
DTSTART;TZID=Europe/Brussels:20250226T173000
DTEND;TZID=Europe/Brussels:20250226T173000
END:VEVENT
BEGIN:VEVENT
UID:541D9693-BA5C-49F3-B354-186D1A701882-31-1343_awayreminder@158.badminton
 ners.net
DTSTAMP:20260420T072434Z
SUMMARY:Uitmatch bevestigd? (Poona 2G (83) - De Nekker 2G (87))
DESCRIPTION:Je hebt 72 uur na aanvang om een uitmatch op Badmintonvlaandere
 n in te vullen. Match info: Poona 2G (83) - De Nekker 2G (87) - Link: http
 s://www.badmintonvlaanderen.be/sport/teammatch.aspx?id=541D9693-BA5C-49F3-
 B354-186D1A701882&match=1343
DTSTART;TZID=Europe/Brussels:20250320T200000
DTEND;TZID=Europe/Brussels:20250320T200000
END:VEVENT
END:VCALENDAR