BEGIN:VCALENDAR
VERSION:2.0
PRODID:spatie/icalendar-generator
NAME:opslag_2g_70_reminders
X-WR-CALNAME:opslag_2g_70_reminders
BEGIN:VTIMEZONE
TZID:Europe/Brussels
BEGIN:DAYLIGHT
DTSTART:20240331T010000
TZOFFSETFROM:+0100
TZOFFSETTO:+0200
END:DAYLIGHT
BEGIN:STANDARD
DTSTART:20241027T030000
TZOFFSETFROM:+0200
TZOFFSETTO:+0100
END:STANDARD
BEGIN:DAYLIGHT
DTSTART:20250330T010000
TZOFFSETFROM:+0100
TZOFFSETTO:+0200
END:DAYLIGHT
END:VTIMEZONE
BEGIN:VTIMEZONE
TZID:UTC
BEGIN:STANDARD
DTSTART:20250724T072432
TZOFFSETFROM:+0000
TZOFFSETTO:+0000
END:STANDARD
END:VTIMEZONE
BEGIN:VEVENT
UID:541D9693-BA5C-49F3-B354-186D1A701882-6-232_homereminder@119.badmintonne
 rs.net
DTSTAMP:20260420T072432Z
SUMMARY:Thuismatch ingevuld? (Opslag 2G (70) - De Klamp 2G (64))
DESCRIPTION:Je hebt 36 uur na aanvang om een thuismatch op Badmintonvlaande
 ren in te vullen. Match info: Opslag 2G (70) - De Klamp 2G (64) - Link: ht
 tps://www.badmintonvlaanderen.be/sport/teammatch.aspx?id=541D9693-BA5C-49F
 3-B354-186D1A701882&match=232
DTSTART;TZID=Europe/Brussels:20241020T080000
DTEND;TZID=Europe/Brussels:20241020T080000
END:VEVENT
BEGIN:VEVENT
UID:541D9693-BA5C-49F3-B354-186D1A701882-6-216_homereminder@119.badmintonne
 rs.net
DTSTAMP:20260420T072432Z
SUMMARY:Thuismatch ingevuld? (Opslag 2G (70) - Bacss 1G (74))
DESCRIPTION:Je hebt 36 uur na aanvang om een thuismatch op Badmintonvlaande
 ren in te vullen. Match info: Opslag 2G (70) - Bacss 1G (74) - Link: https
 ://www.badmintonvlaanderen.be/sport/teammatch.aspx?id=541D9693-BA5C-49F3-B
 354-186D1A701882&match=216
DTSTART;TZID=Europe/Brussels:20241119T043000
DTEND;TZID=Europe/Brussels:20241119T043000
END:VEVENT
BEGIN:VEVENT
UID:541D9693-BA5C-49F3-B354-186D1A701882-6-242_homereminder@119.badmintonne
 rs.net
DTSTAMP:20260420T072432Z
SUMMARY:Thuismatch ingevuld? (Opslag 2G (70) - Klein Boom 2G (67))
DESCRIPTION:Je hebt 36 uur na aanvang om een thuismatch op Badmintonvlaande
 ren in te vullen. Match info: Opslag 2G (70) - Klein Boom 2G (67) - Link: 
 https://www.badmintonvlaanderen.be/sport/teammatch.aspx?id=541D9693-BA5C-4
 9F3-B354-186D1A701882&match=242
DTSTART;TZID=Europe/Brussels:20241203T043000
DTEND;TZID=Europe/Brussels:20241203T043000
END:VEVENT
BEGIN:VEVENT
UID:541D9693-BA5C-49F3-B354-186D1A701882-6-221_homereminder@119.badmintonne
 rs.net
DTSTAMP:20260420T072432Z
SUMMARY:Thuismatch ingevuld? (Opslag 2G (70) - Beerke 1G (71))
DESCRIPTION:Je hebt 36 uur na aanvang om een thuismatch op Badmintonvlaande
 ren in te vullen. Match info: Opslag 2G (70) - Beerke 1G (71) - Link: http
 s://www.badmintonvlaanderen.be/sport/teammatch.aspx?id=541D9693-BA5C-49F3-
 B354-186D1A701882&match=221
DTSTART;TZID=Europe/Brussels:20250225T043000
DTEND;TZID=Europe/Brussels:20250225T043000
END:VEVENT
BEGIN:VEVENT
UID:541D9693-BA5C-49F3-B354-186D1A701882-6-237_homereminder@119.badmintonne
 rs.net
DTSTAMP:20260420T072432Z
SUMMARY:Thuismatch ingevuld? (Opslag 2G (70) - Huirtuits Dropke 2G (65))
DESCRIPTION:Je hebt 36 uur na aanvang om een thuismatch op Badmintonvlaande
 ren in te vullen. Match info: Opslag 2G (70) - Huirtuits Dropke 2G (65) - 
 Link: https://www.badmintonvlaanderen.be/sport/teammatch.aspx?id=541D9693-
 BA5C-49F3-B354-186D1A701882&match=237
DTSTART;TZID=Europe/Brussels:20250311T071500
DTEND;TZID=Europe/Brussels:20250311T071500
END:VEVENT
BEGIN:VEVENT
UID:541D9693-BA5C-49F3-B354-186D1A701882-6-226_awayreminder@119.badmintonne
 rs.net
DTSTAMP:20260420T072432Z
SUMMARY:Uitmatch bevestigd? (Beerke 1G (71) - Opslag 2G (70))
DESCRIPTION:Je hebt 72 uur na aanvang om een uitmatch op Badmintonvlaandere
 n in te vullen. Match info: Beerke 1G (71) - Opslag 2G (70) - Link: https:
 //www.badmintonvlaanderen.be/sport/teammatch.aspx?id=541D9693-BA5C-49F3-B3
 54-186D1A701882&match=226
DTSTART;TZID=Europe/Brussels:20241117T200000
DTEND;TZID=Europe/Brussels:20241117T200000
END:VEVENT
BEGIN:VEVENT
UID:541D9693-BA5C-49F3-B354-186D1A701882-6-228_awayreminder@119.badmintonne
 rs.net
DTSTAMP:20260420T072432Z
SUMMARY:Uitmatch bevestigd? (Huirtuits Dropke 2G (65) - Opslag 2G (70))
DESCRIPTION:Je hebt 72 uur na aanvang om een uitmatch op Badmintonvlaandere
 n in te vullen. Match info: Huirtuits Dropke 2G (65) - Opslag 2G (70) - Li
 nk: https://www.badmintonvlaanderen.be/sport/teammatch.aspx?id=541D9693-BA
 5C-49F3-B354-186D1A701882&match=228
DTSTART;TZID=Europe/Brussels:20241218T183000
DTEND;TZID=Europe/Brussels:20241218T183000
END:VEVENT
BEGIN:VEVENT
UID:541D9693-BA5C-49F3-B354-186D1A701882-6-227_awayreminder@119.badmintonne
 rs.net
DTSTAMP:20260420T072432Z
SUMMARY:Uitmatch bevestigd? (De Klamp 2G (64) - Opslag 2G (70))
DESCRIPTION:Je hebt 72 uur na aanvang om een uitmatch op Badmintonvlaandere
 n in te vullen. Match info: De Klamp 2G (64) - Opslag 2G (70) - Link: http
 s://www.badmintonvlaanderen.be/sport/teammatch.aspx?id=541D9693-BA5C-49F3-
 B354-186D1A701882&match=227
DTSTART;TZID=Europe/Brussels:20250115T181500
DTEND;TZID=Europe/Brussels:20250115T181500
END:VEVENT
BEGIN:VEVENT
UID:541D9693-BA5C-49F3-B354-186D1A701882-6-225_awayreminder@119.badmintonne
 rs.net
DTSTAMP:20260420T072432Z
SUMMARY:Uitmatch bevestigd? (Bacss 1G (74) - Opslag 2G (70))
DESCRIPTION:Je hebt 72 uur na aanvang om een uitmatch op Badmintonvlaandere
 n in te vullen. Match info: Bacss 1G (74) - Opslag 2G (70) - Link: https:/
 /www.badmintonvlaanderen.be/sport/teammatch.aspx?id=541D9693-BA5C-49F3-B35
 4-186D1A701882&match=225
DTSTART;TZID=Europe/Brussels:20250212T100000
DTEND;TZID=Europe/Brussels:20250212T100000
END:VEVENT
BEGIN:VEVENT
UID:541D9693-BA5C-49F3-B354-186D1A701882-6-229_awayreminder@119.badmintonne
 rs.net
DTSTAMP:20260420T072432Z
SUMMARY:Uitmatch bevestigd? (Klein Boom 2G (67) - Opslag 2G (70))
DESCRIPTION:Je hebt 72 uur na aanvang om een uitmatch op Badmintonvlaandere
 n in te vullen. Match info: Klein Boom 2G (67) - Opslag 2G (70) - Link: ht
 tps://www.badmintonvlaanderen.be/sport/teammatch.aspx?id=541D9693-BA5C-49F
 3-B354-186D1A701882&match=229
DTSTART;TZID=Europe/Brussels:20250326T190000
DTEND;TZID=Europe/Brussels:20250326T190000
END:VEVENT
END:VCALENDAR