BEGIN:VCALENDAR
VERSION:2.0
PRODID:spatie/icalendar-generator
NAME:de_klamp_2g_64_reminders
X-WR-CALNAME:de_klamp_2g_64_reminders
BEGIN:VTIMEZONE
TZID:Europe/Brussels
BEGIN:DAYLIGHT
DTSTART:20240331T010000
TZOFFSETFROM:+0100
TZOFFSETTO:+0200
END:DAYLIGHT
BEGIN:STANDARD
DTSTART:20241027T030000
TZOFFSETFROM:+0200
TZOFFSETTO:+0100
END:STANDARD
BEGIN:DAYLIGHT
DTSTART:20250330T010000
TZOFFSETFROM:+0100
TZOFFSETTO:+0200
END:DAYLIGHT
END:VTIMEZONE
BEGIN:VTIMEZONE
TZID:UTC
BEGIN:STANDARD
DTSTART:20250724T072403
TZOFFSETFROM:+0000
TZOFFSETTO:+0000
END:STANDARD
END:VTIMEZONE
BEGIN:VEVENT
UID:541D9693-BA5C-49F3-B354-186D1A701882-6-238_homereminder@120.badmintonne
 rs.net
DTSTAMP:20260420T072403Z
SUMMARY:Thuismatch ingevuld? (De Klamp 2G (64) - Huirtuits Dropke 2G (65))
DESCRIPTION:Je hebt 36 uur na aanvang om een thuismatch op Badmintonvlaande
 ren in te vullen. Match info: De Klamp 2G (64) - Huirtuits Dropke 2G (65) 
 - Link: https://www.badmintonvlaanderen.be/sport/teammatch.aspx?id=541D969
 3-BA5C-49F3-B354-186D1A701882&match=238
DTSTART;TZID=Europe/Brussels:20241022T061500
DTEND;TZID=Europe/Brussels:20241022T061500
END:VEVENT
BEGIN:VEVENT
UID:541D9693-BA5C-49F3-B354-186D1A701882-6-222_homereminder@120.badmintonne
 rs.net
DTSTAMP:20260420T072403Z
SUMMARY:Thuismatch ingevuld? (De Klamp 2G (64) - Beerke 1G (71))
DESCRIPTION:Je hebt 36 uur na aanvang om een thuismatch op Badmintonvlaande
 ren in te vullen. Match info: De Klamp 2G (64) - Beerke 1G (71) - Link: ht
 tps://www.badmintonvlaanderen.be/sport/teammatch.aspx?id=541D9693-BA5C-49F
 3-B354-186D1A701882&match=222
DTSTART;TZID=Europe/Brussels:20241203T061500
DTEND;TZID=Europe/Brussels:20241203T061500
END:VEVENT
BEGIN:VEVENT
UID:541D9693-BA5C-49F3-B354-186D1A701882-6-227_homereminder@120.badmintonne
 rs.net
DTSTAMP:20260420T072403Z
SUMMARY:Thuismatch ingevuld? (De Klamp 2G (64) - Opslag 2G (70))
DESCRIPTION:Je hebt 36 uur na aanvang om een thuismatch op Badmintonvlaande
 ren in te vullen. Match info: De Klamp 2G (64) - Opslag 2G (70) - Link: ht
 tps://www.badmintonvlaanderen.be/sport/teammatch.aspx?id=541D9693-BA5C-49F
 3-B354-186D1A701882&match=227
DTSTART;TZID=Europe/Brussels:20250114T061500
DTEND;TZID=Europe/Brussels:20250114T061500
END:VEVENT
BEGIN:VEVENT
UID:541D9693-BA5C-49F3-B354-186D1A701882-6-217_homereminder@120.badmintonne
 rs.net
DTSTAMP:20260420T072403Z
SUMMARY:Thuismatch ingevuld? (De Klamp 2G (64) - Bacss 1G (74))
DESCRIPTION:Je hebt 36 uur na aanvang om een thuismatch op Badmintonvlaande
 ren in te vullen. Match info: De Klamp 2G (64) - Bacss 1G (74) - Link: htt
 ps://www.badmintonvlaanderen.be/sport/teammatch.aspx?id=541D9693-BA5C-49F3
 -B354-186D1A701882&match=217
DTSTART;TZID=Europe/Brussels:20250225T061500
DTEND;TZID=Europe/Brussels:20250225T061500
END:VEVENT
BEGIN:VEVENT
UID:541D9693-BA5C-49F3-B354-186D1A701882-6-243_homereminder@120.badmintonne
 rs.net
DTSTAMP:20260420T072403Z
SUMMARY:Thuismatch ingevuld? (De Klamp 2G (64) - Klein Boom 2G (67))
DESCRIPTION:Je hebt 36 uur na aanvang om een thuismatch op Badmintonvlaande
 ren in te vullen. Match info: De Klamp 2G (64) - Klein Boom 2G (67) - Link
 : https://www.badmintonvlaanderen.be/sport/teammatch.aspx?id=541D9693-BA5C
 -49F3-B354-186D1A701882&match=243
DTSTART;TZID=Europe/Brussels:20250311T061500
DTEND;TZID=Europe/Brussels:20250311T061500
END:VEVENT
BEGIN:VEVENT
UID:541D9693-BA5C-49F3-B354-186D1A701882-6-232_awayreminder@120.badmintonne
 rs.net
DTSTAMP:20260420T072403Z
SUMMARY:Uitmatch bevestigd? (Opslag 2G (70) - De Klamp 2G (64))
DESCRIPTION:Je hebt 72 uur na aanvang om een uitmatch op Badmintonvlaandere
 n in te vullen. Match info: Opslag 2G (70) - De Klamp 2G (64) - Link: http
 s://www.badmintonvlaanderen.be/sport/teammatch.aspx?id=541D9693-BA5C-49F3-
 B354-186D1A701882&match=232
DTSTART;TZID=Europe/Brussels:20241021T200000
DTEND;TZID=Europe/Brussels:20241021T200000
END:VEVENT
BEGIN:VEVENT
UID:541D9693-BA5C-49F3-B354-186D1A701882-6-230_awayreminder@120.badmintonne
 rs.net
DTSTAMP:20260420T072403Z
SUMMARY:Uitmatch bevestigd? (Bacss 1G (74) - De Klamp 2G (64))
DESCRIPTION:Je hebt 72 uur na aanvang om een uitmatch op Badmintonvlaandere
 n in te vullen. Match info: Bacss 1G (74) - De Klamp 2G (64) - Link: https
 ://www.badmintonvlaanderen.be/sport/teammatch.aspx?id=541D9693-BA5C-49F3-B
 354-186D1A701882&match=230
DTSTART;TZID=Europe/Brussels:20241209T201500
DTEND;TZID=Europe/Brussels:20241209T201500
END:VEVENT
BEGIN:VEVENT
UID:541D9693-BA5C-49F3-B354-186D1A701882-6-234_awayreminder@120.badmintonne
 rs.net
DTSTAMP:20260420T072403Z
SUMMARY:Uitmatch bevestigd? (Klein Boom 2G (67) - De Klamp 2G (64))
DESCRIPTION:Je hebt 72 uur na aanvang om een uitmatch op Badmintonvlaandere
 n in te vullen. Match info: Klein Boom 2G (67) - De Klamp 2G (64) - Link: 
 https://www.badmintonvlaanderen.be/sport/teammatch.aspx?id=541D9693-BA5C-4
 9F3-B354-186D1A701882&match=234
DTSTART;TZID=Europe/Brussels:20241218T190000
DTEND;TZID=Europe/Brussels:20241218T190000
END:VEVENT
BEGIN:VEVENT
UID:541D9693-BA5C-49F3-B354-186D1A701882-6-233_awayreminder@120.badmintonne
 rs.net
DTSTAMP:20260420T072403Z
SUMMARY:Uitmatch bevestigd? (Huirtuits Dropke 2G (65) - De Klamp 2G (64))
DESCRIPTION:Je hebt 72 uur na aanvang om een uitmatch op Badmintonvlaandere
 n in te vullen. Match info: Huirtuits Dropke 2G (65) - De Klamp 2G (64) - 
 Link: https://www.badmintonvlaanderen.be/sport/teammatch.aspx?id=541D9693-
 BA5C-49F3-B354-186D1A701882&match=233
DTSTART;TZID=Europe/Brussels:20250212T183000
DTEND;TZID=Europe/Brussels:20250212T183000
END:VEVENT
BEGIN:VEVENT
UID:541D9693-BA5C-49F3-B354-186D1A701882-6-231_awayreminder@120.badmintonne
 rs.net
DTSTAMP:20260420T072403Z
SUMMARY:Uitmatch bevestigd? (Beerke 1G (71) - De Klamp 2G (64))
DESCRIPTION:Je hebt 72 uur na aanvang om een uitmatch op Badmintonvlaandere
 n in te vullen. Match info: Beerke 1G (71) - De Klamp 2G (64) - Link: http
 s://www.badmintonvlaanderen.be/sport/teammatch.aspx?id=541D9693-BA5C-49F3-
 B354-186D1A701882&match=231
DTSTART;TZID=Europe/Brussels:20250326T100000
DTEND;TZID=Europe/Brussels:20250326T100000
END:VEVENT
END:VCALENDAR