BEGIN:VCALENDAR
VERSION:2.0
PRODID:spatie/icalendar-generator
NAME:bacss_1g_74_reminders
X-WR-CALNAME:bacss_1g_74_reminders
BEGIN:VTIMEZONE
TZID:Europe/Brussels
BEGIN:DAYLIGHT
DTSTART:20240331T010000
TZOFFSETFROM:+0100
TZOFFSETTO:+0200
END:DAYLIGHT
BEGIN:STANDARD
DTSTART:20241027T030000
TZOFFSETFROM:+0200
TZOFFSETTO:+0100
END:STANDARD
BEGIN:DAYLIGHT
DTSTART:20250330T010000
TZOFFSETFROM:+0100
TZOFFSETTO:+0200
END:DAYLIGHT
END:VTIMEZONE
BEGIN:VTIMEZONE
TZID:UTC
BEGIN:STANDARD
DTSTART:20250724T055125
TZOFFSETFROM:+0000
TZOFFSETTO:+0000
END:STANDARD
END:VTIMEZONE
BEGIN:VEVENT
UID:541D9693-BA5C-49F3-B354-186D1A701882-6-240_homereminder@122.badmintonne
 rs.net
DTSTAMP:20260420T055125Z
SUMMARY:Thuismatch ingevuld? (Bacss 1G (74) - Klein Boom 2G (67))
DESCRIPTION:Je hebt 36 uur na aanvang om een thuismatch op Badmintonvlaande
 ren in te vullen. Match info: Bacss 1G (74) - Klein Boom 2G (67) - Link: h
 ttps://www.badmintonvlaanderen.be/sport/teammatch.aspx?id=541D9693-BA5C-49
 F3-B354-186D1A701882&match=240
DTSTART;TZID=Europe/Brussels:20241027T071500
DTEND;TZID=Europe/Brussels:20241027T071500
END:VEVENT
BEGIN:VEVENT
UID:541D9693-BA5C-49F3-B354-186D1A701882-6-230_homereminder@122.badmintonne
 rs.net
DTSTAMP:20260420T055125Z
SUMMARY:Thuismatch ingevuld? (Bacss 1G (74) - De Klamp 2G (64))
DESCRIPTION:Je hebt 36 uur na aanvang om een thuismatch op Badmintonvlaande
 ren in te vullen. Match info: Bacss 1G (74) - De Klamp 2G (64) - Link: htt
 ps://www.badmintonvlaanderen.be/sport/teammatch.aspx?id=541D9693-BA5C-49F3
 -B354-186D1A701882&match=230
DTSTART;TZID=Europe/Brussels:20241208T081500
DTEND;TZID=Europe/Brussels:20241208T081500
END:VEVENT
BEGIN:VEVENT
UID:541D9693-BA5C-49F3-B354-186D1A701882-6-220_homereminder@122.badmintonne
 rs.net
DTSTAMP:20260420T055125Z
SUMMARY:Thuismatch ingevuld? (Bacss 1G (74) - Beerke 1G (71))
DESCRIPTION:Je hebt 36 uur na aanvang om een thuismatch op Badmintonvlaande
 ren in te vullen. Match info: Bacss 1G (74) - Beerke 1G (71) - Link: https
 ://www.badmintonvlaanderen.be/sport/teammatch.aspx?id=541D9693-BA5C-49F3-B
 354-186D1A701882&match=220
DTSTART;TZID=Europe/Brussels:20241216T220000
DTEND;TZID=Europe/Brussels:20241216T220000
END:VEVENT
BEGIN:VEVENT
UID:541D9693-BA5C-49F3-B354-186D1A701882-6-225_homereminder@122.badmintonne
 rs.net
DTSTAMP:20260420T055125Z
SUMMARY:Thuismatch ingevuld? (Bacss 1G (74) - Opslag 2G (70))
DESCRIPTION:Je hebt 36 uur na aanvang om een thuismatch op Badmintonvlaande
 ren in te vullen. Match info: Bacss 1G (74) - Opslag 2G (70) - Link: https
 ://www.badmintonvlaanderen.be/sport/teammatch.aspx?id=541D9693-BA5C-49F3-B
 354-186D1A701882&match=225
DTSTART;TZID=Europe/Brussels:20250210T220000
DTEND;TZID=Europe/Brussels:20250210T220000
END:VEVENT
BEGIN:VEVENT
UID:541D9693-BA5C-49F3-B354-186D1A701882-6-235_homereminder@122.badmintonne
 rs.net
DTSTAMP:20260420T055125Z
SUMMARY:Thuismatch ingevuld? (Bacss 1G (74) - Huirtuits Dropke 2G (65))
DESCRIPTION:Je hebt 36 uur na aanvang om een thuismatch op Badmintonvlaande
 ren in te vullen. Match info: Bacss 1G (74) - Huirtuits Dropke 2G (65) - L
 ink: https://www.badmintonvlaanderen.be/sport/teammatch.aspx?id=541D9693-B
 A5C-49F3-B354-186D1A701882&match=235
DTSTART;TZID=Europe/Brussels:20250303T220000
DTEND;TZID=Europe/Brussels:20250303T220000
END:VEVENT
BEGIN:VEVENT
UID:541D9693-BA5C-49F3-B354-186D1A701882-6-216_awayreminder@122.badmintonne
 rs.net
DTSTAMP:20260420T055125Z
SUMMARY:Uitmatch bevestigd? (Opslag 2G (70) - Bacss 1G (74))
DESCRIPTION:Je hebt 72 uur na aanvang om een uitmatch op Badmintonvlaandere
 n in te vullen. Match info: Opslag 2G (70) - Bacss 1G (74) - Link: https:/
 /www.badmintonvlaanderen.be/sport/teammatch.aspx?id=541D9693-BA5C-49F3-B35
 4-186D1A701882&match=216
DTSTART;TZID=Europe/Brussels:20241120T163000
DTEND;TZID=Europe/Brussels:20241120T163000
END:VEVENT
BEGIN:VEVENT
UID:541D9693-BA5C-49F3-B354-186D1A701882-6-218_awayreminder@122.badmintonne
 rs.net
DTSTAMP:20260420T055125Z
SUMMARY:Uitmatch bevestigd? (Huirtuits Dropke 2G (65) - Bacss 1G (74))
DESCRIPTION:Je hebt 72 uur na aanvang om een uitmatch op Badmintonvlaandere
 n in te vullen. Match info: Huirtuits Dropke 2G (65) - Bacss 1G (74) - Lin
 k: https://www.badmintonvlaanderen.be/sport/teammatch.aspx?id=541D9693-BA5
 C-49F3-B354-186D1A701882&match=218
DTSTART;TZID=Europe/Brussels:20241204T183000
DTEND;TZID=Europe/Brussels:20241204T183000
END:VEVENT
BEGIN:VEVENT
UID:541D9693-BA5C-49F3-B354-186D1A701882-6-219_awayreminder@122.badmintonne
 rs.net
DTSTAMP:20260420T055125Z
SUMMARY:Uitmatch bevestigd? (Klein Boom 2G (67) - Bacss 1G (74))
DESCRIPTION:Je hebt 72 uur na aanvang om een uitmatch op Badmintonvlaandere
 n in te vullen. Match info: Klein Boom 2G (67) - Bacss 1G (74) - Link: htt
 ps://www.badmintonvlaanderen.be/sport/teammatch.aspx?id=541D9693-BA5C-49F3
 -B354-186D1A701882&match=219
DTSTART;TZID=Europe/Brussels:20250115T190000
DTEND;TZID=Europe/Brussels:20250115T190000
END:VEVENT
BEGIN:VEVENT
UID:541D9693-BA5C-49F3-B354-186D1A701882-6-217_awayreminder@122.badmintonne
 rs.net
DTSTAMP:20260420T055125Z
SUMMARY:Uitmatch bevestigd? (De Klamp 2G (64) - Bacss 1G (74))
DESCRIPTION:Je hebt 72 uur na aanvang om een uitmatch op Badmintonvlaandere
 n in te vullen. Match info: De Klamp 2G (64) - Bacss 1G (74) - Link: https
 ://www.badmintonvlaanderen.be/sport/teammatch.aspx?id=541D9693-BA5C-49F3-B
 354-186D1A701882&match=217
DTSTART;TZID=Europe/Brussels:20250226T181500
DTEND;TZID=Europe/Brussels:20250226T181500
END:VEVENT
BEGIN:VEVENT
UID:541D9693-BA5C-49F3-B354-186D1A701882-6-215_awayreminder@122.badmintonne
 rs.net
DTSTAMP:20260420T055125Z
SUMMARY:Uitmatch bevestigd? (Beerke 1G (71) - Bacss 1G (74))
DESCRIPTION:Je hebt 72 uur na aanvang om een uitmatch op Badmintonvlaandere
 n in te vullen. Match info: Beerke 1G (71) - Bacss 1G (74) - Link: https:/
 /www.badmintonvlaanderen.be/sport/teammatch.aspx?id=541D9693-BA5C-49F3-B35
 4-186D1A701882&match=215
DTSTART;TZID=Europe/Brussels:20250312T100000
DTEND;TZID=Europe/Brussels:20250312T100000
END:VEVENT
END:VCALENDAR