BEGIN:VCALENDAR
VERSION:2.0
PRODID:spatie/icalendar-generator
NAME:beerke_1g_71_reminders
X-WR-CALNAME:beerke_1g_71_reminders
BEGIN:VTIMEZONE
TZID:Europe/Brussels
BEGIN:DAYLIGHT
DTSTART:20240331T010000
TZOFFSETFROM:+0100
TZOFFSETTO:+0200
END:DAYLIGHT
BEGIN:STANDARD
DTSTART:20241027T030000
TZOFFSETFROM:+0200
TZOFFSETTO:+0100
END:STANDARD
BEGIN:DAYLIGHT
DTSTART:20250330T010000
TZOFFSETFROM:+0100
TZOFFSETTO:+0200
END:DAYLIGHT
END:VTIMEZONE
BEGIN:VTIMEZONE
TZID:UTC
BEGIN:STANDARD
DTSTART:20250724T072407
TZOFFSETFROM:+0000
TZOFFSETTO:+0000
END:STANDARD
END:VTIMEZONE
BEGIN:VEVENT
UID:541D9693-BA5C-49F3-B354-186D1A701882-6-236_homereminder@124.badmintonne
 rs.net
DTSTAMP:20260420T072407Z
SUMMARY:Thuismatch ingevuld? (Beerke 1G (71) - Huirtuits Dropke 2G (65))
DESCRIPTION:Je hebt 36 uur na aanvang om een thuismatch op Badmintonvlaande
 ren in te vullen. Match info: Beerke 1G (71) - Huirtuits Dropke 2G (65) - 
 Link: https://www.badmintonvlaanderen.be/sport/teammatch.aspx?id=541D9693-
 BA5C-49F3-B354-186D1A701882&match=236
DTSTART;TZID=Europe/Brussels:20240923T220000
DTEND;TZID=Europe/Brussels:20240923T220000
END:VEVENT
BEGIN:VEVENT
UID:541D9693-BA5C-49F3-B354-186D1A701882-6-241_homereminder@124.badmintonne
 rs.net
DTSTAMP:20260420T072407Z
SUMMARY:Thuismatch ingevuld? (Beerke 1G (71) - Klein Boom 2G (67))
DESCRIPTION:Je hebt 36 uur na aanvang om een thuismatch op Badmintonvlaande
 ren in te vullen. Match info: Beerke 1G (71) - Klein Boom 2G (67) - Link: 
 https://www.badmintonvlaanderen.be/sport/teammatch.aspx?id=541D9693-BA5C-4
 9F3-B354-186D1A701882&match=241
DTSTART;TZID=Europe/Brussels:20241021T220000
DTEND;TZID=Europe/Brussels:20241021T220000
END:VEVENT
BEGIN:VEVENT
UID:541D9693-BA5C-49F3-B354-186D1A701882-6-226_homereminder@124.badmintonne
 rs.net
DTSTAMP:20260420T072407Z
SUMMARY:Thuismatch ingevuld? (Beerke 1G (71) - Opslag 2G (70))
DESCRIPTION:Je hebt 36 uur na aanvang om een thuismatch op Badmintonvlaande
 ren in te vullen. Match info: Beerke 1G (71) - Opslag 2G (70) - Link: http
 s://www.badmintonvlaanderen.be/sport/teammatch.aspx?id=541D9693-BA5C-49F3-
 B354-186D1A701882&match=226
DTSTART;TZID=Europe/Brussels:20241116T080000
DTEND;TZID=Europe/Brussels:20241116T080000
END:VEVENT
BEGIN:VEVENT
UID:541D9693-BA5C-49F3-B354-186D1A701882-6-215_homereminder@124.badmintonne
 rs.net
DTSTAMP:20260420T072407Z
SUMMARY:Thuismatch ingevuld? (Beerke 1G (71) - Bacss 1G (74))
DESCRIPTION:Je hebt 36 uur na aanvang om een thuismatch op Badmintonvlaande
 ren in te vullen. Match info: Beerke 1G (71) - Bacss 1G (74) - Link: https
 ://www.badmintonvlaanderen.be/sport/teammatch.aspx?id=541D9693-BA5C-49F3-B
 354-186D1A701882&match=215
DTSTART;TZID=Europe/Brussels:20250310T220000
DTEND;TZID=Europe/Brussels:20250310T220000
END:VEVENT
BEGIN:VEVENT
UID:541D9693-BA5C-49F3-B354-186D1A701882-6-231_homereminder@124.badmintonne
 rs.net
DTSTAMP:20260420T072407Z
SUMMARY:Thuismatch ingevuld? (Beerke 1G (71) - De Klamp 2G (64))
DESCRIPTION:Je hebt 36 uur na aanvang om een thuismatch op Badmintonvlaande
 ren in te vullen. Match info: Beerke 1G (71) - De Klamp 2G (64) - Link: ht
 tps://www.badmintonvlaanderen.be/sport/teammatch.aspx?id=541D9693-BA5C-49F
 3-B354-186D1A701882&match=231
DTSTART;TZID=Europe/Brussels:20250324T220000
DTEND;TZID=Europe/Brussels:20250324T220000
END:VEVENT
BEGIN:VEVENT
UID:541D9693-BA5C-49F3-B354-186D1A701882-6-222_awayreminder@124.badmintonne
 rs.net
DTSTAMP:20260420T072407Z
SUMMARY:Uitmatch bevestigd? (De Klamp 2G (64) - Beerke 1G (71))
DESCRIPTION:Je hebt 72 uur na aanvang om een uitmatch op Badmintonvlaandere
 n in te vullen. Match info: De Klamp 2G (64) - Beerke 1G (71) - Link: http
 s://www.badmintonvlaanderen.be/sport/teammatch.aspx?id=541D9693-BA5C-49F3-
 B354-186D1A701882&match=222
DTSTART;TZID=Europe/Brussels:20241204T181500
DTEND;TZID=Europe/Brussels:20241204T181500
END:VEVENT
BEGIN:VEVENT
UID:541D9693-BA5C-49F3-B354-186D1A701882-6-220_awayreminder@124.badmintonne
 rs.net
DTSTAMP:20260420T072407Z
SUMMARY:Uitmatch bevestigd? (Bacss 1G (74) - Beerke 1G (71))
DESCRIPTION:Je hebt 72 uur na aanvang om een uitmatch op Badmintonvlaandere
 n in te vullen. Match info: Bacss 1G (74) - Beerke 1G (71) - Link: https:/
 /www.badmintonvlaanderen.be/sport/teammatch.aspx?id=541D9693-BA5C-49F3-B35
 4-186D1A701882&match=220
DTSTART;TZID=Europe/Brussels:20241218T100000
DTEND;TZID=Europe/Brussels:20241218T100000
END:VEVENT
BEGIN:VEVENT
UID:541D9693-BA5C-49F3-B354-186D1A701882-6-223_awayreminder@124.badmintonne
 rs.net
DTSTAMP:20260420T072407Z
SUMMARY:Uitmatch bevestigd? (Huirtuits Dropke 2G (65) - Beerke 1G (71))
DESCRIPTION:Je hebt 72 uur na aanvang om een uitmatch op Badmintonvlaandere
 n in te vullen. Match info: Huirtuits Dropke 2G (65) - Beerke 1G (71) - Li
 nk: https://www.badmintonvlaanderen.be/sport/teammatch.aspx?id=541D9693-BA
 5C-49F3-B354-186D1A701882&match=223
DTSTART;TZID=Europe/Brussels:20250115T183000
DTEND;TZID=Europe/Brussels:20250115T183000
END:VEVENT
BEGIN:VEVENT
UID:541D9693-BA5C-49F3-B354-186D1A701882-6-221_awayreminder@124.badmintonne
 rs.net
DTSTAMP:20260420T072407Z
SUMMARY:Uitmatch bevestigd? (Opslag 2G (70) - Beerke 1G (71))
DESCRIPTION:Je hebt 72 uur na aanvang om een uitmatch op Badmintonvlaandere
 n in te vullen. Match info: Opslag 2G (70) - Beerke 1G (71) - Link: https:
 //www.badmintonvlaanderen.be/sport/teammatch.aspx?id=541D9693-BA5C-49F3-B3
 54-186D1A701882&match=221
DTSTART;TZID=Europe/Brussels:20250226T163000
DTEND;TZID=Europe/Brussels:20250226T163000
END:VEVENT
BEGIN:VEVENT
UID:541D9693-BA5C-49F3-B354-186D1A701882-6-224_awayreminder@124.badmintonne
 rs.net
DTSTAMP:20260420T072407Z
SUMMARY:Uitmatch bevestigd? (Klein Boom 2G (67) - Beerke 1G (71))
DESCRIPTION:Je hebt 72 uur na aanvang om een uitmatch op Badmintonvlaandere
 n in te vullen. Match info: Klein Boom 2G (67) - Beerke 1G (71) - Link: ht
 tps://www.badmintonvlaanderen.be/sport/teammatch.aspx?id=541D9693-BA5C-49F
 3-B354-186D1A701882&match=224
DTSTART;TZID=Europe/Brussels:20250320T200000
DTEND;TZID=Europe/Brussels:20250320T200000
END:VEVENT
END:VCALENDAR