BEGIN:VCALENDAR
VERSION:2.0
PRODID:spatie/icalendar-generator
NAME:klein_boom_2g_67_reminders
X-WR-CALNAME:klein_boom_2g_67_reminders
BEGIN:VTIMEZONE
TZID:Europe/Brussels
BEGIN:DAYLIGHT
DTSTART:20240331T010000
TZOFFSETFROM:+0100
TZOFFSETTO:+0200
END:DAYLIGHT
BEGIN:STANDARD
DTSTART:20241027T030000
TZOFFSETFROM:+0200
TZOFFSETTO:+0100
END:STANDARD
BEGIN:DAYLIGHT
DTSTART:20250330T010000
TZOFFSETFROM:+0100
TZOFFSETTO:+0200
END:DAYLIGHT
END:VTIMEZONE
BEGIN:VTIMEZONE
TZID:UTC
BEGIN:STANDARD
DTSTART:20250724T072433
TZOFFSETFROM:+0000
TZOFFSETTO:+0000
END:STANDARD
END:VTIMEZONE
BEGIN:VEVENT
UID:541D9693-BA5C-49F3-B354-186D1A701882-6-239_homereminder@125.badmintonne
 rs.net
DTSTAMP:20260420T072433Z
SUMMARY:Thuismatch ingevuld? (Klein Boom 2G (67) - Huirtuits Dropke 2G (65)
 )
DESCRIPTION:Je hebt 36 uur na aanvang om een thuismatch op Badmintonvlaande
 ren in te vullen. Match info: Klein Boom 2G (67) - Huirtuits Dropke 2G (65
 ) - Link: https://www.badmintonvlaanderen.be/sport/teammatch.aspx?id=541D9
 693-BA5C-49F3-B354-186D1A701882&match=239
DTSTART;TZID=Europe/Brussels:20241008T070000
DTEND;TZID=Europe/Brussels:20241008T070000
END:VEVENT
BEGIN:VEVENT
UID:541D9693-BA5C-49F3-B354-186D1A701882-6-234_homereminder@125.badmintonne
 rs.net
DTSTAMP:20260420T072433Z
SUMMARY:Thuismatch ingevuld? (Klein Boom 2G (67) - De Klamp 2G (64))
DESCRIPTION:Je hebt 36 uur na aanvang om een thuismatch op Badmintonvlaande
 ren in te vullen. Match info: Klein Boom 2G (67) - De Klamp 2G (64) - Link
 : https://www.badmintonvlaanderen.be/sport/teammatch.aspx?id=541D9693-BA5C
 -49F3-B354-186D1A701882&match=234
DTSTART;TZID=Europe/Brussels:20241217T070000
DTEND;TZID=Europe/Brussels:20241217T070000
END:VEVENT
BEGIN:VEVENT
UID:541D9693-BA5C-49F3-B354-186D1A701882-6-219_homereminder@125.badmintonne
 rs.net
DTSTAMP:20260420T072433Z
SUMMARY:Thuismatch ingevuld? (Klein Boom 2G (67) - Bacss 1G (74))
DESCRIPTION:Je hebt 36 uur na aanvang om een thuismatch op Badmintonvlaande
 ren in te vullen. Match info: Klein Boom 2G (67) - Bacss 1G (74) - Link: h
 ttps://www.badmintonvlaanderen.be/sport/teammatch.aspx?id=541D9693-BA5C-49
 F3-B354-186D1A701882&match=219
DTSTART;TZID=Europe/Brussels:20250114T070000
DTEND;TZID=Europe/Brussels:20250114T070000
END:VEVENT
BEGIN:VEVENT
UID:541D9693-BA5C-49F3-B354-186D1A701882-6-224_homereminder@125.badmintonne
 rs.net
DTSTAMP:20260420T072433Z
SUMMARY:Thuismatch ingevuld? (Klein Boom 2G (67) - Beerke 1G (71))
DESCRIPTION:Je hebt 36 uur na aanvang om een thuismatch op Badmintonvlaande
 ren in te vullen. Match info: Klein Boom 2G (67) - Beerke 1G (71) - Link: 
 https://www.badmintonvlaanderen.be/sport/teammatch.aspx?id=541D9693-BA5C-4
 9F3-B354-186D1A701882&match=224
DTSTART;TZID=Europe/Brussels:20250319T080000
DTEND;TZID=Europe/Brussels:20250319T080000
END:VEVENT
BEGIN:VEVENT
UID:541D9693-BA5C-49F3-B354-186D1A701882-6-229_homereminder@125.badmintonne
 rs.net
DTSTAMP:20260420T072433Z
SUMMARY:Thuismatch ingevuld? (Klein Boom 2G (67) - Opslag 2G (70))
DESCRIPTION:Je hebt 36 uur na aanvang om een thuismatch op Badmintonvlaande
 ren in te vullen. Match info: Klein Boom 2G (67) - Opslag 2G (70) - Link: 
 https://www.badmintonvlaanderen.be/sport/teammatch.aspx?id=541D9693-BA5C-4
 9F3-B354-186D1A701882&match=229
DTSTART;TZID=Europe/Brussels:20250325T070000
DTEND;TZID=Europe/Brussels:20250325T070000
END:VEVENT
BEGIN:VEVENT
UID:541D9693-BA5C-49F3-B354-186D1A701882-6-241_awayreminder@125.badmintonne
 rs.net
DTSTAMP:20260420T072433Z
SUMMARY:Uitmatch bevestigd? (Beerke 1G (71) - Klein Boom 2G (67))
DESCRIPTION:Je hebt 72 uur na aanvang om een uitmatch op Badmintonvlaandere
 n in te vullen. Match info: Beerke 1G (71) - Klein Boom 2G (67) - Link: ht
 tps://www.badmintonvlaanderen.be/sport/teammatch.aspx?id=541D9693-BA5C-49F
 3-B354-186D1A701882&match=241
DTSTART;TZID=Europe/Brussels:20241023T100000
DTEND;TZID=Europe/Brussels:20241023T100000
END:VEVENT
BEGIN:VEVENT
UID:541D9693-BA5C-49F3-B354-186D1A701882-6-240_awayreminder@125.badmintonne
 rs.net
DTSTAMP:20260420T072433Z
SUMMARY:Uitmatch bevestigd? (Bacss 1G (74) - Klein Boom 2G (67))
DESCRIPTION:Je hebt 72 uur na aanvang om een uitmatch op Badmintonvlaandere
 n in te vullen. Match info: Bacss 1G (74) - Klein Boom 2G (67) - Link: htt
 ps://www.badmintonvlaanderen.be/sport/teammatch.aspx?id=541D9693-BA5C-49F3
 -B354-186D1A701882&match=240
DTSTART;TZID=Europe/Brussels:20241028T191500
DTEND;TZID=Europe/Brussels:20241028T191500
END:VEVENT
BEGIN:VEVENT
UID:541D9693-BA5C-49F3-B354-186D1A701882-6-242_awayreminder@125.badmintonne
 rs.net
DTSTAMP:20260420T072433Z
SUMMARY:Uitmatch bevestigd? (Opslag 2G (70) - Klein Boom 2G (67))
DESCRIPTION:Je hebt 72 uur na aanvang om een uitmatch op Badmintonvlaandere
 n in te vullen. Match info: Opslag 2G (70) - Klein Boom 2G (67) - Link: ht
 tps://www.badmintonvlaanderen.be/sport/teammatch.aspx?id=541D9693-BA5C-49F
 3-B354-186D1A701882&match=242
DTSTART;TZID=Europe/Brussels:20241204T163000
DTEND;TZID=Europe/Brussels:20241204T163000
END:VEVENT
BEGIN:VEVENT
UID:541D9693-BA5C-49F3-B354-186D1A701882-6-244_awayreminder@125.badmintonne
 rs.net
DTSTAMP:20260420T072433Z
SUMMARY:Uitmatch bevestigd? (Huirtuits Dropke 2G (65) - Klein Boom 2G (67))
DESCRIPTION:Je hebt 72 uur na aanvang om een uitmatch op Badmintonvlaandere
 n in te vullen. Match info: Huirtuits Dropke 2G (65) - Klein Boom 2G (67) 
 - Link: https://www.badmintonvlaanderen.be/sport/teammatch.aspx?id=541D969
 3-BA5C-49F3-B354-186D1A701882&match=244
DTSTART;TZID=Europe/Brussels:20250226T183000
DTEND;TZID=Europe/Brussels:20250226T183000
END:VEVENT
BEGIN:VEVENT
UID:541D9693-BA5C-49F3-B354-186D1A701882-6-243_awayreminder@125.badmintonne
 rs.net
DTSTAMP:20260420T072433Z
SUMMARY:Uitmatch bevestigd? (De Klamp 2G (64) - Klein Boom 2G (67))
DESCRIPTION:Je hebt 72 uur na aanvang om een uitmatch op Badmintonvlaandere
 n in te vullen. Match info: De Klamp 2G (64) - Klein Boom 2G (67) - Link: 
 https://www.badmintonvlaanderen.be/sport/teammatch.aspx?id=541D9693-BA5C-4
 9F3-B354-186D1A701882&match=243
DTSTART;TZID=Europe/Brussels:20250312T181500
DTEND;TZID=Europe/Brussels:20250312T181500
END:VEVENT
END:VCALENDAR