BEGIN:VCALENDAR
VERSION:2.0
PRODID:spatie/icalendar-generator
NAME:huirtuits_dropke_2g_65_reminders
X-WR-CALNAME:huirtuits_dropke_2g_65_reminders
BEGIN:VTIMEZONE
TZID:Europe/Brussels
BEGIN:DAYLIGHT
DTSTART:20240331T010000
TZOFFSETFROM:+0100
TZOFFSETTO:+0200
END:DAYLIGHT
BEGIN:STANDARD
DTSTART:20241027T030000
TZOFFSETFROM:+0200
TZOFFSETTO:+0100
END:STANDARD
BEGIN:DAYLIGHT
DTSTART:20250330T010000
TZOFFSETFROM:+0100
TZOFFSETTO:+0200
END:DAYLIGHT
END:VTIMEZONE
BEGIN:VTIMEZONE
TZID:UTC
BEGIN:STANDARD
DTSTART:20250724T055129
TZOFFSETFROM:+0000
TZOFFSETTO:+0000
END:STANDARD
END:VTIMEZONE
BEGIN:VEVENT
UID:541D9693-BA5C-49F3-B354-186D1A701882-6-218_homereminder@128.badmintonne
 rs.net
DTSTAMP:20260420T055129Z
SUMMARY:Thuismatch ingevuld? (Huirtuits Dropke 2G (65) - Bacss 1G (74))
DESCRIPTION:Je hebt 36 uur na aanvang om een thuismatch op Badmintonvlaande
 ren in te vullen. Match info: Huirtuits Dropke 2G (65) - Bacss 1G (74) - L
 ink: https://www.badmintonvlaanderen.be/sport/teammatch.aspx?id=541D9693-B
 A5C-49F3-B354-186D1A701882&match=218
DTSTART;TZID=Europe/Brussels:20241203T063000
DTEND;TZID=Europe/Brussels:20241203T063000
END:VEVENT
BEGIN:VEVENT
UID:541D9693-BA5C-49F3-B354-186D1A701882-6-228_homereminder@128.badmintonne
 rs.net
DTSTAMP:20260420T055129Z
SUMMARY:Thuismatch ingevuld? (Huirtuits Dropke 2G (65) - Opslag 2G (70))
DESCRIPTION:Je hebt 36 uur na aanvang om een thuismatch op Badmintonvlaande
 ren in te vullen. Match info: Huirtuits Dropke 2G (65) - Opslag 2G (70) - 
 Link: https://www.badmintonvlaanderen.be/sport/teammatch.aspx?id=541D9693-
 BA5C-49F3-B354-186D1A701882&match=228
DTSTART;TZID=Europe/Brussels:20241217T063000
DTEND;TZID=Europe/Brussels:20241217T063000
END:VEVENT
BEGIN:VEVENT
UID:541D9693-BA5C-49F3-B354-186D1A701882-6-223_homereminder@128.badmintonne
 rs.net
DTSTAMP:20260420T055129Z
SUMMARY:Thuismatch ingevuld? (Huirtuits Dropke 2G (65) - Beerke 1G (71))
DESCRIPTION:Je hebt 36 uur na aanvang om een thuismatch op Badmintonvlaande
 ren in te vullen. Match info: Huirtuits Dropke 2G (65) - Beerke 1G (71) - 
 Link: https://www.badmintonvlaanderen.be/sport/teammatch.aspx?id=541D9693-
 BA5C-49F3-B354-186D1A701882&match=223
DTSTART;TZID=Europe/Brussels:20250114T063000
DTEND;TZID=Europe/Brussels:20250114T063000
END:VEVENT
BEGIN:VEVENT
UID:541D9693-BA5C-49F3-B354-186D1A701882-6-233_homereminder@128.badmintonne
 rs.net
DTSTAMP:20260420T055129Z
SUMMARY:Thuismatch ingevuld? (Huirtuits Dropke 2G (65) - De Klamp 2G (64))
DESCRIPTION:Je hebt 36 uur na aanvang om een thuismatch op Badmintonvlaande
 ren in te vullen. Match info: Huirtuits Dropke 2G (65) - De Klamp 2G (64) 
 - Link: https://www.badmintonvlaanderen.be/sport/teammatch.aspx?id=541D969
 3-BA5C-49F3-B354-186D1A701882&match=233
DTSTART;TZID=Europe/Brussels:20250211T063000
DTEND;TZID=Europe/Brussels:20250211T063000
END:VEVENT
BEGIN:VEVENT
UID:541D9693-BA5C-49F3-B354-186D1A701882-6-244_homereminder@128.badmintonne
 rs.net
DTSTAMP:20260420T055129Z
SUMMARY:Thuismatch ingevuld? (Huirtuits Dropke 2G (65) - Klein Boom 2G (67)
 )
DESCRIPTION:Je hebt 36 uur na aanvang om een thuismatch op Badmintonvlaande
 ren in te vullen. Match info: Huirtuits Dropke 2G (65) - Klein Boom 2G (67
 ) - Link: https://www.badmintonvlaanderen.be/sport/teammatch.aspx?id=541D9
 693-BA5C-49F3-B354-186D1A701882&match=244
DTSTART;TZID=Europe/Brussels:20250225T063000
DTEND;TZID=Europe/Brussels:20250225T063000
END:VEVENT
BEGIN:VEVENT
UID:541D9693-BA5C-49F3-B354-186D1A701882-6-236_awayreminder@128.badmintonne
 rs.net
DTSTAMP:20260420T055129Z
SUMMARY:Uitmatch bevestigd? (Beerke 1G (71) - Huirtuits Dropke 2G (65))
DESCRIPTION:Je hebt 72 uur na aanvang om een uitmatch op Badmintonvlaandere
 n in te vullen. Match info: Beerke 1G (71) - Huirtuits Dropke 2G (65) - Li
 nk: https://www.badmintonvlaanderen.be/sport/teammatch.aspx?id=541D9693-BA
 5C-49F3-B354-186D1A701882&match=236
DTSTART;TZID=Europe/Brussels:20240925T100000
DTEND;TZID=Europe/Brussels:20240925T100000
END:VEVENT
BEGIN:VEVENT
UID:541D9693-BA5C-49F3-B354-186D1A701882-6-239_awayreminder@128.badmintonne
 rs.net
DTSTAMP:20260420T055129Z
SUMMARY:Uitmatch bevestigd? (Klein Boom 2G (67) - Huirtuits Dropke 2G (65))
DESCRIPTION:Je hebt 72 uur na aanvang om een uitmatch op Badmintonvlaandere
 n in te vullen. Match info: Klein Boom 2G (67) - Huirtuits Dropke 2G (65) 
 - Link: https://www.badmintonvlaanderen.be/sport/teammatch.aspx?id=541D969
 3-BA5C-49F3-B354-186D1A701882&match=239
DTSTART;TZID=Europe/Brussels:20241009T190000
DTEND;TZID=Europe/Brussels:20241009T190000
END:VEVENT
BEGIN:VEVENT
UID:541D9693-BA5C-49F3-B354-186D1A701882-6-238_awayreminder@128.badmintonne
 rs.net
DTSTAMP:20260420T055129Z
SUMMARY:Uitmatch bevestigd? (De Klamp 2G (64) - Huirtuits Dropke 2G (65))
DESCRIPTION:Je hebt 72 uur na aanvang om een uitmatch op Badmintonvlaandere
 n in te vullen. Match info: De Klamp 2G (64) - Huirtuits Dropke 2G (65) - 
 Link: https://www.badmintonvlaanderen.be/sport/teammatch.aspx?id=541D9693-
 BA5C-49F3-B354-186D1A701882&match=238
DTSTART;TZID=Europe/Brussels:20241023T181500
DTEND;TZID=Europe/Brussels:20241023T181500
END:VEVENT
BEGIN:VEVENT
UID:541D9693-BA5C-49F3-B354-186D1A701882-6-235_awayreminder@128.badmintonne
 rs.net
DTSTAMP:20260420T055129Z
SUMMARY:Uitmatch bevestigd? (Bacss 1G (74) - Huirtuits Dropke 2G (65))
DESCRIPTION:Je hebt 72 uur na aanvang om een uitmatch op Badmintonvlaandere
 n in te vullen. Match info: Bacss 1G (74) - Huirtuits Dropke 2G (65) - Lin
 k: https://www.badmintonvlaanderen.be/sport/teammatch.aspx?id=541D9693-BA5
 C-49F3-B354-186D1A701882&match=235
DTSTART;TZID=Europe/Brussels:20250305T100000
DTEND;TZID=Europe/Brussels:20250305T100000
END:VEVENT
BEGIN:VEVENT
UID:541D9693-BA5C-49F3-B354-186D1A701882-6-237_awayreminder@128.badmintonne
 rs.net
DTSTAMP:20260420T055129Z
SUMMARY:Uitmatch bevestigd? (Opslag 2G (70) - Huirtuits Dropke 2G (65))
DESCRIPTION:Je hebt 72 uur na aanvang om een uitmatch op Badmintonvlaandere
 n in te vullen. Match info: Opslag 2G (70) - Huirtuits Dropke 2G (65) - Li
 nk: https://www.badmintonvlaanderen.be/sport/teammatch.aspx?id=541D9693-BA
 5C-49F3-B354-186D1A701882&match=237
DTSTART;TZID=Europe/Brussels:20250312T191500
DTEND;TZID=Europe/Brussels:20250312T191500
END:VEVENT
END:VCALENDAR