BEGIN:VCALENDAR
VERSION:2.0
PRODID:spatie/icalendar-generator
NAME:royal_antwerp_1d_43_reminders
X-WR-CALNAME:royal_antwerp_1d_43_reminders
BEGIN:VTIMEZONE
TZID:Europe/Brussels
BEGIN:DAYLIGHT
DTSTART:20240331T010000
TZOFFSETFROM:+0100
TZOFFSETTO:+0200
END:DAYLIGHT
BEGIN:STANDARD
DTSTART:20241027T030000
TZOFFSETFROM:+0200
TZOFFSETTO:+0100
END:STANDARD
BEGIN:DAYLIGHT
DTSTART:20250330T010000
TZOFFSETFROM:+0100
TZOFFSETTO:+0200
END:DAYLIGHT
END:VTIMEZONE
BEGIN:VTIMEZONE
TZID:UTC
BEGIN:STANDARD
DTSTART:20250724T070500
TZOFFSETFROM:+0000
TZOFFSETTO:+0000
END:STANDARD
END:VTIMEZONE
BEGIN:VEVENT
UID:7A79EC4D-D9C5-4EF0-8466-03CF82E25DAE-13-570_homereminder@75.badmintonne
 rs.net
DTSTAMP:20260420T070500Z
SUMMARY:Thuismatch ingevuld? (Royal Antwerp 1D (43) - Opslag 1D (46))
DESCRIPTION:Je hebt 36 uur na aanvang om een thuismatch op Badmintonvlaande
 ren in te vullen. Match info: Royal Antwerp 1D (43) - Opslag 1D (46) - Lin
 k: https://www.badmintonvlaanderen.be/sport/teammatch.aspx?id=7A79EC4D-D9C
 5-4EF0-8466-03CF82E25DAE&match=570
DTSTART;TZID=Europe/Brussels:20240917T060000
DTEND;TZID=Europe/Brussels:20240917T060000
END:VEVENT
BEGIN:VEVENT
UID:7A79EC4D-D9C5-4EF0-8466-03CF82E25DAE-13-589_homereminder@75.badmintonne
 rs.net
DTSTAMP:20260420T070500Z
SUMMARY:Thuismatch ingevuld? (Royal Antwerp 1D (43) - Waverse 1D (51))
DESCRIPTION:Je hebt 36 uur na aanvang om een thuismatch op Badmintonvlaande
 ren in te vullen. Match info: Royal Antwerp 1D (43) - Waverse 1D (51) - Li
 nk: https://www.badmintonvlaanderen.be/sport/teammatch.aspx?id=7A79EC4D-D9
 C5-4EF0-8466-03CF82E25DAE&match=589
DTSTART;TZID=Europe/Brussels:20241112T060000
DTEND;TZID=Europe/Brussels:20241112T060000
END:VEVENT
BEGIN:VEVENT
UID:7A79EC4D-D9C5-4EF0-8466-03CF82E25DAE-13-558_homereminder@75.badmintonne
 rs.net
DTSTAMP:20260420T070500Z
SUMMARY:Thuismatch ingevuld? (Royal Antwerp 1D (43) - De Mintons 1D (44))
DESCRIPTION:Je hebt 36 uur na aanvang om een thuismatch op Badmintonvlaande
 ren in te vullen. Match info: Royal Antwerp 1D (43) - De Mintons 1D (44) -
  Link: https://www.badmintonvlaanderen.be/sport/teammatch.aspx?id=7A79EC4D
 -D9C5-4EF0-8466-03CF82E25DAE&match=558
DTSTART;TZID=Europe/Brussels:20241210T060000
DTEND;TZID=Europe/Brussels:20241210T060000
END:VEVENT
BEGIN:VEVENT
UID:7A79EC4D-D9C5-4EF0-8466-03CF82E25DAE-13-564_homereminder@75.badmintonne
 rs.net
DTSTAMP:20260420T070500Z
SUMMARY:Thuismatch ingevuld? (Royal Antwerp 1D (43) - Klein Boom 1D (42))
DESCRIPTION:Je hebt 36 uur na aanvang om een thuismatch op Badmintonvlaande
 ren in te vullen. Match info: Royal Antwerp 1D (43) - Klein Boom 1D (42) -
  Link: https://www.badmintonvlaanderen.be/sport/teammatch.aspx?id=7A79EC4D
 -D9C5-4EF0-8466-03CF82E25DAE&match=564
DTSTART;TZID=Europe/Brussels:20250107T060000
DTEND;TZID=Europe/Brussels:20250107T060000
END:VEVENT
BEGIN:VEVENT
UID:7A79EC4D-D9C5-4EF0-8466-03CF82E25DAE-13-576_homereminder@75.badmintonne
 rs.net
DTSTAMP:20260420T070500Z
SUMMARY:Thuismatch ingevuld? (Royal Antwerp 1D (43) - Poona 1D (54))
DESCRIPTION:Je hebt 36 uur na aanvang om een thuismatch op Badmintonvlaande
 ren in te vullen. Match info: Royal Antwerp 1D (43) - Poona 1D (54) - Link
 : https://www.badmintonvlaanderen.be/sport/teammatch.aspx?id=7A79EC4D-D9C5
 -4EF0-8466-03CF82E25DAE&match=576
DTSTART;TZID=Europe/Brussels:20250225T060000
DTEND;TZID=Europe/Brussels:20250225T060000
END:VEVENT
BEGIN:VEVENT
UID:7A79EC4D-D9C5-4EF0-8466-03CF82E25DAE-13-552_homereminder@75.badmintonne
 rs.net
DTSTAMP:20260420T070500Z
SUMMARY:Thuismatch ingevuld? (Royal Antwerp 1D (43) - De Klamp 1D (38))
DESCRIPTION:Je hebt 36 uur na aanvang om een thuismatch op Badmintonvlaande
 ren in te vullen. Match info: Royal Antwerp 1D (43) - De Klamp 1D (38) - L
 ink: https://www.badmintonvlaanderen.be/sport/teammatch.aspx?id=7A79EC4D-D
 9C5-4EF0-8466-03CF82E25DAE&match=552
DTSTART;TZID=Europe/Brussels:20250415T060000
DTEND;TZID=Europe/Brussels:20250415T060000
END:VEVENT
BEGIN:VEVENT
UID:7A79EC4D-D9C5-4EF0-8466-03CF82E25DAE-13-582_awayreminder@75.badmintonne
 rs.net
DTSTAMP:20260420T070500Z
SUMMARY:Uitmatch bevestigd? (Poona 1D (54) - Royal Antwerp 1D (43))
DESCRIPTION:Je hebt 72 uur na aanvang om een uitmatch op Badmintonvlaandere
 n in te vullen. Match info: Poona 1D (54) - Royal Antwerp 1D (43) - Link: 
 https://www.badmintonvlaanderen.be/sport/teammatch.aspx?id=7A79EC4D-D9C5-4
 EF0-8466-03CF82E25DAE&match=582
DTSTART;TZID=Europe/Brussels:20240926T200000
DTEND;TZID=Europe/Brussels:20240926T200000
END:VEVENT
BEGIN:VEVENT
UID:7A79EC4D-D9C5-4EF0-8466-03CF82E25DAE-13-578_awayreminder@75.badmintonne
 rs.net
DTSTAMP:20260420T070500Z
SUMMARY:Uitmatch bevestigd? (De Klamp 1D (38) - Royal Antwerp 1D (43))
DESCRIPTION:Je hebt 72 uur na aanvang om een uitmatch op Badmintonvlaandere
 n in te vullen. Match info: De Klamp 1D (38) - Royal Antwerp 1D (43) - Lin
 k: https://www.badmintonvlaanderen.be/sport/teammatch.aspx?id=7A79EC4D-D9C
 5-4EF0-8466-03CF82E25DAE&match=578
DTSTART;TZID=Europe/Brussels:20241030T181500
DTEND;TZID=Europe/Brussels:20241030T181500
END:VEVENT
BEGIN:VEVENT
UID:7A79EC4D-D9C5-4EF0-8466-03CF82E25DAE-13-580_awayreminder@75.badmintonne
 rs.net
DTSTAMP:20260420T070500Z
SUMMARY:Uitmatch bevestigd? (Klein Boom 1D (42) - Royal Antwerp 1D (43))
DESCRIPTION:Je hebt 72 uur na aanvang om een uitmatch op Badmintonvlaandere
 n in te vullen. Match info: Klein Boom 1D (42) - Royal Antwerp 1D (43) - L
 ink: https://www.badmintonvlaanderen.be/sport/teammatch.aspx?id=7A79EC4D-D
 9C5-4EF0-8466-03CF82E25DAE&match=580
DTSTART;TZID=Europe/Brussels:20241127T190000
DTEND;TZID=Europe/Brussels:20241127T190000
END:VEVENT
BEGIN:VEVENT
UID:7A79EC4D-D9C5-4EF0-8466-03CF82E25DAE-13-581_awayreminder@75.badmintonne
 rs.net
DTSTAMP:20260420T070500Z
SUMMARY:Uitmatch bevestigd? (Opslag 1D (46) - Royal Antwerp 1D (43))
DESCRIPTION:Je hebt 72 uur na aanvang om een uitmatch op Badmintonvlaandere
 n in te vullen. Match info: Opslag 1D (46) - Royal Antwerp 1D (43) - Link:
  https://www.badmintonvlaanderen.be/sport/teammatch.aspx?id=7A79EC4D-D9C5-
 4EF0-8466-03CF82E25DAE&match=581
DTSTART;TZID=Europe/Brussels:20250219T163000
DTEND;TZID=Europe/Brussels:20250219T163000
END:VEVENT
BEGIN:VEVENT
UID:7A79EC4D-D9C5-4EF0-8466-03CF82E25DAE-13-579_awayreminder@75.badmintonne
 rs.net
DTSTAMP:20260420T070500Z
SUMMARY:Uitmatch bevestigd? (De Mintons 1D (44) - Royal Antwerp 1D (43))
DESCRIPTION:Je hebt 72 uur na aanvang om een uitmatch op Badmintonvlaandere
 n in te vullen. Match info: De Mintons 1D (44) - Royal Antwerp 1D (43) - L
 ink: https://www.badmintonvlaanderen.be/sport/teammatch.aspx?id=7A79EC4D-D
 9C5-4EF0-8466-03CF82E25DAE&match=579
DTSTART;TZID=Europe/Brussels:20250302T200000
DTEND;TZID=Europe/Brussels:20250302T200000
END:VEVENT
BEGIN:VEVENT
UID:7A79EC4D-D9C5-4EF0-8466-03CF82E25DAE-13-583_awayreminder@75.badmintonne
 rs.net
DTSTAMP:20260420T070500Z
SUMMARY:Uitmatch bevestigd? (Waverse 1D (51) - Royal Antwerp 1D (43))
DESCRIPTION:Je hebt 72 uur na aanvang om een uitmatch op Badmintonvlaandere
 n in te vullen. Match info: Waverse 1D (51) - Royal Antwerp 1D (43) - Link
 : https://www.badmintonvlaanderen.be/sport/teammatch.aspx?id=7A79EC4D-D9C5
 -4EF0-8466-03CF82E25DAE&match=583
DTSTART;TZID=Europe/Brussels:20250324T200000
DTEND;TZID=Europe/Brussels:20250324T200000
END:VEVENT
END:VCALENDAR