BEGIN:VCALENDAR
VERSION:2.0
PRODID:spatie/icalendar-generator
NAME:de_mintons_1d_44_reminders
X-WR-CALNAME:de_mintons_1d_44_reminders
BEGIN:VTIMEZONE
TZID:Europe/Brussels
BEGIN:DAYLIGHT
DTSTART:20240331T010000
TZOFFSETFROM:+0100
TZOFFSETTO:+0200
END:DAYLIGHT
BEGIN:STANDARD
DTSTART:20241027T030000
TZOFFSETFROM:+0200
TZOFFSETTO:+0100
END:STANDARD
BEGIN:DAYLIGHT
DTSTART:20250330T010000
TZOFFSETFROM:+0100
TZOFFSETTO:+0200
END:DAYLIGHT
END:VTIMEZONE
BEGIN:VTIMEZONE
TZID:UTC
BEGIN:STANDARD
DTSTART:20250724T070505
TZOFFSETFROM:+0000
TZOFFSETTO:+0000
END:STANDARD
END:VTIMEZONE
BEGIN:VEVENT
UID:7A79EC4D-D9C5-4EF0-8466-03CF82E25DAE-13-561_homereminder@77.badmintonne
 rs.net
DTSTAMP:20260420T070505Z
SUMMARY:Thuismatch ingevuld? (De Mintons 1D (44) - Klein Boom 1D (42))
DESCRIPTION:Je hebt 36 uur na aanvang om een thuismatch op Badmintonvlaande
 ren in te vullen. Match info: De Mintons 1D (44) - Klein Boom 1D (42) - Li
 nk: https://www.badmintonvlaanderen.be/sport/teammatch.aspx?id=7A79EC4D-D9
 C5-4EF0-8466-03CF82E25DAE&match=561
DTSTART;TZID=Europe/Brussels:20241012T080000
DTEND;TZID=Europe/Brussels:20241012T080000
END:VEVENT
BEGIN:VEVENT
UID:7A79EC4D-D9C5-4EF0-8466-03CF82E25DAE-13-573_homereminder@77.badmintonne
 rs.net
DTSTAMP:20260420T070505Z
SUMMARY:Thuismatch ingevuld? (De Mintons 1D (44) - Poona 1D (54))
DESCRIPTION:Je hebt 36 uur na aanvang om een thuismatch op Badmintonvlaande
 ren in te vullen. Match info: De Mintons 1D (44) - Poona 1D (54) - Link: h
 ttps://www.badmintonvlaanderen.be/sport/teammatch.aspx?id=7A79EC4D-D9C5-4E
 F0-8466-03CF82E25DAE&match=573
DTSTART;TZID=Europe/Brussels:20241109T080000
DTEND;TZID=Europe/Brussels:20241109T080000
END:VEVENT
BEGIN:VEVENT
UID:7A79EC4D-D9C5-4EF0-8466-03CF82E25DAE-13-585_homereminder@77.badmintonne
 rs.net
DTSTAMP:20260420T070505Z
SUMMARY:Thuismatch ingevuld? (De Mintons 1D (44) - Waverse 1D (51))
DESCRIPTION:Je hebt 36 uur na aanvang om een thuismatch op Badmintonvlaande
 ren in te vullen. Match info: De Mintons 1D (44) - Waverse 1D (51) - Link:
  https://www.badmintonvlaanderen.be/sport/teammatch.aspx?id=7A79EC4D-D9C5-
 4EF0-8466-03CF82E25DAE&match=585
DTSTART;TZID=Europe/Brussels:20241221T080000
DTEND;TZID=Europe/Brussels:20241221T080000
END:VEVENT
BEGIN:VEVENT
UID:7A79EC4D-D9C5-4EF0-8466-03CF82E25DAE-13-548_homereminder@77.badmintonne
 rs.net
DTSTAMP:20260420T070505Z
SUMMARY:Thuismatch ingevuld? (De Mintons 1D (44) - De Klamp 1D (38))
DESCRIPTION:Je hebt 36 uur na aanvang om een thuismatch op Badmintonvlaande
 ren in te vullen. Match info: De Mintons 1D (44) - De Klamp 1D (38) - Link
 : https://www.badmintonvlaanderen.be/sport/teammatch.aspx?id=7A79EC4D-D9C5
 -4EF0-8466-03CF82E25DAE&match=548
DTSTART;TZID=Europe/Brussels:20250118T080000
DTEND;TZID=Europe/Brussels:20250118T080000
END:VEVENT
BEGIN:VEVENT
UID:7A79EC4D-D9C5-4EF0-8466-03CF82E25DAE-13-567_homereminder@77.badmintonne
 rs.net
DTSTAMP:20260420T070505Z
SUMMARY:Thuismatch ingevuld? (De Mintons 1D (44) - Opslag 1D (46))
DESCRIPTION:Je hebt 36 uur na aanvang om een thuismatch op Badmintonvlaande
 ren in te vullen. Match info: De Mintons 1D (44) - Opslag 1D (46) - Link: 
 https://www.badmintonvlaanderen.be/sport/teammatch.aspx?id=7A79EC4D-D9C5-4
 EF0-8466-03CF82E25DAE&match=567
DTSTART;TZID=Europe/Brussels:20250201T080000
DTEND;TZID=Europe/Brussels:20250201T080000
END:VEVENT
BEGIN:VEVENT
UID:7A79EC4D-D9C5-4EF0-8466-03CF82E25DAE-13-579_homereminder@77.badmintonne
 rs.net
DTSTAMP:20260420T070505Z
SUMMARY:Thuismatch ingevuld? (De Mintons 1D (44) - Royal Antwerp 1D (43))
DESCRIPTION:Je hebt 36 uur na aanvang om een thuismatch op Badmintonvlaande
 ren in te vullen. Match info: De Mintons 1D (44) - Royal Antwerp 1D (43) -
  Link: https://www.badmintonvlaanderen.be/sport/teammatch.aspx?id=7A79EC4D
 -D9C5-4EF0-8466-03CF82E25DAE&match=579
DTSTART;TZID=Europe/Brussels:20250301T080000
DTEND;TZID=Europe/Brussels:20250301T080000
END:VEVENT
BEGIN:VEVENT
UID:7A79EC4D-D9C5-4EF0-8466-03CF82E25DAE-13-556_awayreminder@77.badmintonne
 rs.net
DTSTAMP:20260420T070505Z
SUMMARY:Uitmatch bevestigd? (Opslag 1D (46) - De Mintons 1D (44))
DESCRIPTION:Je hebt 72 uur na aanvang om een uitmatch op Badmintonvlaandere
 n in te vullen. Match info: Opslag 1D (46) - De Mintons 1D (44) - Link: ht
 tps://www.badmintonvlaanderen.be/sport/teammatch.aspx?id=7A79EC4D-D9C5-4EF
 0-8466-03CF82E25DAE&match=556
DTSTART;TZID=Europe/Brussels:20241030T191500
DTEND;TZID=Europe/Brussels:20241030T191500
END:VEVENT
BEGIN:VEVENT
UID:7A79EC4D-D9C5-4EF0-8466-03CF82E25DAE-13-554_awayreminder@77.badmintonne
 rs.net
DTSTAMP:20260420T070505Z
SUMMARY:Uitmatch bevestigd? (De Klamp 1D (38) - De Mintons 1D (44))
DESCRIPTION:Je hebt 72 uur na aanvang om een uitmatch op Badmintonvlaandere
 n in te vullen. Match info: De Klamp 1D (38) - De Mintons 1D (44) - Link: 
 https://www.badmintonvlaanderen.be/sport/teammatch.aspx?id=7A79EC4D-D9C5-4
 EF0-8466-03CF82E25DAE&match=554
DTSTART;TZID=Europe/Brussels:20241120T181500
DTEND;TZID=Europe/Brussels:20241120T181500
END:VEVENT
BEGIN:VEVENT
UID:7A79EC4D-D9C5-4EF0-8466-03CF82E25DAE-13-558_awayreminder@77.badmintonne
 rs.net
DTSTAMP:20260420T070505Z
SUMMARY:Uitmatch bevestigd? (Royal Antwerp 1D (43) - De Mintons 1D (44))
DESCRIPTION:Je hebt 72 uur na aanvang om een uitmatch op Badmintonvlaandere
 n in te vullen. Match info: Royal Antwerp 1D (43) - De Mintons 1D (44) - L
 ink: https://www.badmintonvlaanderen.be/sport/teammatch.aspx?id=7A79EC4D-D
 9C5-4EF0-8466-03CF82E25DAE&match=558
DTSTART;TZID=Europe/Brussels:20241211T180000
DTEND;TZID=Europe/Brussels:20241211T180000
END:VEVENT
BEGIN:VEVENT
UID:7A79EC4D-D9C5-4EF0-8466-03CF82E25DAE-13-559_awayreminder@77.badmintonne
 rs.net
DTSTAMP:20260420T070505Z
SUMMARY:Uitmatch bevestigd? (Waverse 1D (51) - De Mintons 1D (44))
DESCRIPTION:Je hebt 72 uur na aanvang om een uitmatch op Badmintonvlaandere
 n in te vullen. Match info: Waverse 1D (51) - De Mintons 1D (44) - Link: h
 ttps://www.badmintonvlaanderen.be/sport/teammatch.aspx?id=7A79EC4D-D9C5-4E
 F0-8466-03CF82E25DAE&match=559
DTSTART;TZID=Europe/Brussels:20250108T140000
DTEND;TZID=Europe/Brussels:20250108T140000
END:VEVENT
BEGIN:VEVENT
UID:7A79EC4D-D9C5-4EF0-8466-03CF82E25DAE-13-557_awayreminder@77.badmintonne
 rs.net
DTSTAMP:20260420T070505Z
SUMMARY:Uitmatch bevestigd? (Poona 1D (54) - De Mintons 1D (44))
DESCRIPTION:Je hebt 72 uur na aanvang om een uitmatch op Badmintonvlaandere
 n in te vullen. Match info: Poona 1D (54) - De Mintons 1D (44) - Link: htt
 ps://www.badmintonvlaanderen.be/sport/teammatch.aspx?id=7A79EC4D-D9C5-4EF0
 -8466-03CF82E25DAE&match=557
DTSTART;TZID=Europe/Brussels:20250213T200000
DTEND;TZID=Europe/Brussels:20250213T200000
END:VEVENT
BEGIN:VEVENT
UID:7A79EC4D-D9C5-4EF0-8466-03CF82E25DAE-13-555_awayreminder@77.badmintonne
 rs.net
DTSTAMP:20260420T070505Z
SUMMARY:Uitmatch bevestigd? (Klein Boom 1D (42) - De Mintons 1D (44))
DESCRIPTION:Je hebt 72 uur na aanvang om een uitmatch op Badmintonvlaandere
 n in te vullen. Match info: Klein Boom 1D (42) - De Mintons 1D (44) - Link
 : https://www.badmintonvlaanderen.be/sport/teammatch.aspx?id=7A79EC4D-D9C5
 -4EF0-8466-03CF82E25DAE&match=555
DTSTART;TZID=Europe/Brussels:20250305T190000
DTEND;TZID=Europe/Brussels:20250305T190000
END:VEVENT
END:VCALENDAR