BEGIN:VCALENDAR
VERSION:2.0
PRODID:spatie/icalendar-generator
NAME:klein_boom_1d_42_reminders
X-WR-CALNAME:klein_boom_1d_42_reminders
BEGIN:VTIMEZONE
TZID:Europe/Brussels
BEGIN:DAYLIGHT
DTSTART:20240331T010000
TZOFFSETFROM:+0100
TZOFFSETTO:+0200
END:DAYLIGHT
BEGIN:STANDARD
DTSTART:20241027T030000
TZOFFSETFROM:+0200
TZOFFSETTO:+0100
END:STANDARD
BEGIN:DAYLIGHT
DTSTART:20250330T010000
TZOFFSETFROM:+0100
TZOFFSETTO:+0200
END:DAYLIGHT
END:VTIMEZONE
BEGIN:VTIMEZONE
TZID:UTC
BEGIN:STANDARD
DTSTART:20250724T070506
TZOFFSETFROM:+0000
TZOFFSETTO:+0000
END:STANDARD
END:VTIMEZONE
BEGIN:VEVENT
UID:7A79EC4D-D9C5-4EF0-8466-03CF82E25DAE-13-549_homereminder@80.badmintonne
 rs.net
DTSTAMP:20260420T070506Z
SUMMARY:Thuismatch ingevuld? (Klein Boom 1D (42) - De Klamp 1D (38))
DESCRIPTION:Je hebt 36 uur na aanvang om een thuismatch op Badmintonvlaande
 ren in te vullen. Match info: Klein Boom 1D (42) - De Klamp 1D (38) - Link
 : https://www.badmintonvlaanderen.be/sport/teammatch.aspx?id=7A79EC4D-D9C5
 -4EF0-8466-03CF82E25DAE&match=549
DTSTART;TZID=Europe/Brussels:20240917T070000
DTEND;TZID=Europe/Brussels:20240917T070000
END:VEVENT
BEGIN:VEVENT
UID:7A79EC4D-D9C5-4EF0-8466-03CF82E25DAE-13-580_homereminder@80.badmintonne
 rs.net
DTSTAMP:20260420T070506Z
SUMMARY:Thuismatch ingevuld? (Klein Boom 1D (42) - Royal Antwerp 1D (43))
DESCRIPTION:Je hebt 36 uur na aanvang om een thuismatch op Badmintonvlaande
 ren in te vullen. Match info: Klein Boom 1D (42) - Royal Antwerp 1D (43) -
  Link: https://www.badmintonvlaanderen.be/sport/teammatch.aspx?id=7A79EC4D
 -D9C5-4EF0-8466-03CF82E25DAE&match=580
DTSTART;TZID=Europe/Brussels:20241126T070000
DTEND;TZID=Europe/Brussels:20241126T070000
END:VEVENT
BEGIN:VEVENT
UID:7A79EC4D-D9C5-4EF0-8466-03CF82E25DAE-13-568_homereminder@80.badmintonne
 rs.net
DTSTAMP:20260420T070506Z
SUMMARY:Thuismatch ingevuld? (Klein Boom 1D (42) - Opslag 1D (46))
DESCRIPTION:Je hebt 36 uur na aanvang om een thuismatch op Badmintonvlaande
 ren in te vullen. Match info: Klein Boom 1D (42) - Opslag 1D (46) - Link: 
 https://www.badmintonvlaanderen.be/sport/teammatch.aspx?id=7A79EC4D-D9C5-4
 EF0-8466-03CF82E25DAE&match=568
DTSTART;TZID=Europe/Brussels:20241224T070000
DTEND;TZID=Europe/Brussels:20241224T070000
END:VEVENT
BEGIN:VEVENT
UID:7A79EC4D-D9C5-4EF0-8466-03CF82E25DAE-13-586_homereminder@80.badmintonne
 rs.net
DTSTAMP:20260420T070506Z
SUMMARY:Thuismatch ingevuld? (Klein Boom 1D (42) - Waverse 1D (51))
DESCRIPTION:Je hebt 36 uur na aanvang om een thuismatch op Badmintonvlaande
 ren in te vullen. Match info: Klein Boom 1D (42) - Waverse 1D (51) - Link:
  https://www.badmintonvlaanderen.be/sport/teammatch.aspx?id=7A79EC4D-D9C5-
 4EF0-8466-03CF82E25DAE&match=586
DTSTART;TZID=Europe/Brussels:20250121T070000
DTEND;TZID=Europe/Brussels:20250121T070000
END:VEVENT
BEGIN:VEVENT
UID:7A79EC4D-D9C5-4EF0-8466-03CF82E25DAE-13-555_homereminder@80.badmintonne
 rs.net
DTSTAMP:20260420T070506Z
SUMMARY:Thuismatch ingevuld? (Klein Boom 1D (42) - De Mintons 1D (44))
DESCRIPTION:Je hebt 36 uur na aanvang om een thuismatch op Badmintonvlaande
 ren in te vullen. Match info: Klein Boom 1D (42) - De Mintons 1D (44) - Li
 nk: https://www.badmintonvlaanderen.be/sport/teammatch.aspx?id=7A79EC4D-D9
 C5-4EF0-8466-03CF82E25DAE&match=555
DTSTART;TZID=Europe/Brussels:20250304T070000
DTEND;TZID=Europe/Brussels:20250304T070000
END:VEVENT
BEGIN:VEVENT
UID:7A79EC4D-D9C5-4EF0-8466-03CF82E25DAE-13-574_homereminder@80.badmintonne
 rs.net
DTSTAMP:20260420T070506Z
SUMMARY:Thuismatch ingevuld? (Klein Boom 1D (42) - Poona 1D (54))
DESCRIPTION:Je hebt 36 uur na aanvang om een thuismatch op Badmintonvlaande
 ren in te vullen. Match info: Klein Boom 1D (42) - Poona 1D (54) - Link: h
 ttps://www.badmintonvlaanderen.be/sport/teammatch.aspx?id=7A79EC4D-D9C5-4E
 F0-8466-03CF82E25DAE&match=574
DTSTART;TZID=Europe/Brussels:20250401T070000
DTEND;TZID=Europe/Brussels:20250401T070000
END:VEVENT
BEGIN:VEVENT
UID:7A79EC4D-D9C5-4EF0-8466-03CF82E25DAE-13-561_awayreminder@80.badmintonne
 rs.net
DTSTAMP:20260420T070506Z
SUMMARY:Uitmatch bevestigd? (De Mintons 1D (44) - Klein Boom 1D (42))
DESCRIPTION:Je hebt 72 uur na aanvang om een uitmatch op Badmintonvlaandere
 n in te vullen. Match info: De Mintons 1D (44) - Klein Boom 1D (42) - Link
 : https://www.badmintonvlaanderen.be/sport/teammatch.aspx?id=7A79EC4D-D9C5
 -4EF0-8466-03CF82E25DAE&match=561
DTSTART;TZID=Europe/Brussels:20241013T200000
DTEND;TZID=Europe/Brussels:20241013T200000
END:VEVENT
BEGIN:VEVENT
UID:7A79EC4D-D9C5-4EF0-8466-03CF82E25DAE-13-565_awayreminder@80.badmintonne
 rs.net
DTSTAMP:20260420T070506Z
SUMMARY:Uitmatch bevestigd? (Waverse 1D (51) - Klein Boom 1D (42))
DESCRIPTION:Je hebt 72 uur na aanvang om een uitmatch op Badmintonvlaandere
 n in te vullen. Match info: Waverse 1D (51) - Klein Boom 1D (42) - Link: h
 ttps://www.badmintonvlaanderen.be/sport/teammatch.aspx?id=7A79EC4D-D9C5-4E
 F0-8466-03CF82E25DAE&match=565
DTSTART;TZID=Europe/Brussels:20241111T200000
DTEND;TZID=Europe/Brussels:20241111T200000
END:VEVENT
BEGIN:VEVENT
UID:7A79EC4D-D9C5-4EF0-8466-03CF82E25DAE-13-563_awayreminder@80.badmintonne
 rs.net
DTSTAMP:20260420T070506Z
SUMMARY:Uitmatch bevestigd? (Poona 1D (54) - Klein Boom 1D (42))
DESCRIPTION:Je hebt 72 uur na aanvang om een uitmatch op Badmintonvlaandere
 n in te vullen. Match info: Poona 1D (54) - Klein Boom 1D (42) - Link: htt
 ps://www.badmintonvlaanderen.be/sport/teammatch.aspx?id=7A79EC4D-D9C5-4EF0
 -8466-03CF82E25DAE&match=563
DTSTART;TZID=Europe/Brussels:20241121T200000
DTEND;TZID=Europe/Brussels:20241121T200000
END:VEVENT
BEGIN:VEVENT
UID:7A79EC4D-D9C5-4EF0-8466-03CF82E25DAE-13-564_awayreminder@80.badmintonne
 rs.net
DTSTAMP:20260420T070506Z
SUMMARY:Uitmatch bevestigd? (Royal Antwerp 1D (43) - Klein Boom 1D (42))
DESCRIPTION:Je hebt 72 uur na aanvang om een uitmatch op Badmintonvlaandere
 n in te vullen. Match info: Royal Antwerp 1D (43) - Klein Boom 1D (42) - L
 ink: https://www.badmintonvlaanderen.be/sport/teammatch.aspx?id=7A79EC4D-D
 9C5-4EF0-8466-03CF82E25DAE&match=564
DTSTART;TZID=Europe/Brussels:20250108T180000
DTEND;TZID=Europe/Brussels:20250108T180000
END:VEVENT
BEGIN:VEVENT
UID:7A79EC4D-D9C5-4EF0-8466-03CF82E25DAE-13-560_awayreminder@80.badmintonne
 rs.net
DTSTAMP:20260420T070506Z
SUMMARY:Uitmatch bevestigd? (De Klamp 1D (38) - Klein Boom 1D (42))
DESCRIPTION:Je hebt 72 uur na aanvang om een uitmatch op Badmintonvlaandere
 n in te vullen. Match info: De Klamp 1D (38) - Klein Boom 1D (42) - Link: 
 https://www.badmintonvlaanderen.be/sport/teammatch.aspx?id=7A79EC4D-D9C5-4
 EF0-8466-03CF82E25DAE&match=560
DTSTART;TZID=Europe/Brussels:20250129T181500
DTEND;TZID=Europe/Brussels:20250129T181500
END:VEVENT
BEGIN:VEVENT
UID:7A79EC4D-D9C5-4EF0-8466-03CF82E25DAE-13-562_awayreminder@80.badmintonne
 rs.net
DTSTAMP:20260420T070506Z
SUMMARY:Uitmatch bevestigd? (Opslag 1D (46) - Klein Boom 1D (42))
DESCRIPTION:Je hebt 72 uur na aanvang om een uitmatch op Badmintonvlaandere
 n in te vullen. Match info: Opslag 1D (46) - Klein Boom 1D (42) - Link: ht
 tps://www.badmintonvlaanderen.be/sport/teammatch.aspx?id=7A79EC4D-D9C5-4EF
 0-8466-03CF82E25DAE&match=562
DTSTART;TZID=Europe/Brussels:20250319T191500
DTEND;TZID=Europe/Brussels:20250319T191500
END:VEVENT
END:VCALENDAR