BEGIN:VCALENDAR
VERSION:2.0
PRODID:spatie/icalendar-generator
NAME:waverse_1d_51_reminders
X-WR-CALNAME:waverse_1d_51_reminders
BEGIN:VTIMEZONE
TZID:Europe/Brussels
BEGIN:DAYLIGHT
DTSTART:20240331T010000
TZOFFSETFROM:+0100
TZOFFSETTO:+0200
END:DAYLIGHT
BEGIN:STANDARD
DTSTART:20241027T030000
TZOFFSETFROM:+0200
TZOFFSETTO:+0100
END:STANDARD
BEGIN:DAYLIGHT
DTSTART:20250330T010000
TZOFFSETFROM:+0100
TZOFFSETTO:+0200
END:DAYLIGHT
END:VTIMEZONE
BEGIN:VTIMEZONE
TZID:UTC
BEGIN:STANDARD
DTSTART:20250724T070503
TZOFFSETFROM:+0000
TZOFFSETTO:+0000
END:STANDARD
END:VTIMEZONE
BEGIN:VEVENT
UID:7A79EC4D-D9C5-4EF0-8466-03CF82E25DAE-13-577_homereminder@84.badmintonne
 rs.net
DTSTAMP:20260420T070503Z
SUMMARY:Thuismatch ingevuld? (Waverse 1D (51) - Poona 1D (54))
DESCRIPTION:Je hebt 36 uur na aanvang om een thuismatch op Badmintonvlaande
 ren in te vullen. Match info: Waverse 1D (51) - Poona 1D (54) - Link: http
 s://www.badmintonvlaanderen.be/sport/teammatch.aspx?id=7A79EC4D-D9C5-4EF0-
 8466-03CF82E25DAE&match=577
DTSTART;TZID=Europe/Brussels:20241029T020000
DTEND;TZID=Europe/Brussels:20241029T020000
END:VEVENT
BEGIN:VEVENT
UID:7A79EC4D-D9C5-4EF0-8466-03CF82E25DAE-13-565_homereminder@84.badmintonne
 rs.net
DTSTAMP:20260420T070503Z
SUMMARY:Thuismatch ingevuld? (Waverse 1D (51) - Klein Boom 1D (42))
DESCRIPTION:Je hebt 36 uur na aanvang om een thuismatch op Badmintonvlaande
 ren in te vullen. Match info: Waverse 1D (51) - Klein Boom 1D (42) - Link:
  https://www.badmintonvlaanderen.be/sport/teammatch.aspx?id=7A79EC4D-D9C5-
 4EF0-8466-03CF82E25DAE&match=565
DTSTART;TZID=Europe/Brussels:20241110T080000
DTEND;TZID=Europe/Brussels:20241110T080000
END:VEVENT
BEGIN:VEVENT
UID:7A79EC4D-D9C5-4EF0-8466-03CF82E25DAE-13-559_homereminder@84.badmintonne
 rs.net
DTSTAMP:20260420T070503Z
SUMMARY:Thuismatch ingevuld? (Waverse 1D (51) - De Mintons 1D (44))
DESCRIPTION:Je hebt 36 uur na aanvang om een thuismatch op Badmintonvlaande
 ren in te vullen. Match info: Waverse 1D (51) - De Mintons 1D (44) - Link:
  https://www.badmintonvlaanderen.be/sport/teammatch.aspx?id=7A79EC4D-D9C5-
 4EF0-8466-03CF82E25DAE&match=559
DTSTART;TZID=Europe/Brussels:20250107T020000
DTEND;TZID=Europe/Brussels:20250107T020000
END:VEVENT
BEGIN:VEVENT
UID:7A79EC4D-D9C5-4EF0-8466-03CF82E25DAE-13-571_homereminder@84.badmintonne
 rs.net
DTSTAMP:20260420T070503Z
SUMMARY:Thuismatch ingevuld? (Waverse 1D (51) - Opslag 1D (46))
DESCRIPTION:Je hebt 36 uur na aanvang om een thuismatch op Badmintonvlaande
 ren in te vullen. Match info: Waverse 1D (51) - Opslag 1D (46) - Link: htt
 ps://www.badmintonvlaanderen.be/sport/teammatch.aspx?id=7A79EC4D-D9C5-4EF0
 -8466-03CF82E25DAE&match=571
DTSTART;TZID=Europe/Brussels:20250304T020000
DTEND;TZID=Europe/Brussels:20250304T020000
END:VEVENT
BEGIN:VEVENT
UID:7A79EC4D-D9C5-4EF0-8466-03CF82E25DAE-13-583_homereminder@84.badmintonne
 rs.net
DTSTAMP:20260420T070503Z
SUMMARY:Thuismatch ingevuld? (Waverse 1D (51) - Royal Antwerp 1D (43))
DESCRIPTION:Je hebt 36 uur na aanvang om een thuismatch op Badmintonvlaande
 ren in te vullen. Match info: Waverse 1D (51) - Royal Antwerp 1D (43) - Li
 nk: https://www.badmintonvlaanderen.be/sport/teammatch.aspx?id=7A79EC4D-D9
 C5-4EF0-8466-03CF82E25DAE&match=583
DTSTART;TZID=Europe/Brussels:20250323T080000
DTEND;TZID=Europe/Brussels:20250323T080000
END:VEVENT
BEGIN:VEVENT
UID:7A79EC4D-D9C5-4EF0-8466-03CF82E25DAE-13-553_homereminder@84.badmintonne
 rs.net
DTSTAMP:20260420T070503Z
SUMMARY:Thuismatch ingevuld? (Waverse 1D (51) - De Klamp 1D (38))
DESCRIPTION:Je hebt 36 uur na aanvang om een thuismatch op Badmintonvlaande
 ren in te vullen. Match info: Waverse 1D (51) - De Klamp 1D (38) - Link: h
 ttps://www.badmintonvlaanderen.be/sport/teammatch.aspx?id=7A79EC4D-D9C5-4E
 F0-8466-03CF82E25DAE&match=553
DTSTART;TZID=Europe/Brussels:20250330T090000
DTEND;TZID=Europe/Brussels:20250330T090000
END:VEVENT
BEGIN:VEVENT
UID:7A79EC4D-D9C5-4EF0-8466-03CF82E25DAE-13-589_awayreminder@84.badmintonne
 rs.net
DTSTAMP:20260420T070503Z
SUMMARY:Uitmatch bevestigd? (Royal Antwerp 1D (43) - Waverse 1D (51))
DESCRIPTION:Je hebt 72 uur na aanvang om een uitmatch op Badmintonvlaandere
 n in te vullen. Match info: Royal Antwerp 1D (43) - Waverse 1D (51) - Link
 : https://www.badmintonvlaanderen.be/sport/teammatch.aspx?id=7A79EC4D-D9C5
 -4EF0-8466-03CF82E25DAE&match=589
DTSTART;TZID=Europe/Brussels:20241113T180000
DTEND;TZID=Europe/Brussels:20241113T180000
END:VEVENT
BEGIN:VEVENT
UID:7A79EC4D-D9C5-4EF0-8466-03CF82E25DAE-13-587_awayreminder@84.badmintonne
 rs.net
DTSTAMP:20260420T070503Z
SUMMARY:Uitmatch bevestigd? (Opslag 1D (46) - Waverse 1D (51))
DESCRIPTION:Je hebt 72 uur na aanvang om een uitmatch op Badmintonvlaandere
 n in te vullen. Match info: Opslag 1D (46) - Waverse 1D (51) - Link: https
 ://www.badmintonvlaanderen.be/sport/teammatch.aspx?id=7A79EC4D-D9C5-4EF0-8
 466-03CF82E25DAE&match=587
DTSTART;TZID=Europe/Brussels:20241211T191500
DTEND;TZID=Europe/Brussels:20241211T191500
END:VEVENT
BEGIN:VEVENT
UID:7A79EC4D-D9C5-4EF0-8466-03CF82E25DAE-13-585_awayreminder@84.badmintonne
 rs.net
DTSTAMP:20260420T070503Z
SUMMARY:Uitmatch bevestigd? (De Mintons 1D (44) - Waverse 1D (51))
DESCRIPTION:Je hebt 72 uur na aanvang om een uitmatch op Badmintonvlaandere
 n in te vullen. Match info: De Mintons 1D (44) - Waverse 1D (51) - Link: h
 ttps://www.badmintonvlaanderen.be/sport/teammatch.aspx?id=7A79EC4D-D9C5-4E
 F0-8466-03CF82E25DAE&match=585
DTSTART;TZID=Europe/Brussels:20241222T200000
DTEND;TZID=Europe/Brussels:20241222T200000
END:VEVENT
BEGIN:VEVENT
UID:7A79EC4D-D9C5-4EF0-8466-03CF82E25DAE-13-584_awayreminder@84.badmintonne
 rs.net
DTSTAMP:20260420T070503Z
SUMMARY:Uitmatch bevestigd? (De Klamp 1D (38) - Waverse 1D (51))
DESCRIPTION:Je hebt 72 uur na aanvang om een uitmatch op Badmintonvlaandere
 n in te vullen. Match info: De Klamp 1D (38) - Waverse 1D (51) - Link: htt
 ps://www.badmintonvlaanderen.be/sport/teammatch.aspx?id=7A79EC4D-D9C5-4EF0
 -8466-03CF82E25DAE&match=584
DTSTART;TZID=Europe/Brussels:20241225T181500
DTEND;TZID=Europe/Brussels:20241225T181500
END:VEVENT
BEGIN:VEVENT
UID:7A79EC4D-D9C5-4EF0-8466-03CF82E25DAE-13-586_awayreminder@84.badmintonne
 rs.net
DTSTAMP:20260420T070503Z
SUMMARY:Uitmatch bevestigd? (Klein Boom 1D (42) - Waverse 1D (51))
DESCRIPTION:Je hebt 72 uur na aanvang om een uitmatch op Badmintonvlaandere
 n in te vullen. Match info: Klein Boom 1D (42) - Waverse 1D (51) - Link: h
 ttps://www.badmintonvlaanderen.be/sport/teammatch.aspx?id=7A79EC4D-D9C5-4E
 F0-8466-03CF82E25DAE&match=586
DTSTART;TZID=Europe/Brussels:20250122T190000
DTEND;TZID=Europe/Brussels:20250122T190000
END:VEVENT
BEGIN:VEVENT
UID:7A79EC4D-D9C5-4EF0-8466-03CF82E25DAE-13-588_awayreminder@84.badmintonne
 rs.net
DTSTAMP:20260420T070503Z
SUMMARY:Uitmatch bevestigd? (Poona 1D (54) - Waverse 1D (51))
DESCRIPTION:Je hebt 72 uur na aanvang om een uitmatch op Badmintonvlaandere
 n in te vullen. Match info: Poona 1D (54) - Waverse 1D (51) - Link: https:
 //www.badmintonvlaanderen.be/sport/teammatch.aspx?id=7A79EC4D-D9C5-4EF0-84
 66-03CF82E25DAE&match=588
DTSTART;TZID=Europe/Brussels:20250327T200000
DTEND;TZID=Europe/Brussels:20250327T200000
END:VEVENT
END:VCALENDAR