BEGIN:VCALENDAR
VERSION:2.0
PRODID:spatie/icalendar-generator
NAME:opslag_1d_46_reminders
X-WR-CALNAME:opslag_1d_46_reminders
BEGIN:VTIMEZONE
TZID:Europe/Brussels
BEGIN:DAYLIGHT
DTSTART:20240331T010000
TZOFFSETFROM:+0100
TZOFFSETTO:+0200
END:DAYLIGHT
BEGIN:STANDARD
DTSTART:20241027T030000
TZOFFSETFROM:+0200
TZOFFSETTO:+0100
END:STANDARD
BEGIN:DAYLIGHT
DTSTART:20250330T010000
TZOFFSETFROM:+0100
TZOFFSETTO:+0200
END:DAYLIGHT
BEGIN:STANDARD
DTSTART:20251026T030000
TZOFFSETFROM:+0200
TZOFFSETTO:+0100
END:STANDARD
END:VTIMEZONE
BEGIN:VTIMEZONE
TZID:UTC
BEGIN:STANDARD
DTSTART:20250724T070504
TZOFFSETFROM:+0000
TZOFFSETTO:+0000
END:STANDARD
END:VTIMEZONE
BEGIN:VEVENT
UID:7A79EC4D-D9C5-4EF0-8466-03CF82E25DAE-13-556_homereminder@86.badmintonne
 rs.net
DTSTAMP:20260420T070504Z
SUMMARY:Thuismatch ingevuld? (Opslag 1D (46) - De Mintons 1D (44))
DESCRIPTION:Je hebt 36 uur na aanvang om een thuismatch op Badmintonvlaande
 ren in te vullen. Match info: Opslag 1D (46) - De Mintons 1D (44) - Link: 
 https://www.badmintonvlaanderen.be/sport/teammatch.aspx?id=7A79EC4D-D9C5-4
 EF0-8466-03CF82E25DAE&match=556
DTSTART;TZID=Europe/Brussels:20241029T071500
DTEND;TZID=Europe/Brussels:20241029T071500
END:VEVENT
BEGIN:VEVENT
UID:7A79EC4D-D9C5-4EF0-8466-03CF82E25DAE-13-575_homereminder@86.badmintonne
 rs.net
DTSTAMP:20260420T070504Z
SUMMARY:Thuismatch ingevuld? (Opslag 1D (46) - Poona 1D (54))
DESCRIPTION:Je hebt 36 uur na aanvang om een thuismatch op Badmintonvlaande
 ren in te vullen. Match info: Opslag 1D (46) - Poona 1D (54) - Link: https
 ://www.badmintonvlaanderen.be/sport/teammatch.aspx?id=7A79EC4D-D9C5-4EF0-8
 466-03CF82E25DAE&match=575
DTSTART;TZID=Europe/Brussels:20241126T043000
DTEND;TZID=Europe/Brussels:20241126T043000
END:VEVENT
BEGIN:VEVENT
UID:7A79EC4D-D9C5-4EF0-8466-03CF82E25DAE-13-587_homereminder@86.badmintonne
 rs.net
DTSTAMP:20260420T070504Z
SUMMARY:Thuismatch ingevuld? (Opslag 1D (46) - Waverse 1D (51))
DESCRIPTION:Je hebt 36 uur na aanvang om een thuismatch op Badmintonvlaande
 ren in te vullen. Match info: Opslag 1D (46) - Waverse 1D (51) - Link: htt
 ps://www.badmintonvlaanderen.be/sport/teammatch.aspx?id=7A79EC4D-D9C5-4EF0
 -8466-03CF82E25DAE&match=587
DTSTART;TZID=Europe/Brussels:20241210T071500
DTEND;TZID=Europe/Brussels:20241210T071500
END:VEVENT
BEGIN:VEVENT
UID:7A79EC4D-D9C5-4EF0-8466-03CF82E25DAE-13-550_homereminder@86.badmintonne
 rs.net
DTSTAMP:20260420T070504Z
SUMMARY:Thuismatch ingevuld? (Opslag 1D (46) - De Klamp 1D (38))
DESCRIPTION:Je hebt 36 uur na aanvang om een thuismatch op Badmintonvlaande
 ren in te vullen. Match info: Opslag 1D (46) - De Klamp 1D (38) - Link: ht
 tps://www.badmintonvlaanderen.be/sport/teammatch.aspx?id=7A79EC4D-D9C5-4EF
 0-8466-03CF82E25DAE&match=550
DTSTART;TZID=Europe/Brussels:20241222T080000
DTEND;TZID=Europe/Brussels:20241222T080000
END:VEVENT
BEGIN:VEVENT
UID:7A79EC4D-D9C5-4EF0-8466-03CF82E25DAE-13-581_homereminder@86.badmintonne
 rs.net
DTSTAMP:20260420T070504Z
SUMMARY:Thuismatch ingevuld? (Opslag 1D (46) - Royal Antwerp 1D (43))
DESCRIPTION:Je hebt 36 uur na aanvang om een thuismatch op Badmintonvlaande
 ren in te vullen. Match info: Opslag 1D (46) - Royal Antwerp 1D (43) - Lin
 k: https://www.badmintonvlaanderen.be/sport/teammatch.aspx?id=7A79EC4D-D9C
 5-4EF0-8466-03CF82E25DAE&match=581
DTSTART;TZID=Europe/Brussels:20250218T043000
DTEND;TZID=Europe/Brussels:20250218T043000
END:VEVENT
BEGIN:VEVENT
UID:7A79EC4D-D9C5-4EF0-8466-03CF82E25DAE-13-562_homereminder@86.badmintonne
 rs.net
DTSTAMP:20260420T070504Z
SUMMARY:Thuismatch ingevuld? (Opslag 1D (46) - Klein Boom 1D (42))
DESCRIPTION:Je hebt 36 uur na aanvang om een thuismatch op Badmintonvlaande
 ren in te vullen. Match info: Opslag 1D (46) - Klein Boom 1D (42) - Link: 
 https://www.badmintonvlaanderen.be/sport/teammatch.aspx?id=7A79EC4D-D9C5-4
 EF0-8466-03CF82E25DAE&match=562
DTSTART;TZID=Europe/Brussels:20250318T071500
DTEND;TZID=Europe/Brussels:20250318T071500
END:VEVENT
BEGIN:VEVENT
UID:7A79EC4D-D9C5-4EF0-8466-03CF82E25DAE-13-570_awayreminder@86.badmintonne
 rs.net
DTSTAMP:20260420T070504Z
SUMMARY:Uitmatch bevestigd? (Royal Antwerp 1D (43) - Opslag 1D (46))
DESCRIPTION:Je hebt 72 uur na aanvang om een uitmatch op Badmintonvlaandere
 n in te vullen. Match info: Royal Antwerp 1D (43) - Opslag 1D (46) - Link:
  https://www.badmintonvlaanderen.be/sport/teammatch.aspx?id=7A79EC4D-D9C5-
 4EF0-8466-03CF82E25DAE&match=570
DTSTART;TZID=Europe/Brussels:20240918T180000
DTEND;TZID=Europe/Brussels:20240918T180000
END:VEVENT
BEGIN:VEVENT
UID:7A79EC4D-D9C5-4EF0-8466-03CF82E25DAE-13-568_awayreminder@86.badmintonne
 rs.net
DTSTAMP:20260420T070504Z
SUMMARY:Uitmatch bevestigd? (Klein Boom 1D (42) - Opslag 1D (46))
DESCRIPTION:Je hebt 72 uur na aanvang om een uitmatch op Badmintonvlaandere
 n in te vullen. Match info: Klein Boom 1D (42) - Opslag 1D (46) - Link: ht
 tps://www.badmintonvlaanderen.be/sport/teammatch.aspx?id=7A79EC4D-D9C5-4EF
 0-8466-03CF82E25DAE&match=568
DTSTART;TZID=Europe/Brussels:20241225T190000
DTEND;TZID=Europe/Brussels:20241225T190000
END:VEVENT
BEGIN:VEVENT
UID:7A79EC4D-D9C5-4EF0-8466-03CF82E25DAE-13-566_awayreminder@86.badmintonne
 rs.net
DTSTAMP:20260420T070504Z
SUMMARY:Uitmatch bevestigd? (De Klamp 1D (38) - Opslag 1D (46))
DESCRIPTION:Je hebt 72 uur na aanvang om een uitmatch op Badmintonvlaandere
 n in te vullen. Match info: De Klamp 1D (38) - Opslag 1D (46) - Link: http
 s://www.badmintonvlaanderen.be/sport/teammatch.aspx?id=7A79EC4D-D9C5-4EF0-
 8466-03CF82E25DAE&match=566
DTSTART;TZID=Europe/Brussels:20250108T181500
DTEND;TZID=Europe/Brussels:20250108T181500
END:VEVENT
BEGIN:VEVENT
UID:7A79EC4D-D9C5-4EF0-8466-03CF82E25DAE-13-567_awayreminder@86.badmintonne
 rs.net
DTSTAMP:20260420T070504Z
SUMMARY:Uitmatch bevestigd? (De Mintons 1D (44) - Opslag 1D (46))
DESCRIPTION:Je hebt 72 uur na aanvang om een uitmatch op Badmintonvlaandere
 n in te vullen. Match info: De Mintons 1D (44) - Opslag 1D (46) - Link: ht
 tps://www.badmintonvlaanderen.be/sport/teammatch.aspx?id=7A79EC4D-D9C5-4EF
 0-8466-03CF82E25DAE&match=567
DTSTART;TZID=Europe/Brussels:20250202T200000
DTEND;TZID=Europe/Brussels:20250202T200000
END:VEVENT
BEGIN:VEVENT
UID:7A79EC4D-D9C5-4EF0-8466-03CF82E25DAE-13-571_awayreminder@86.badmintonne
 rs.net
DTSTAMP:20260420T070504Z
SUMMARY:Uitmatch bevestigd? (Waverse 1D (51) - Opslag 1D (46))
DESCRIPTION:Je hebt 72 uur na aanvang om een uitmatch op Badmintonvlaandere
 n in te vullen. Match info: Waverse 1D (51) - Opslag 1D (46) - Link: https
 ://www.badmintonvlaanderen.be/sport/teammatch.aspx?id=7A79EC4D-D9C5-4EF0-8
 466-03CF82E25DAE&match=571
DTSTART;TZID=Europe/Brussels:20250305T140000
DTEND;TZID=Europe/Brussels:20250305T140000
END:VEVENT
BEGIN:VEVENT
UID:7A79EC4D-D9C5-4EF0-8466-03CF82E25DAE-13-569_awayreminder@86.badmintonne
 rs.net
DTSTAMP:20260420T070504Z
SUMMARY:Uitmatch bevestigd? (Poona 1D (54) - Opslag 1D (46))
DESCRIPTION:Je hebt 72 uur na aanvang om een uitmatch op Badmintonvlaandere
 n in te vullen. Match info: Poona 1D (54) - Opslag 1D (46) - Link: https:/
 /www.badmintonvlaanderen.be/sport/teammatch.aspx?id=7A79EC4D-D9C5-4EF0-846
 6-03CF82E25DAE&match=569
DTSTART;TZID=Europe/Brussels:20250501T200000
DTEND;TZID=Europe/Brussels:20250501T200000
END:VEVENT
END:VCALENDAR