BEGIN:VCALENDAR
VERSION:2.0
PRODID:spatie/icalendar-generator
NAME:de_klamp_1d_38_reminders
X-WR-CALNAME:de_klamp_1d_38_reminders
BEGIN:VTIMEZONE
TZID:Europe/Brussels
BEGIN:DAYLIGHT
DTSTART:20240331T010000
TZOFFSETFROM:+0100
TZOFFSETTO:+0200
END:DAYLIGHT
BEGIN:STANDARD
DTSTART:20241027T030000
TZOFFSETFROM:+0200
TZOFFSETTO:+0100
END:STANDARD
BEGIN:DAYLIGHT
DTSTART:20250330T010000
TZOFFSETFROM:+0100
TZOFFSETTO:+0200
END:DAYLIGHT
END:VTIMEZONE
BEGIN:VTIMEZONE
TZID:UTC
BEGIN:STANDARD
DTSTART:20250724T070455
TZOFFSETFROM:+0000
TZOFFSETTO:+0000
END:STANDARD
END:VTIMEZONE
BEGIN:VEVENT
UID:7A79EC4D-D9C5-4EF0-8466-03CF82E25DAE-13-578_homereminder@88.badmintonne
 rs.net
DTSTAMP:20260420T070455Z
SUMMARY:Thuismatch ingevuld? (De Klamp 1D (38) - Royal Antwerp 1D (43))
DESCRIPTION:Je hebt 36 uur na aanvang om een thuismatch op Badmintonvlaande
 ren in te vullen. Match info: De Klamp 1D (38) - Royal Antwerp 1D (43) - L
 ink: https://www.badmintonvlaanderen.be/sport/teammatch.aspx?id=7A79EC4D-D
 9C5-4EF0-8466-03CF82E25DAE&match=578
DTSTART;TZID=Europe/Brussels:20241029T061500
DTEND;TZID=Europe/Brussels:20241029T061500
END:VEVENT
BEGIN:VEVENT
UID:7A79EC4D-D9C5-4EF0-8466-03CF82E25DAE-13-554_homereminder@88.badmintonne
 rs.net
DTSTAMP:20260420T070455Z
SUMMARY:Thuismatch ingevuld? (De Klamp 1D (38) - De Mintons 1D (44))
DESCRIPTION:Je hebt 36 uur na aanvang om een thuismatch op Badmintonvlaande
 ren in te vullen. Match info: De Klamp 1D (38) - De Mintons 1D (44) - Link
 : https://www.badmintonvlaanderen.be/sport/teammatch.aspx?id=7A79EC4D-D9C5
 -4EF0-8466-03CF82E25DAE&match=554
DTSTART;TZID=Europe/Brussels:20241119T061500
DTEND;TZID=Europe/Brussels:20241119T061500
END:VEVENT
BEGIN:VEVENT
UID:7A79EC4D-D9C5-4EF0-8466-03CF82E25DAE-13-584_homereminder@88.badmintonne
 rs.net
DTSTAMP:20260420T070455Z
SUMMARY:Thuismatch ingevuld? (De Klamp 1D (38) - Waverse 1D (51))
DESCRIPTION:Je hebt 36 uur na aanvang om een thuismatch op Badmintonvlaande
 ren in te vullen. Match info: De Klamp 1D (38) - Waverse 1D (51) - Link: h
 ttps://www.badmintonvlaanderen.be/sport/teammatch.aspx?id=7A79EC4D-D9C5-4E
 F0-8466-03CF82E25DAE&match=584
DTSTART;TZID=Europe/Brussels:20241224T061500
DTEND;TZID=Europe/Brussels:20241224T061500
END:VEVENT
BEGIN:VEVENT
UID:7A79EC4D-D9C5-4EF0-8466-03CF82E25DAE-13-566_homereminder@88.badmintonne
 rs.net
DTSTAMP:20260420T070455Z
SUMMARY:Thuismatch ingevuld? (De Klamp 1D (38) - Opslag 1D (46))
DESCRIPTION:Je hebt 36 uur na aanvang om een thuismatch op Badmintonvlaande
 ren in te vullen. Match info: De Klamp 1D (38) - Opslag 1D (46) - Link: ht
 tps://www.badmintonvlaanderen.be/sport/teammatch.aspx?id=7A79EC4D-D9C5-4EF
 0-8466-03CF82E25DAE&match=566
DTSTART;TZID=Europe/Brussels:20250107T061500
DTEND;TZID=Europe/Brussels:20250107T061500
END:VEVENT
BEGIN:VEVENT
UID:7A79EC4D-D9C5-4EF0-8466-03CF82E25DAE-13-560_homereminder@88.badmintonne
 rs.net
DTSTAMP:20260420T070455Z
SUMMARY:Thuismatch ingevuld? (De Klamp 1D (38) - Klein Boom 1D (42))
DESCRIPTION:Je hebt 36 uur na aanvang om een thuismatch op Badmintonvlaande
 ren in te vullen. Match info: De Klamp 1D (38) - Klein Boom 1D (42) - Link
 : https://www.badmintonvlaanderen.be/sport/teammatch.aspx?id=7A79EC4D-D9C5
 -4EF0-8466-03CF82E25DAE&match=560
DTSTART;TZID=Europe/Brussels:20250128T061500
DTEND;TZID=Europe/Brussels:20250128T061500
END:VEVENT
BEGIN:VEVENT
UID:7A79EC4D-D9C5-4EF0-8466-03CF82E25DAE-13-572_homereminder@88.badmintonne
 rs.net
DTSTAMP:20260420T070455Z
SUMMARY:Thuismatch ingevuld? (De Klamp 1D (38) - Poona 1D (54))
DESCRIPTION:Je hebt 36 uur na aanvang om een thuismatch op Badmintonvlaande
 ren in te vullen. Match info: De Klamp 1D (38) - Poona 1D (54) - Link: htt
 ps://www.badmintonvlaanderen.be/sport/teammatch.aspx?id=7A79EC4D-D9C5-4EF0
 -8466-03CF82E25DAE&match=572
DTSTART;TZID=Europe/Brussels:20250318T061500
DTEND;TZID=Europe/Brussels:20250318T061500
END:VEVENT
BEGIN:VEVENT
UID:7A79EC4D-D9C5-4EF0-8466-03CF82E25DAE-13-549_awayreminder@88.badmintonne
 rs.net
DTSTAMP:20260420T070455Z
SUMMARY:Uitmatch bevestigd? (Klein Boom 1D (42) - De Klamp 1D (38))
DESCRIPTION:Je hebt 72 uur na aanvang om een uitmatch op Badmintonvlaandere
 n in te vullen. Match info: Klein Boom 1D (42) - De Klamp 1D (38) - Link: 
 https://www.badmintonvlaanderen.be/sport/teammatch.aspx?id=7A79EC4D-D9C5-4
 EF0-8466-03CF82E25DAE&match=549
DTSTART;TZID=Europe/Brussels:20240918T190000
DTEND;TZID=Europe/Brussels:20240918T190000
END:VEVENT
BEGIN:VEVENT
UID:7A79EC4D-D9C5-4EF0-8466-03CF82E25DAE-13-551_awayreminder@88.badmintonne
 rs.net
DTSTAMP:20260420T070455Z
SUMMARY:Uitmatch bevestigd? (Poona 1D (54) - De Klamp 1D (38))
DESCRIPTION:Je hebt 72 uur na aanvang om een uitmatch op Badmintonvlaandere
 n in te vullen. Match info: Poona 1D (54) - De Klamp 1D (38) - Link: https
 ://www.badmintonvlaanderen.be/sport/teammatch.aspx?id=7A79EC4D-D9C5-4EF0-8
 466-03CF82E25DAE&match=551
DTSTART;TZID=Europe/Brussels:20241010T200000
DTEND;TZID=Europe/Brussels:20241010T200000
END:VEVENT
BEGIN:VEVENT
UID:7A79EC4D-D9C5-4EF0-8466-03CF82E25DAE-13-550_awayreminder@88.badmintonne
 rs.net
DTSTAMP:20260420T070455Z
SUMMARY:Uitmatch bevestigd? (Opslag 1D (46) - De Klamp 1D (38))
DESCRIPTION:Je hebt 72 uur na aanvang om een uitmatch op Badmintonvlaandere
 n in te vullen. Match info: Opslag 1D (46) - De Klamp 1D (38) - Link: http
 s://www.badmintonvlaanderen.be/sport/teammatch.aspx?id=7A79EC4D-D9C5-4EF0-
 8466-03CF82E25DAE&match=550
DTSTART;TZID=Europe/Brussels:20241223T200000
DTEND;TZID=Europe/Brussels:20241223T200000
END:VEVENT
BEGIN:VEVENT
UID:7A79EC4D-D9C5-4EF0-8466-03CF82E25DAE-13-548_awayreminder@88.badmintonne
 rs.net
DTSTAMP:20260420T070455Z
SUMMARY:Uitmatch bevestigd? (De Mintons 1D (44) - De Klamp 1D (38))
DESCRIPTION:Je hebt 72 uur na aanvang om een uitmatch op Badmintonvlaandere
 n in te vullen. Match info: De Mintons 1D (44) - De Klamp 1D (38) - Link: 
 https://www.badmintonvlaanderen.be/sport/teammatch.aspx?id=7A79EC4D-D9C5-4
 EF0-8466-03CF82E25DAE&match=548
DTSTART;TZID=Europe/Brussels:20250119T200000
DTEND;TZID=Europe/Brussels:20250119T200000
END:VEVENT
BEGIN:VEVENT
UID:7A79EC4D-D9C5-4EF0-8466-03CF82E25DAE-13-553_awayreminder@88.badmintonne
 rs.net
DTSTAMP:20260420T070455Z
SUMMARY:Uitmatch bevestigd? (Waverse 1D (51) - De Klamp 1D (38))
DESCRIPTION:Je hebt 72 uur na aanvang om een uitmatch op Badmintonvlaandere
 n in te vullen. Match info: Waverse 1D (51) - De Klamp 1D (38) - Link: htt
 ps://www.badmintonvlaanderen.be/sport/teammatch.aspx?id=7A79EC4D-D9C5-4EF0
 -8466-03CF82E25DAE&match=553
DTSTART;TZID=Europe/Brussels:20250331T210000
DTEND;TZID=Europe/Brussels:20250331T210000
END:VEVENT
BEGIN:VEVENT
UID:7A79EC4D-D9C5-4EF0-8466-03CF82E25DAE-13-552_awayreminder@88.badmintonne
 rs.net
DTSTAMP:20260420T070455Z
SUMMARY:Uitmatch bevestigd? (Royal Antwerp 1D (43) - De Klamp 1D (38))
DESCRIPTION:Je hebt 72 uur na aanvang om een uitmatch op Badmintonvlaandere
 n in te vullen. Match info: Royal Antwerp 1D (43) - De Klamp 1D (38) - Lin
 k: https://www.badmintonvlaanderen.be/sport/teammatch.aspx?id=7A79EC4D-D9C
 5-4EF0-8466-03CF82E25DAE&match=552
DTSTART;TZID=Europe/Brussels:20250416T180000
DTEND;TZID=Europe/Brussels:20250416T180000
END:VEVENT
END:VCALENDAR