BEGIN:VCALENDAR
VERSION:2.0
PRODID:spatie/icalendar-generator
NAME:poona_1d_54_reminders
X-WR-CALNAME:poona_1d_54_reminders
BEGIN:VTIMEZONE
TZID:Europe/Brussels
BEGIN:DAYLIGHT
DTSTART:20240331T010000
TZOFFSETFROM:+0100
TZOFFSETTO:+0200
END:DAYLIGHT
BEGIN:STANDARD
DTSTART:20241027T030000
TZOFFSETFROM:+0200
TZOFFSETTO:+0100
END:STANDARD
BEGIN:DAYLIGHT
DTSTART:20250330T010000
TZOFFSETFROM:+0100
TZOFFSETTO:+0200
END:DAYLIGHT
BEGIN:STANDARD
DTSTART:20251026T030000
TZOFFSETFROM:+0200
TZOFFSETTO:+0100
END:STANDARD
END:VTIMEZONE
BEGIN:VTIMEZONE
TZID:UTC
BEGIN:STANDARD
DTSTART:20250724T070503
TZOFFSETFROM:+0000
TZOFFSETTO:+0000
END:STANDARD
END:VTIMEZONE
BEGIN:VEVENT
UID:7A79EC4D-D9C5-4EF0-8466-03CF82E25DAE-13-582_homereminder@92.badmintonne
 rs.net
DTSTAMP:20260420T070503Z
SUMMARY:Thuismatch ingevuld? (Poona 1D (54) - Royal Antwerp 1D (43))
DESCRIPTION:Je hebt 36 uur na aanvang om een thuismatch op Badmintonvlaande
 ren in te vullen. Match info: Poona 1D (54) - Royal Antwerp 1D (43) - Link
 : https://www.badmintonvlaanderen.be/sport/teammatch.aspx?id=7A79EC4D-D9C5
 -4EF0-8466-03CF82E25DAE&match=582
DTSTART;TZID=Europe/Brussels:20240925T080000
DTEND;TZID=Europe/Brussels:20240925T080000
END:VEVENT
BEGIN:VEVENT
UID:7A79EC4D-D9C5-4EF0-8466-03CF82E25DAE-13-551_homereminder@92.badmintonne
 rs.net
DTSTAMP:20260420T070503Z
SUMMARY:Thuismatch ingevuld? (Poona 1D (54) - De Klamp 1D (38))
DESCRIPTION:Je hebt 36 uur na aanvang om een thuismatch op Badmintonvlaande
 ren in te vullen. Match info: Poona 1D (54) - De Klamp 1D (38) - Link: htt
 ps://www.badmintonvlaanderen.be/sport/teammatch.aspx?id=7A79EC4D-D9C5-4EF0
 -8466-03CF82E25DAE&match=551
DTSTART;TZID=Europe/Brussels:20241009T080000
DTEND;TZID=Europe/Brussels:20241009T080000
END:VEVENT
BEGIN:VEVENT
UID:7A79EC4D-D9C5-4EF0-8466-03CF82E25DAE-13-563_homereminder@92.badmintonne
 rs.net
DTSTAMP:20260420T070503Z
SUMMARY:Thuismatch ingevuld? (Poona 1D (54) - Klein Boom 1D (42))
DESCRIPTION:Je hebt 36 uur na aanvang om een thuismatch op Badmintonvlaande
 ren in te vullen. Match info: Poona 1D (54) - Klein Boom 1D (42) - Link: h
 ttps://www.badmintonvlaanderen.be/sport/teammatch.aspx?id=7A79EC4D-D9C5-4E
 F0-8466-03CF82E25DAE&match=563
DTSTART;TZID=Europe/Brussels:20241120T080000
DTEND;TZID=Europe/Brussels:20241120T080000
END:VEVENT
BEGIN:VEVENT
UID:7A79EC4D-D9C5-4EF0-8466-03CF82E25DAE-13-557_homereminder@92.badmintonne
 rs.net
DTSTAMP:20260420T070503Z
SUMMARY:Thuismatch ingevuld? (Poona 1D (54) - De Mintons 1D (44))
DESCRIPTION:Je hebt 36 uur na aanvang om een thuismatch op Badmintonvlaande
 ren in te vullen. Match info: Poona 1D (54) - De Mintons 1D (44) - Link: h
 ttps://www.badmintonvlaanderen.be/sport/teammatch.aspx?id=7A79EC4D-D9C5-4E
 F0-8466-03CF82E25DAE&match=557
DTSTART;TZID=Europe/Brussels:20250212T080000
DTEND;TZID=Europe/Brussels:20250212T080000
END:VEVENT
BEGIN:VEVENT
UID:7A79EC4D-D9C5-4EF0-8466-03CF82E25DAE-13-588_homereminder@92.badmintonne
 rs.net
DTSTAMP:20260420T070503Z
SUMMARY:Thuismatch ingevuld? (Poona 1D (54) - Waverse 1D (51))
DESCRIPTION:Je hebt 36 uur na aanvang om een thuismatch op Badmintonvlaande
 ren in te vullen. Match info: Poona 1D (54) - Waverse 1D (51) - Link: http
 s://www.badmintonvlaanderen.be/sport/teammatch.aspx?id=7A79EC4D-D9C5-4EF0-
 8466-03CF82E25DAE&match=588
DTSTART;TZID=Europe/Brussels:20250326T080000
DTEND;TZID=Europe/Brussels:20250326T080000
END:VEVENT
BEGIN:VEVENT
UID:7A79EC4D-D9C5-4EF0-8466-03CF82E25DAE-13-569_homereminder@92.badmintonne
 rs.net
DTSTAMP:20260420T070503Z
SUMMARY:Thuismatch ingevuld? (Poona 1D (54) - Opslag 1D (46))
DESCRIPTION:Je hebt 36 uur na aanvang om een thuismatch op Badmintonvlaande
 ren in te vullen. Match info: Poona 1D (54) - Opslag 1D (46) - Link: https
 ://www.badmintonvlaanderen.be/sport/teammatch.aspx?id=7A79EC4D-D9C5-4EF0-8
 466-03CF82E25DAE&match=569
DTSTART;TZID=Europe/Brussels:20250430T080000
DTEND;TZID=Europe/Brussels:20250430T080000
END:VEVENT
BEGIN:VEVENT
UID:7A79EC4D-D9C5-4EF0-8466-03CF82E25DAE-13-577_awayreminder@92.badmintonne
 rs.net
DTSTAMP:20260420T070503Z
SUMMARY:Uitmatch bevestigd? (Waverse 1D (51) - Poona 1D (54))
DESCRIPTION:Je hebt 72 uur na aanvang om een uitmatch op Badmintonvlaandere
 n in te vullen. Match info: Waverse 1D (51) - Poona 1D (54) - Link: https:
 //www.badmintonvlaanderen.be/sport/teammatch.aspx?id=7A79EC4D-D9C5-4EF0-84
 66-03CF82E25DAE&match=577
DTSTART;TZID=Europe/Brussels:20241030T140000
DTEND;TZID=Europe/Brussels:20241030T140000
END:VEVENT
BEGIN:VEVENT
UID:7A79EC4D-D9C5-4EF0-8466-03CF82E25DAE-13-573_awayreminder@92.badmintonne
 rs.net
DTSTAMP:20260420T070503Z
SUMMARY:Uitmatch bevestigd? (De Mintons 1D (44) - Poona 1D (54))
DESCRIPTION:Je hebt 72 uur na aanvang om een uitmatch op Badmintonvlaandere
 n in te vullen. Match info: De Mintons 1D (44) - Poona 1D (54) - Link: htt
 ps://www.badmintonvlaanderen.be/sport/teammatch.aspx?id=7A79EC4D-D9C5-4EF0
 -8466-03CF82E25DAE&match=573
DTSTART;TZID=Europe/Brussels:20241110T200000
DTEND;TZID=Europe/Brussels:20241110T200000
END:VEVENT
BEGIN:VEVENT
UID:7A79EC4D-D9C5-4EF0-8466-03CF82E25DAE-13-575_awayreminder@92.badmintonne
 rs.net
DTSTAMP:20260420T070503Z
SUMMARY:Uitmatch bevestigd? (Opslag 1D (46) - Poona 1D (54))
DESCRIPTION:Je hebt 72 uur na aanvang om een uitmatch op Badmintonvlaandere
 n in te vullen. Match info: Opslag 1D (46) - Poona 1D (54) - Link: https:/
 /www.badmintonvlaanderen.be/sport/teammatch.aspx?id=7A79EC4D-D9C5-4EF0-846
 6-03CF82E25DAE&match=575
DTSTART;TZID=Europe/Brussels:20241127T163000
DTEND;TZID=Europe/Brussels:20241127T163000
END:VEVENT
BEGIN:VEVENT
UID:7A79EC4D-D9C5-4EF0-8466-03CF82E25DAE-13-576_awayreminder@92.badmintonne
 rs.net
DTSTAMP:20260420T070503Z
SUMMARY:Uitmatch bevestigd? (Royal Antwerp 1D (43) - Poona 1D (54))
DESCRIPTION:Je hebt 72 uur na aanvang om een uitmatch op Badmintonvlaandere
 n in te vullen. Match info: Royal Antwerp 1D (43) - Poona 1D (54) - Link: 
 https://www.badmintonvlaanderen.be/sport/teammatch.aspx?id=7A79EC4D-D9C5-4
 EF0-8466-03CF82E25DAE&match=576
DTSTART;TZID=Europe/Brussels:20250226T180000
DTEND;TZID=Europe/Brussels:20250226T180000
END:VEVENT
BEGIN:VEVENT
UID:7A79EC4D-D9C5-4EF0-8466-03CF82E25DAE-13-572_awayreminder@92.badmintonne
 rs.net
DTSTAMP:20260420T070503Z
SUMMARY:Uitmatch bevestigd? (De Klamp 1D (38) - Poona 1D (54))
DESCRIPTION:Je hebt 72 uur na aanvang om een uitmatch op Badmintonvlaandere
 n in te vullen. Match info: De Klamp 1D (38) - Poona 1D (54) - Link: https
 ://www.badmintonvlaanderen.be/sport/teammatch.aspx?id=7A79EC4D-D9C5-4EF0-8
 466-03CF82E25DAE&match=572
DTSTART;TZID=Europe/Brussels:20250319T181500
DTEND;TZID=Europe/Brussels:20250319T181500
END:VEVENT
BEGIN:VEVENT
UID:7A79EC4D-D9C5-4EF0-8466-03CF82E25DAE-13-574_awayreminder@92.badmintonne
 rs.net
DTSTAMP:20260420T070503Z
SUMMARY:Uitmatch bevestigd? (Klein Boom 1D (42) - Poona 1D (54))
DESCRIPTION:Je hebt 72 uur na aanvang om een uitmatch op Badmintonvlaandere
 n in te vullen. Match info: Klein Boom 1D (42) - Poona 1D (54) - Link: htt
 ps://www.badmintonvlaanderen.be/sport/teammatch.aspx?id=7A79EC4D-D9C5-4EF0
 -8466-03CF82E25DAE&match=574
DTSTART;TZID=Europe/Brussels:20250402T190000
DTEND;TZID=Europe/Brussels:20250402T190000
END:VEVENT
END:VCALENDAR