BEGIN:VCALENDAR
VERSION:2.0
PRODID:spatie/icalendar-generator
NAME:royal_antwerp_2g_57_reminders
X-WR-CALNAME:royal_antwerp_2g_57_reminders
BEGIN:VTIMEZONE
TZID:Europe/Brussels
BEGIN:DAYLIGHT
DTSTART:20240331T010000
TZOFFSETFROM:+0100
TZOFFSETTO:+0200
END:DAYLIGHT
BEGIN:STANDARD
DTSTART:20241027T030000
TZOFFSETFROM:+0200
TZOFFSETTO:+0100
END:STANDARD
BEGIN:DAYLIGHT
DTSTART:20250330T010000
TZOFFSETFROM:+0100
TZOFFSETTO:+0200
END:DAYLIGHT
END:VTIMEZONE
BEGIN:VTIMEZONE
TZID:UTC
BEGIN:STANDARD
DTSTART:20250724T070622
TZOFFSETFROM:+0000
TZOFFSETTO:+0000
END:STANDARD
END:VTIMEZONE
BEGIN:VEVENT
UID:7A79EC4D-D9C5-4EF0-8466-03CF82E25DAE-19-886_homereminder@121.badmintonn
 ers.net
DTSTAMP:20260420T070622Z
SUMMARY:Thuismatch ingevuld? (Royal Antwerp 2G (57) - Olve 3G (46))
DESCRIPTION:Je hebt 36 uur na aanvang om een thuismatch op Badmintonvlaande
 ren in te vullen. Match info: Royal Antwerp 2G (57) - Olve 3G (46) - Link:
  https://www.badmintonvlaanderen.be/sport/teammatch.aspx?id=7A79EC4D-D9C5-
 4EF0-8466-03CF82E25DAE&match=886
DTSTART;TZID=Europe/Brussels:20241022T060000
DTEND;TZID=Europe/Brussels:20241022T060000
END:VEVENT
BEGIN:VEVENT
UID:7A79EC4D-D9C5-4EF0-8466-03CF82E25DAE-19-874_homereminder@121.badmintonn
 ers.net
DTSTAMP:20260420T070622Z
SUMMARY:Thuismatch ingevuld? (Royal Antwerp 2G (57) - De Nekker 1G (55))
DESCRIPTION:Je hebt 36 uur na aanvang om een thuismatch op Badmintonvlaande
 ren in te vullen. Match info: Royal Antwerp 2G (57) - De Nekker 1G (55) - 
 Link: https://www.badmintonvlaanderen.be/sport/teammatch.aspx?id=7A79EC4D-
 D9C5-4EF0-8466-03CF82E25DAE&match=874
DTSTART;TZID=Europe/Brussels:20241203T060000
DTEND;TZID=Europe/Brussels:20241203T060000
END:VEVENT
BEGIN:VEVENT
UID:7A79EC4D-D9C5-4EF0-8466-03CF82E25DAE-19-862_homereminder@121.badmintonn
 ers.net
DTSTAMP:20260420T070622Z
SUMMARY:Thuismatch ingevuld? (Royal Antwerp 2G (57) - Brasschaat 3G (60))
DESCRIPTION:Je hebt 36 uur na aanvang om een thuismatch op Badmintonvlaande
 ren in te vullen. Match info: Royal Antwerp 2G (57) - Brasschaat 3G (60) -
  Link: https://www.badmintonvlaanderen.be/sport/teammatch.aspx?id=7A79EC4D
 -D9C5-4EF0-8466-03CF82E25DAE&match=862
DTSTART;TZID=Europe/Brussels:20241217T060000
DTEND;TZID=Europe/Brussels:20241217T060000
END:VEVENT
BEGIN:VEVENT
UID:7A79EC4D-D9C5-4EF0-8466-03CF82E25DAE-19-868_homereminder@121.badmintonn
 ers.net
DTSTAMP:20260420T070622Z
SUMMARY:Thuismatch ingevuld? (Royal Antwerp 2G (57) - De Bokkerijder 2G (68
 ))
DESCRIPTION:Je hebt 36 uur na aanvang om een thuismatch op Badmintonvlaande
 ren in te vullen. Match info: Royal Antwerp 2G (57) - De Bokkerijder 2G (6
 8) - Link: https://www.badmintonvlaanderen.be/sport/teammatch.aspx?id=7A79
 EC4D-D9C5-4EF0-8466-03CF82E25DAE&match=868
DTSTART;TZID=Europe/Brussels:20250114T060000
DTEND;TZID=Europe/Brussels:20250114T060000
END:VEVENT
BEGIN:VEVENT
UID:7A79EC4D-D9C5-4EF0-8466-03CF82E25DAE-19-880_homereminder@121.badmintonn
 ers.net
DTSTAMP:20260420T070622Z
SUMMARY:Thuismatch ingevuld? (Royal Antwerp 2G (57) - Klein Boom 1G (51))
DESCRIPTION:Je hebt 36 uur na aanvang om een thuismatch op Badmintonvlaande
 ren in te vullen. Match info: Royal Antwerp 2G (57) - Klein Boom 1G (51) -
  Link: https://www.badmintonvlaanderen.be/sport/teammatch.aspx?id=7A79EC4D
 -D9C5-4EF0-8466-03CF82E25DAE&match=880
DTSTART;TZID=Europe/Brussels:20250225T060000
DTEND;TZID=Europe/Brussels:20250225T060000
END:VEVENT
BEGIN:VEVENT
UID:7A79EC4D-D9C5-4EF0-8466-03CF82E25DAE-19-892_homereminder@121.badmintonn
 ers.net
DTSTAMP:20260420T070622Z
SUMMARY:Thuismatch ingevuld? (Royal Antwerp 2G (57) - Opslag 1G (69))
DESCRIPTION:Je hebt 36 uur na aanvang om een thuismatch op Badmintonvlaande
 ren in te vullen. Match info: Royal Antwerp 2G (57) - Opslag 1G (69) - Lin
 k: https://www.badmintonvlaanderen.be/sport/teammatch.aspx?id=7A79EC4D-D9C
 5-4EF0-8466-03CF82E25DAE&match=892
DTSTART;TZID=Europe/Brussels:20250311T060000
DTEND;TZID=Europe/Brussels:20250311T060000
END:VEVENT
BEGIN:VEVENT
UID:7A79EC4D-D9C5-4EF0-8466-03CF82E25DAE-19-898_awayreminder@121.badmintonn
 ers.net
DTSTAMP:20260420T070622Z
SUMMARY:Uitmatch bevestigd? (Opslag 1G (69) - Royal Antwerp 2G (57))
DESCRIPTION:Je hebt 72 uur na aanvang om een uitmatch op Badmintonvlaandere
 n in te vullen. Match info: Opslag 1G (69) - Royal Antwerp 2G (57) - Link:
  https://www.badmintonvlaanderen.be/sport/teammatch.aspx?id=7A79EC4D-D9C5-
 4EF0-8466-03CF82E25DAE&match=898
DTSTART;TZID=Europe/Brussels:20240925T163000
DTEND;TZID=Europe/Brussels:20240925T163000
END:VEVENT
BEGIN:VEVENT
UID:7A79EC4D-D9C5-4EF0-8466-03CF82E25DAE-19-896_awayreminder@121.badmintonn
 ers.net
DTSTAMP:20260420T070622Z
SUMMARY:Uitmatch bevestigd? (Klein Boom 1G (51) - Royal Antwerp 2G (57))
DESCRIPTION:Je hebt 72 uur na aanvang om een uitmatch op Badmintonvlaandere
 n in te vullen. Match info: Klein Boom 1G (51) - Royal Antwerp 2G (57) - L
 ink: https://www.badmintonvlaanderen.be/sport/teammatch.aspx?id=7A79EC4D-D
 9C5-4EF0-8466-03CF82E25DAE&match=896
DTSTART;TZID=Europe/Brussels:20241009T190000
DTEND;TZID=Europe/Brussels:20241009T190000
END:VEVENT
BEGIN:VEVENT
UID:7A79EC4D-D9C5-4EF0-8466-03CF82E25DAE-19-894_awayreminder@121.badmintonn
 ers.net
DTSTAMP:20260420T070622Z
SUMMARY:Uitmatch bevestigd? (De Bokkerijder 2G (68) - Royal Antwerp 2G (57)
 )
DESCRIPTION:Je hebt 72 uur na aanvang om een uitmatch op Badmintonvlaandere
 n in te vullen. Match info: De Bokkerijder 2G (68) - Royal Antwerp 2G (57)
  - Link: https://www.badmintonvlaanderen.be/sport/teammatch.aspx?id=7A79EC
 4D-D9C5-4EF0-8466-03CF82E25DAE&match=894
DTSTART;TZID=Europe/Brussels:20241014T203000
DTEND;TZID=Europe/Brussels:20241014T203000
END:VEVENT
BEGIN:VEVENT
UID:7A79EC4D-D9C5-4EF0-8466-03CF82E25DAE-19-895_awayreminder@121.badmintonn
 ers.net
DTSTAMP:20260420T070622Z
SUMMARY:Uitmatch bevestigd? (De Nekker 1G (55) - Royal Antwerp 2G (57))
DESCRIPTION:Je hebt 72 uur na aanvang om een uitmatch op Badmintonvlaandere
 n in te vullen. Match info: De Nekker 1G (55) - Royal Antwerp 2G (57) - Li
 nk: https://www.badmintonvlaanderen.be/sport/teammatch.aspx?id=7A79EC4D-D9
 C5-4EF0-8466-03CF82E25DAE&match=895
DTSTART;TZID=Europe/Brussels:20250125T203000
DTEND;TZID=Europe/Brussels:20250125T203000
END:VEVENT
BEGIN:VEVENT
UID:7A79EC4D-D9C5-4EF0-8466-03CF82E25DAE-19-897_awayreminder@121.badmintonn
 ers.net
DTSTAMP:20260420T070622Z
SUMMARY:Uitmatch bevestigd? (Olve 3G (46) - Royal Antwerp 2G (57))
DESCRIPTION:Je hebt 72 uur na aanvang om een uitmatch op Badmintonvlaandere
 n in te vullen. Match info: Olve 3G (46) - Royal Antwerp 2G (57) - Link: h
 ttps://www.badmintonvlaanderen.be/sport/teammatch.aspx?id=7A79EC4D-D9C5-4E
 F0-8466-03CF82E25DAE&match=897
DTSTART;TZID=Europe/Brussels:20250211T103000
DTEND;TZID=Europe/Brussels:20250211T103000
END:VEVENT
BEGIN:VEVENT
UID:7A79EC4D-D9C5-4EF0-8466-03CF82E25DAE-19-893_awayreminder@121.badmintonn
 ers.net
DTSTAMP:20260420T070622Z
SUMMARY:Uitmatch bevestigd? (Brasschaat 3G (60) - Royal Antwerp 2G (57))
DESCRIPTION:Je hebt 72 uur na aanvang om een uitmatch op Badmintonvlaandere
 n in te vullen. Match info: Brasschaat 3G (60) - Royal Antwerp 2G (57) - L
 ink: https://www.badmintonvlaanderen.be/sport/teammatch.aspx?id=7A79EC4D-D
 9C5-4EF0-8466-03CF82E25DAE&match=893
DTSTART;TZID=Europe/Brussels:20250409T190000
DTEND;TZID=Europe/Brussels:20250409T190000
END:VEVENT
END:VCALENDAR