BEGIN:VCALENDAR
VERSION:2.0
PRODID:spatie/icalendar-generator
NAME:de_bokkerijder_2g_68_reminders
X-WR-CALNAME:de_bokkerijder_2g_68_reminders
BEGIN:VTIMEZONE
TZID:Europe/Brussels
BEGIN:DAYLIGHT
DTSTART:20240331T010000
TZOFFSETFROM:+0100
TZOFFSETTO:+0200
END:DAYLIGHT
BEGIN:STANDARD
DTSTART:20241027T030000
TZOFFSETFROM:+0200
TZOFFSETTO:+0100
END:STANDARD
BEGIN:DAYLIGHT
DTSTART:20250330T010000
TZOFFSETFROM:+0100
TZOFFSETTO:+0200
END:DAYLIGHT
END:VTIMEZONE
BEGIN:VTIMEZONE
TZID:UTC
BEGIN:STANDARD
DTSTART:20250724T054123
TZOFFSETFROM:+0000
TZOFFSETTO:+0000
END:STANDARD
END:VTIMEZONE
BEGIN:VEVENT
UID:7A79EC4D-D9C5-4EF0-8466-03CF82E25DAE-19-894_homereminder@123.badmintonn
 ers.net
DTSTAMP:20260420T054123Z
SUMMARY:Thuismatch ingevuld? (De Bokkerijder 2G (68) - Royal Antwerp 2G (57
 ))
DESCRIPTION:Je hebt 36 uur na aanvang om een thuismatch op Badmintonvlaande
 ren in te vullen. Match info: De Bokkerijder 2G (68) - Royal Antwerp 2G (5
 7) - Link: https://www.badmintonvlaanderen.be/sport/teammatch.aspx?id=7A79
 EC4D-D9C5-4EF0-8466-03CF82E25DAE&match=894
DTSTART;TZID=Europe/Brussels:20241013T083000
DTEND;TZID=Europe/Brussels:20241013T083000
END:VEVENT
BEGIN:VEVENT
UID:7A79EC4D-D9C5-4EF0-8466-03CF82E25DAE-19-870_homereminder@123.badmintonn
 ers.net
DTSTAMP:20260420T054123Z
SUMMARY:Thuismatch ingevuld? (De Bokkerijder 2G (68) - De Nekker 1G (55))
DESCRIPTION:Je hebt 36 uur na aanvang om een thuismatch op Badmintonvlaande
 ren in te vullen. Match info: De Bokkerijder 2G (68) - De Nekker 1G (55) -
  Link: https://www.badmintonvlaanderen.be/sport/teammatch.aspx?id=7A79EC4D
 -D9C5-4EF0-8466-03CF82E25DAE&match=870
DTSTART;TZID=Europe/Brussels:20241020T083000
DTEND;TZID=Europe/Brussels:20241020T083000
END:VEVENT
BEGIN:VEVENT
UID:7A79EC4D-D9C5-4EF0-8466-03CF82E25DAE-19-882_homereminder@123.badmintonn
 ers.net
DTSTAMP:20260420T054123Z
SUMMARY:Thuismatch ingevuld? (De Bokkerijder 2G (68) - Olve 3G (46))
DESCRIPTION:Je hebt 36 uur na aanvang om een thuismatch op Badmintonvlaande
 ren in te vullen. Match info: De Bokkerijder 2G (68) - Olve 3G (46) - Link
 : https://www.badmintonvlaanderen.be/sport/teammatch.aspx?id=7A79EC4D-D9C5
 -4EF0-8466-03CF82E25DAE&match=882
DTSTART;TZID=Europe/Brussels:20241201T083000
DTEND;TZID=Europe/Brussels:20241201T083000
END:VEVENT
BEGIN:VEVENT
UID:7A79EC4D-D9C5-4EF0-8466-03CF82E25DAE-19-857_homereminder@123.badmintonn
 ers.net
DTSTAMP:20260420T054123Z
SUMMARY:Thuismatch ingevuld? (De Bokkerijder 2G (68) - Brasschaat 3G (60))
DESCRIPTION:Je hebt 36 uur na aanvang om een thuismatch op Badmintonvlaande
 ren in te vullen. Match info: De Bokkerijder 2G (68) - Brasschaat 3G (60) 
 - Link: https://www.badmintonvlaanderen.be/sport/teammatch.aspx?id=7A79EC4
 D-D9C5-4EF0-8466-03CF82E25DAE&match=857
DTSTART;TZID=Europe/Brussels:20250126T083000
DTEND;TZID=Europe/Brussels:20250126T083000
END:VEVENT
BEGIN:VEVENT
UID:7A79EC4D-D9C5-4EF0-8466-03CF82E25DAE-19-888_homereminder@123.badmintonn
 ers.net
DTSTAMP:20260420T054123Z
SUMMARY:Thuismatch ingevuld? (De Bokkerijder 2G (68) - Opslag 1G (69))
DESCRIPTION:Je hebt 36 uur na aanvang om een thuismatch op Badmintonvlaande
 ren in te vullen. Match info: De Bokkerijder 2G (68) - Opslag 1G (69) - Li
 nk: https://www.badmintonvlaanderen.be/sport/teammatch.aspx?id=7A79EC4D-D9
 C5-4EF0-8466-03CF82E25DAE&match=888
DTSTART;TZID=Europe/Brussels:20250223T083000
DTEND;TZID=Europe/Brussels:20250223T083000
END:VEVENT
BEGIN:VEVENT
UID:7A79EC4D-D9C5-4EF0-8466-03CF82E25DAE-19-876_homereminder@123.badmintonn
 ers.net
DTSTAMP:20260420T054123Z
SUMMARY:Thuismatch ingevuld? (De Bokkerijder 2G (68) - Klein Boom 1G (51))
DESCRIPTION:Je hebt 36 uur na aanvang om een thuismatch op Badmintonvlaande
 ren in te vullen. Match info: De Bokkerijder 2G (68) - Klein Boom 1G (51) 
 - Link: https://www.badmintonvlaanderen.be/sport/teammatch.aspx?id=7A79EC4
 D-D9C5-4EF0-8466-03CF82E25DAE&match=876
DTSTART;TZID=Europe/Brussels:20250309T083000
DTEND;TZID=Europe/Brussels:20250309T083000
END:VEVENT
BEGIN:VEVENT
UID:7A79EC4D-D9C5-4EF0-8466-03CF82E25DAE-19-863_awayreminder@123.badmintonn
 ers.net
DTSTAMP:20260420T054123Z
SUMMARY:Uitmatch bevestigd? (Brasschaat 3G (60) - De Bokkerijder 2G (68))
DESCRIPTION:Je hebt 72 uur na aanvang om een uitmatch op Badmintonvlaandere
 n in te vullen. Match info: Brasschaat 3G (60) - De Bokkerijder 2G (68) - 
 Link: https://www.badmintonvlaanderen.be/sport/teammatch.aspx?id=7A79EC4D-
 D9C5-4EF0-8466-03CF82E25DAE&match=863
DTSTART;TZID=Europe/Brussels:20240925T190000
DTEND;TZID=Europe/Brussels:20240925T190000
END:VEVENT
BEGIN:VEVENT
UID:7A79EC4D-D9C5-4EF0-8466-03CF82E25DAE-19-867_awayreminder@123.badmintonn
 ers.net
DTSTAMP:20260420T054123Z
SUMMARY:Uitmatch bevestigd? (Opslag 1G (69) - De Bokkerijder 2G (68))
DESCRIPTION:Je hebt 72 uur na aanvang om een uitmatch op Badmintonvlaandere
 n in te vullen. Match info: Opslag 1G (69) - De Bokkerijder 2G (68) - Link
 : https://www.badmintonvlaanderen.be/sport/teammatch.aspx?id=7A79EC4D-D9C5
 -4EF0-8466-03CF82E25DAE&match=867
DTSTART;TZID=Europe/Brussels:20241023T163000
DTEND;TZID=Europe/Brussels:20241023T163000
END:VEVENT
BEGIN:VEVENT
UID:7A79EC4D-D9C5-4EF0-8466-03CF82E25DAE-19-865_awayreminder@123.badmintonn
 ers.net
DTSTAMP:20260420T054123Z
SUMMARY:Uitmatch bevestigd? (Klein Boom 1G (51) - De Bokkerijder 2G (68))
DESCRIPTION:Je hebt 72 uur na aanvang om een uitmatch op Badmintonvlaandere
 n in te vullen. Match info: Klein Boom 1G (51) - De Bokkerijder 2G (68) - 
 Link: https://www.badmintonvlaanderen.be/sport/teammatch.aspx?id=7A79EC4D-
 D9C5-4EF0-8466-03CF82E25DAE&match=865
DTSTART;TZID=Europe/Brussels:20241204T190000
DTEND;TZID=Europe/Brussels:20241204T190000
END:VEVENT
BEGIN:VEVENT
UID:7A79EC4D-D9C5-4EF0-8466-03CF82E25DAE-19-868_awayreminder@123.badmintonn
 ers.net
DTSTAMP:20260420T054123Z
SUMMARY:Uitmatch bevestigd? (Royal Antwerp 2G (57) - De Bokkerijder 2G (68)
 )
DESCRIPTION:Je hebt 72 uur na aanvang om een uitmatch op Badmintonvlaandere
 n in te vullen. Match info: Royal Antwerp 2G (57) - De Bokkerijder 2G (68)
  - Link: https://www.badmintonvlaanderen.be/sport/teammatch.aspx?id=7A79EC
 4D-D9C5-4EF0-8466-03CF82E25DAE&match=868
DTSTART;TZID=Europe/Brussels:20250115T180000
DTEND;TZID=Europe/Brussels:20250115T180000
END:VEVENT
BEGIN:VEVENT
UID:7A79EC4D-D9C5-4EF0-8466-03CF82E25DAE-19-864_awayreminder@123.badmintonn
 ers.net
DTSTAMP:20260420T054123Z
SUMMARY:Uitmatch bevestigd? (De Nekker 1G (55) - De Bokkerijder 2G (68))
DESCRIPTION:Je hebt 72 uur na aanvang om een uitmatch op Badmintonvlaandere
 n in te vullen. Match info: De Nekker 1G (55) - De Bokkerijder 2G (68) - L
 ink: https://www.badmintonvlaanderen.be/sport/teammatch.aspx?id=7A79EC4D-D
 9C5-4EF0-8466-03CF82E25DAE&match=864
DTSTART;TZID=Europe/Brussels:20250208T203000
DTEND;TZID=Europe/Brussels:20250208T203000
END:VEVENT
BEGIN:VEVENT
UID:7A79EC4D-D9C5-4EF0-8466-03CF82E25DAE-19-866_awayreminder@123.badmintonn
 ers.net
DTSTAMP:20260420T054123Z
SUMMARY:Uitmatch bevestigd? (Olve 3G (46) - De Bokkerijder 2G (68))
DESCRIPTION:Je hebt 72 uur na aanvang om een uitmatch op Badmintonvlaandere
 n in te vullen. Match info: Olve 3G (46) - De Bokkerijder 2G (68) - Link: 
 https://www.badmintonvlaanderen.be/sport/teammatch.aspx?id=7A79EC4D-D9C5-4
 EF0-8466-03CF82E25DAE&match=866
DTSTART;TZID=Europe/Brussels:20250325T103000
DTEND;TZID=Europe/Brussels:20250325T103000
END:VEVENT
END:VCALENDAR