BEGIN:VCALENDAR
VERSION:2.0
PRODID:spatie/icalendar-generator
NAME:klein_boom_1g_51_reminders
X-WR-CALNAME:klein_boom_1g_51_reminders
BEGIN:VTIMEZONE
TZID:Europe/Brussels
BEGIN:DAYLIGHT
DTSTART:20240331T010000
TZOFFSETFROM:+0100
TZOFFSETTO:+0200
END:DAYLIGHT
BEGIN:STANDARD
DTSTART:20241027T030000
TZOFFSETFROM:+0200
TZOFFSETTO:+0100
END:STANDARD
BEGIN:DAYLIGHT
DTSTART:20250330T010000
TZOFFSETFROM:+0100
TZOFFSETTO:+0200
END:DAYLIGHT
END:VTIMEZONE
BEGIN:VTIMEZONE
TZID:UTC
BEGIN:STANDARD
DTSTART:20250724T054122
TZOFFSETFROM:+0000
TZOFFSETTO:+0000
END:STANDARD
END:VTIMEZONE
BEGIN:VEVENT
UID:7A79EC4D-D9C5-4EF0-8466-03CF82E25DAE-19-884_homereminder@125.badmintonn
 ers.net
DTSTAMP:20260420T054122Z
SUMMARY:Thuismatch ingevuld? (Klein Boom 1G (51) - Olve 3G (46))
DESCRIPTION:Je hebt 36 uur na aanvang om een thuismatch op Badmintonvlaande
 ren in te vullen. Match info: Klein Boom 1G (51) - Olve 3G (46) - Link: ht
 tps://www.badmintonvlaanderen.be/sport/teammatch.aspx?id=7A79EC4D-D9C5-4EF
 0-8466-03CF82E25DAE&match=884
DTSTART;TZID=Europe/Brussels:20240910T070000
DTEND;TZID=Europe/Brussels:20240910T070000
END:VEVENT
BEGIN:VEVENT
UID:7A79EC4D-D9C5-4EF0-8466-03CF82E25DAE-19-896_homereminder@125.badmintonn
 ers.net
DTSTAMP:20260420T054122Z
SUMMARY:Thuismatch ingevuld? (Klein Boom 1G (51) - Royal Antwerp 2G (57))
DESCRIPTION:Je hebt 36 uur na aanvang om een thuismatch op Badmintonvlaande
 ren in te vullen. Match info: Klein Boom 1G (51) - Royal Antwerp 2G (57) -
  Link: https://www.badmintonvlaanderen.be/sport/teammatch.aspx?id=7A79EC4D
 -D9C5-4EF0-8466-03CF82E25DAE&match=896
DTSTART;TZID=Europe/Brussels:20241008T070000
DTEND;TZID=Europe/Brussels:20241008T070000
END:VEVENT
BEGIN:VEVENT
UID:7A79EC4D-D9C5-4EF0-8466-03CF82E25DAE-19-865_homereminder@125.badmintonn
 ers.net
DTSTAMP:20260420T054122Z
SUMMARY:Thuismatch ingevuld? (Klein Boom 1G (51) - De Bokkerijder 2G (68))
DESCRIPTION:Je hebt 36 uur na aanvang om een thuismatch op Badmintonvlaande
 ren in te vullen. Match info: Klein Boom 1G (51) - De Bokkerijder 2G (68) 
 - Link: https://www.badmintonvlaanderen.be/sport/teammatch.aspx?id=7A79EC4
 D-D9C5-4EF0-8466-03CF82E25DAE&match=865
DTSTART;TZID=Europe/Brussels:20241203T070000
DTEND;TZID=Europe/Brussels:20241203T070000
END:VEVENT
BEGIN:VEVENT
UID:7A79EC4D-D9C5-4EF0-8466-03CF82E25DAE-19-859_homereminder@125.badmintonn
 ers.net
DTSTAMP:20260420T054122Z
SUMMARY:Thuismatch ingevuld? (Klein Boom 1G (51) - Brasschaat 3G (60))
DESCRIPTION:Je hebt 36 uur na aanvang om een thuismatch op Badmintonvlaande
 ren in te vullen. Match info: Klein Boom 1G (51) - Brasschaat 3G (60) - Li
 nk: https://www.badmintonvlaanderen.be/sport/teammatch.aspx?id=7A79EC4D-D9
 C5-4EF0-8466-03CF82E25DAE&match=859
DTSTART;TZID=Europe/Brussels:20250114T070000
DTEND;TZID=Europe/Brussels:20250114T070000
END:VEVENT
BEGIN:VEVENT
UID:7A79EC4D-D9C5-4EF0-8466-03CF82E25DAE-19-890_homereminder@125.badmintonn
 ers.net
DTSTAMP:20260420T054122Z
SUMMARY:Thuismatch ingevuld? (Klein Boom 1G (51) - Opslag 1G (69))
DESCRIPTION:Je hebt 36 uur na aanvang om een thuismatch op Badmintonvlaande
 ren in te vullen. Match info: Klein Boom 1G (51) - Opslag 1G (69) - Link: 
 https://www.badmintonvlaanderen.be/sport/teammatch.aspx?id=7A79EC4D-D9C5-4
 EF0-8466-03CF82E25DAE&match=890
DTSTART;TZID=Europe/Brussels:20250211T070000
DTEND;TZID=Europe/Brussels:20250211T070000
END:VEVENT
BEGIN:VEVENT
UID:7A79EC4D-D9C5-4EF0-8466-03CF82E25DAE-19-871_homereminder@125.badmintonn
 ers.net
DTSTAMP:20260420T054122Z
SUMMARY:Thuismatch ingevuld? (Klein Boom 1G (51) - De Nekker 1G (55))
DESCRIPTION:Je hebt 36 uur na aanvang om een thuismatch op Badmintonvlaande
 ren in te vullen. Match info: Klein Boom 1G (51) - De Nekker 1G (55) - Lin
 k: https://www.badmintonvlaanderen.be/sport/teammatch.aspx?id=7A79EC4D-D9C
 5-4EF0-8466-03CF82E25DAE&match=871
DTSTART;TZID=Europe/Brussels:20250325T070000
DTEND;TZID=Europe/Brussels:20250325T070000
END:VEVENT
BEGIN:VEVENT
UID:7A79EC4D-D9C5-4EF0-8466-03CF82E25DAE-19-875_awayreminder@125.badmintonn
 ers.net
DTSTAMP:20260420T054122Z
SUMMARY:Uitmatch bevestigd? (Brasschaat 3G (60) - Klein Boom 1G (51))
DESCRIPTION:Je hebt 72 uur na aanvang om een uitmatch op Badmintonvlaandere
 n in te vullen. Match info: Brasschaat 3G (60) - Klein Boom 1G (51) - Link
 : https://www.badmintonvlaanderen.be/sport/teammatch.aspx?id=7A79EC4D-D9C5
 -4EF0-8466-03CF82E25DAE&match=875
DTSTART;TZID=Europe/Brussels:20241023T190000
DTEND;TZID=Europe/Brussels:20241023T190000
END:VEVENT
BEGIN:VEVENT
UID:7A79EC4D-D9C5-4EF0-8466-03CF82E25DAE-19-877_awayreminder@125.badmintonn
 ers.net
DTSTAMP:20260420T054122Z
SUMMARY:Uitmatch bevestigd? (De Nekker 1G (55) - Klein Boom 1G (51))
DESCRIPTION:Je hebt 72 uur na aanvang om een uitmatch op Badmintonvlaandere
 n in te vullen. Match info: De Nekker 1G (55) - Klein Boom 1G (51) - Link:
  https://www.badmintonvlaanderen.be/sport/teammatch.aspx?id=7A79EC4D-D9C5-
 4EF0-8466-03CF82E25DAE&match=877
DTSTART;TZID=Europe/Brussels:20241207T203000
DTEND;TZID=Europe/Brussels:20241207T203000
END:VEVENT
BEGIN:VEVENT
UID:7A79EC4D-D9C5-4EF0-8466-03CF82E25DAE-19-879_awayreminder@125.badmintonn
 ers.net
DTSTAMP:20260420T054122Z
SUMMARY:Uitmatch bevestigd? (Opslag 1G (69) - Klein Boom 1G (51))
DESCRIPTION:Je hebt 72 uur na aanvang om een uitmatch op Badmintonvlaandere
 n in te vullen. Match info: Opslag 1G (69) - Klein Boom 1G (51) - Link: ht
 tps://www.badmintonvlaanderen.be/sport/teammatch.aspx?id=7A79EC4D-D9C5-4EF
 0-8466-03CF82E25DAE&match=879
DTSTART;TZID=Europe/Brussels:20241218T163000
DTEND;TZID=Europe/Brussels:20241218T163000
END:VEVENT
BEGIN:VEVENT
UID:7A79EC4D-D9C5-4EF0-8466-03CF82E25DAE-19-878_awayreminder@125.badmintonn
 ers.net
DTSTAMP:20260420T054122Z
SUMMARY:Uitmatch bevestigd? (Olve 3G (46) - Klein Boom 1G (51))
DESCRIPTION:Je hebt 72 uur na aanvang om een uitmatch op Badmintonvlaandere
 n in te vullen. Match info: Olve 3G (46) - Klein Boom 1G (51) - Link: http
 s://www.badmintonvlaanderen.be/sport/teammatch.aspx?id=7A79EC4D-D9C5-4EF0-
 8466-03CF82E25DAE&match=878
DTSTART;TZID=Europe/Brussels:20250128T103000
DTEND;TZID=Europe/Brussels:20250128T103000
END:VEVENT
BEGIN:VEVENT
UID:7A79EC4D-D9C5-4EF0-8466-03CF82E25DAE-19-880_awayreminder@125.badmintonn
 ers.net
DTSTAMP:20260420T054122Z
SUMMARY:Uitmatch bevestigd? (Royal Antwerp 2G (57) - Klein Boom 1G (51))
DESCRIPTION:Je hebt 72 uur na aanvang om een uitmatch op Badmintonvlaandere
 n in te vullen. Match info: Royal Antwerp 2G (57) - Klein Boom 1G (51) - L
 ink: https://www.badmintonvlaanderen.be/sport/teammatch.aspx?id=7A79EC4D-D
 9C5-4EF0-8466-03CF82E25DAE&match=880
DTSTART;TZID=Europe/Brussels:20250226T180000
DTEND;TZID=Europe/Brussels:20250226T180000
END:VEVENT
BEGIN:VEVENT
UID:7A79EC4D-D9C5-4EF0-8466-03CF82E25DAE-19-876_awayreminder@125.badmintonn
 ers.net
DTSTAMP:20260420T054122Z
SUMMARY:Uitmatch bevestigd? (De Bokkerijder 2G (68) - Klein Boom 1G (51))
DESCRIPTION:Je hebt 72 uur na aanvang om een uitmatch op Badmintonvlaandere
 n in te vullen. Match info: De Bokkerijder 2G (68) - Klein Boom 1G (51) - 
 Link: https://www.badmintonvlaanderen.be/sport/teammatch.aspx?id=7A79EC4D-
 D9C5-4EF0-8466-03CF82E25DAE&match=876
DTSTART;TZID=Europe/Brussels:20250310T203000
DTEND;TZID=Europe/Brussels:20250310T203000
END:VEVENT
END:VCALENDAR