BEGIN:VCALENDAR
VERSION:2.0
PRODID:spatie/icalendar-generator
NAME:opslag_1g_69_reminders
X-WR-CALNAME:opslag_1g_69_reminders
BEGIN:VTIMEZONE
TZID:Europe/Brussels
BEGIN:DAYLIGHT
DTSTART:20240331T010000
TZOFFSETFROM:+0100
TZOFFSETTO:+0200
END:DAYLIGHT
BEGIN:STANDARD
DTSTART:20241027T030000
TZOFFSETFROM:+0200
TZOFFSETTO:+0100
END:STANDARD
BEGIN:DAYLIGHT
DTSTART:20250330T010000
TZOFFSETFROM:+0100
TZOFFSETTO:+0200
END:DAYLIGHT
END:VTIMEZONE
BEGIN:VTIMEZONE
TZID:UTC
BEGIN:STANDARD
DTSTART:20250724T070618
TZOFFSETFROM:+0000
TZOFFSETTO:+0000
END:STANDARD
END:VTIMEZONE
BEGIN:VEVENT
UID:7A79EC4D-D9C5-4EF0-8466-03CF82E25DAE-19-898_homereminder@134.badmintonn
 ers.net
DTSTAMP:20260420T070618Z
SUMMARY:Thuismatch ingevuld? (Opslag 1G (69) - Royal Antwerp 2G (57))
DESCRIPTION:Je hebt 36 uur na aanvang om een thuismatch op Badmintonvlaande
 ren in te vullen. Match info: Opslag 1G (69) - Royal Antwerp 2G (57) - Lin
 k: https://www.badmintonvlaanderen.be/sport/teammatch.aspx?id=7A79EC4D-D9C
 5-4EF0-8466-03CF82E25DAE&match=898
DTSTART;TZID=Europe/Brussels:20240924T043000
DTEND;TZID=Europe/Brussels:20240924T043000
END:VEVENT
BEGIN:VEVENT
UID:7A79EC4D-D9C5-4EF0-8466-03CF82E25DAE-19-867_homereminder@134.badmintonn
 ers.net
DTSTAMP:20260420T070618Z
SUMMARY:Thuismatch ingevuld? (Opslag 1G (69) - De Bokkerijder 2G (68))
DESCRIPTION:Je hebt 36 uur na aanvang om een thuismatch op Badmintonvlaande
 ren in te vullen. Match info: Opslag 1G (69) - De Bokkerijder 2G (68) - Li
 nk: https://www.badmintonvlaanderen.be/sport/teammatch.aspx?id=7A79EC4D-D9
 C5-4EF0-8466-03CF82E25DAE&match=867
DTSTART;TZID=Europe/Brussels:20241022T043000
DTEND;TZID=Europe/Brussels:20241022T043000
END:VEVENT
BEGIN:VEVENT
UID:7A79EC4D-D9C5-4EF0-8466-03CF82E25DAE-19-879_homereminder@134.badmintonn
 ers.net
DTSTAMP:20260420T070618Z
SUMMARY:Thuismatch ingevuld? (Opslag 1G (69) - Klein Boom 1G (51))
DESCRIPTION:Je hebt 36 uur na aanvang om een thuismatch op Badmintonvlaande
 ren in te vullen. Match info: Opslag 1G (69) - Klein Boom 1G (51) - Link: 
 https://www.badmintonvlaanderen.be/sport/teammatch.aspx?id=7A79EC4D-D9C5-4
 EF0-8466-03CF82E25DAE&match=879
DTSTART;TZID=Europe/Brussels:20241217T043000
DTEND;TZID=Europe/Brussels:20241217T043000
END:VEVENT
BEGIN:VEVENT
UID:7A79EC4D-D9C5-4EF0-8466-03CF82E25DAE-19-873_homereminder@134.badmintonn
 ers.net
DTSTAMP:20260420T070618Z
SUMMARY:Thuismatch ingevuld? (Opslag 1G (69) - De Nekker 1G (55))
DESCRIPTION:Je hebt 36 uur na aanvang om een thuismatch op Badmintonvlaande
 ren in te vullen. Match info: Opslag 1G (69) - De Nekker 1G (55) - Link: h
 ttps://www.badmintonvlaanderen.be/sport/teammatch.aspx?id=7A79EC4D-D9C5-4E
 F0-8466-03CF82E25DAE&match=873
DTSTART;TZID=Europe/Brussels:20250128T071500
DTEND;TZID=Europe/Brussels:20250128T071500
END:VEVENT
BEGIN:VEVENT
UID:7A79EC4D-D9C5-4EF0-8466-03CF82E25DAE-19-885_homereminder@134.badmintonn
 ers.net
DTSTAMP:20260420T070618Z
SUMMARY:Thuismatch ingevuld? (Opslag 1G (69) - Olve 3G (46))
DESCRIPTION:Je hebt 36 uur na aanvang om een thuismatch op Badmintonvlaande
 ren in te vullen. Match info: Opslag 1G (69) - Olve 3G (46) - Link: https:
 //www.badmintonvlaanderen.be/sport/teammatch.aspx?id=7A79EC4D-D9C5-4EF0-84
 66-03CF82E25DAE&match=885
DTSTART;TZID=Europe/Brussels:20250225T043000
DTEND;TZID=Europe/Brussels:20250225T043000
END:VEVENT
BEGIN:VEVENT
UID:7A79EC4D-D9C5-4EF0-8466-03CF82E25DAE-19-861_homereminder@134.badmintonn
 ers.net
DTSTAMP:20260420T070618Z
SUMMARY:Thuismatch ingevuld? (Opslag 1G (69) - Brasschaat 3G (60))
DESCRIPTION:Je hebt 36 uur na aanvang om een thuismatch op Badmintonvlaande
 ren in te vullen. Match info: Opslag 1G (69) - Brasschaat 3G (60) - Link: 
 https://www.badmintonvlaanderen.be/sport/teammatch.aspx?id=7A79EC4D-D9C5-4
 EF0-8466-03CF82E25DAE&match=861
DTSTART;TZID=Europe/Brussels:20250325T043000
DTEND;TZID=Europe/Brussels:20250325T043000
END:VEVENT
BEGIN:VEVENT
UID:7A79EC4D-D9C5-4EF0-8466-03CF82E25DAE-19-891_awayreminder@134.badmintonn
 ers.net
DTSTAMP:20260420T070618Z
SUMMARY:Uitmatch bevestigd? (Olve 3G (46) - Opslag 1G (69))
DESCRIPTION:Je hebt 72 uur na aanvang om een uitmatch op Badmintonvlaandere
 n in te vullen. Match info: Olve 3G (46) - Opslag 1G (69) - Link: https://
 www.badmintonvlaanderen.be/sport/teammatch.aspx?id=7A79EC4D-D9C5-4EF0-8466
 -03CF82E25DAE&match=891
DTSTART;TZID=Europe/Brussels:20240924T103000
DTEND;TZID=Europe/Brussels:20240924T103000
END:VEVENT
BEGIN:VEVENT
UID:7A79EC4D-D9C5-4EF0-8466-03CF82E25DAE-19-889_awayreminder@134.badmintonn
 ers.net
DTSTAMP:20260420T070618Z
SUMMARY:Uitmatch bevestigd? (De Nekker 1G (55) - Opslag 1G (69))
DESCRIPTION:Je hebt 72 uur na aanvang om een uitmatch op Badmintonvlaandere
 n in te vullen. Match info: De Nekker 1G (55) - Opslag 1G (69) - Link: htt
 ps://www.badmintonvlaanderen.be/sport/teammatch.aspx?id=7A79EC4D-D9C5-4EF0
 -8466-03CF82E25DAE&match=889
DTSTART;TZID=Europe/Brussels:20241130T203000
DTEND;TZID=Europe/Brussels:20241130T203000
END:VEVENT
BEGIN:VEVENT
UID:7A79EC4D-D9C5-4EF0-8466-03CF82E25DAE-19-887_awayreminder@134.badmintonn
 ers.net
DTSTAMP:20260420T070618Z
SUMMARY:Uitmatch bevestigd? (Brasschaat 3G (60) - Opslag 1G (69))
DESCRIPTION:Je hebt 72 uur na aanvang om een uitmatch op Badmintonvlaandere
 n in te vullen. Match info: Brasschaat 3G (60) - Opslag 1G (69) - Link: ht
 tps://www.badmintonvlaanderen.be/sport/teammatch.aspx?id=7A79EC4D-D9C5-4EF
 0-8466-03CF82E25DAE&match=887
DTSTART;TZID=Europe/Brussels:20241204T190000
DTEND;TZID=Europe/Brussels:20241204T190000
END:VEVENT
BEGIN:VEVENT
UID:7A79EC4D-D9C5-4EF0-8466-03CF82E25DAE-19-890_awayreminder@134.badmintonn
 ers.net
DTSTAMP:20260420T070618Z
SUMMARY:Uitmatch bevestigd? (Klein Boom 1G (51) - Opslag 1G (69))
DESCRIPTION:Je hebt 72 uur na aanvang om een uitmatch op Badmintonvlaandere
 n in te vullen. Match info: Klein Boom 1G (51) - Opslag 1G (69) - Link: ht
 tps://www.badmintonvlaanderen.be/sport/teammatch.aspx?id=7A79EC4D-D9C5-4EF
 0-8466-03CF82E25DAE&match=890
DTSTART;TZID=Europe/Brussels:20250212T190000
DTEND;TZID=Europe/Brussels:20250212T190000
END:VEVENT
BEGIN:VEVENT
UID:7A79EC4D-D9C5-4EF0-8466-03CF82E25DAE-19-888_awayreminder@134.badmintonn
 ers.net
DTSTAMP:20260420T070618Z
SUMMARY:Uitmatch bevestigd? (De Bokkerijder 2G (68) - Opslag 1G (69))
DESCRIPTION:Je hebt 72 uur na aanvang om een uitmatch op Badmintonvlaandere
 n in te vullen. Match info: De Bokkerijder 2G (68) - Opslag 1G (69) - Link
 : https://www.badmintonvlaanderen.be/sport/teammatch.aspx?id=7A79EC4D-D9C5
 -4EF0-8466-03CF82E25DAE&match=888
DTSTART;TZID=Europe/Brussels:20250224T203000
DTEND;TZID=Europe/Brussels:20250224T203000
END:VEVENT
BEGIN:VEVENT
UID:7A79EC4D-D9C5-4EF0-8466-03CF82E25DAE-19-892_awayreminder@134.badmintonn
 ers.net
DTSTAMP:20260420T070618Z
SUMMARY:Uitmatch bevestigd? (Royal Antwerp 2G (57) - Opslag 1G (69))
DESCRIPTION:Je hebt 72 uur na aanvang om een uitmatch op Badmintonvlaandere
 n in te vullen. Match info: Royal Antwerp 2G (57) - Opslag 1G (69) - Link:
  https://www.badmintonvlaanderen.be/sport/teammatch.aspx?id=7A79EC4D-D9C5-
 4EF0-8466-03CF82E25DAE&match=892
DTSTART;TZID=Europe/Brussels:20250312T180000
DTEND;TZID=Europe/Brussels:20250312T180000
END:VEVENT
END:VCALENDAR