BEGIN:VCALENDAR
VERSION:2.0
PRODID:spatie/icalendar-generator
NAME:olve_3g_46_reminders
X-WR-CALNAME:olve_3g_46_reminders
BEGIN:VTIMEZONE
TZID:Europe/Brussels
BEGIN:DAYLIGHT
DTSTART:20240331T010000
TZOFFSETFROM:+0100
TZOFFSETTO:+0200
END:DAYLIGHT
BEGIN:STANDARD
DTSTART:20241027T030000
TZOFFSETFROM:+0200
TZOFFSETTO:+0100
END:STANDARD
BEGIN:DAYLIGHT
DTSTART:20250330T010000
TZOFFSETFROM:+0100
TZOFFSETTO:+0200
END:DAYLIGHT
END:VTIMEZONE
BEGIN:VTIMEZONE
TZID:UTC
BEGIN:STANDARD
DTSTART:20250724T054122
TZOFFSETFROM:+0000
TZOFFSETTO:+0000
END:STANDARD
END:VTIMEZONE
BEGIN:VEVENT
UID:7A79EC4D-D9C5-4EF0-8466-03CF82E25DAE-19-891_homereminder@138.badmintonn
 ers.net
DTSTAMP:20260420T054122Z
SUMMARY:Thuismatch ingevuld? (Olve 3G (46) - Opslag 1G (69))
DESCRIPTION:Je hebt 36 uur na aanvang om een thuismatch op Badmintonvlaande
 ren in te vullen. Match info: Olve 3G (46) - Opslag 1G (69) - Link: https:
 //www.badmintonvlaanderen.be/sport/teammatch.aspx?id=7A79EC4D-D9C5-4EF0-84
 66-03CF82E25DAE&match=891
DTSTART;TZID=Europe/Brussels:20240922T223000
DTEND;TZID=Europe/Brussels:20240922T223000
END:VEVENT
BEGIN:VEVENT
UID:7A79EC4D-D9C5-4EF0-8466-03CF82E25DAE-19-860_homereminder@138.badmintonn
 ers.net
DTSTAMP:20260420T054122Z
SUMMARY:Thuismatch ingevuld? (Olve 3G (46) - Brasschaat 3G (60))
DESCRIPTION:Je hebt 36 uur na aanvang om een thuismatch op Badmintonvlaande
 ren in te vullen. Match info: Olve 3G (46) - Brasschaat 3G (60) - Link: ht
 tps://www.badmintonvlaanderen.be/sport/teammatch.aspx?id=7A79EC4D-D9C5-4EF
 0-8466-03CF82E25DAE&match=860
DTSTART;TZID=Europe/Brussels:20241117T223000
DTEND;TZID=Europe/Brussels:20241117T223000
END:VEVENT
BEGIN:VEVENT
UID:7A79EC4D-D9C5-4EF0-8466-03CF82E25DAE-19-872_homereminder@138.badmintonn
 ers.net
DTSTAMP:20260420T054122Z
SUMMARY:Thuismatch ingevuld? (Olve 3G (46) - De Nekker 1G (55))
DESCRIPTION:Je hebt 36 uur na aanvang om een thuismatch op Badmintonvlaande
 ren in te vullen. Match info: Olve 3G (46) - De Nekker 1G (55) - Link: htt
 ps://www.badmintonvlaanderen.be/sport/teammatch.aspx?id=7A79EC4D-D9C5-4EF0
 -8466-03CF82E25DAE&match=872
DTSTART;TZID=Europe/Brussels:20241215T223000
DTEND;TZID=Europe/Brussels:20241215T223000
END:VEVENT
BEGIN:VEVENT
UID:7A79EC4D-D9C5-4EF0-8466-03CF82E25DAE-19-878_homereminder@138.badmintonn
 ers.net
DTSTAMP:20260420T054122Z
SUMMARY:Thuismatch ingevuld? (Olve 3G (46) - Klein Boom 1G (51))
DESCRIPTION:Je hebt 36 uur na aanvang om een thuismatch op Badmintonvlaande
 ren in te vullen. Match info: Olve 3G (46) - Klein Boom 1G (51) - Link: ht
 tps://www.badmintonvlaanderen.be/sport/teammatch.aspx?id=7A79EC4D-D9C5-4EF
 0-8466-03CF82E25DAE&match=878
DTSTART;TZID=Europe/Brussels:20250126T223000
DTEND;TZID=Europe/Brussels:20250126T223000
END:VEVENT
BEGIN:VEVENT
UID:7A79EC4D-D9C5-4EF0-8466-03CF82E25DAE-19-897_homereminder@138.badmintonn
 ers.net
DTSTAMP:20260420T054122Z
SUMMARY:Thuismatch ingevuld? (Olve 3G (46) - Royal Antwerp 2G (57))
DESCRIPTION:Je hebt 36 uur na aanvang om een thuismatch op Badmintonvlaande
 ren in te vullen. Match info: Olve 3G (46) - Royal Antwerp 2G (57) - Link:
  https://www.badmintonvlaanderen.be/sport/teammatch.aspx?id=7A79EC4D-D9C5-
 4EF0-8466-03CF82E25DAE&match=897
DTSTART;TZID=Europe/Brussels:20250209T223000
DTEND;TZID=Europe/Brussels:20250209T223000
END:VEVENT
BEGIN:VEVENT
UID:7A79EC4D-D9C5-4EF0-8466-03CF82E25DAE-19-866_homereminder@138.badmintonn
 ers.net
DTSTAMP:20260420T054122Z
SUMMARY:Thuismatch ingevuld? (Olve 3G (46) - De Bokkerijder 2G (68))
DESCRIPTION:Je hebt 36 uur na aanvang om een thuismatch op Badmintonvlaande
 ren in te vullen. Match info: Olve 3G (46) - De Bokkerijder 2G (68) - Link
 : https://www.badmintonvlaanderen.be/sport/teammatch.aspx?id=7A79EC4D-D9C5
 -4EF0-8466-03CF82E25DAE&match=866
DTSTART;TZID=Europe/Brussels:20250323T223000
DTEND;TZID=Europe/Brussels:20250323T223000
END:VEVENT
BEGIN:VEVENT
UID:7A79EC4D-D9C5-4EF0-8466-03CF82E25DAE-19-884_awayreminder@138.badmintonn
 ers.net
DTSTAMP:20260420T054122Z
SUMMARY:Uitmatch bevestigd? (Klein Boom 1G (51) - Olve 3G (46))
DESCRIPTION:Je hebt 72 uur na aanvang om een uitmatch op Badmintonvlaandere
 n in te vullen. Match info: Klein Boom 1G (51) - Olve 3G (46) - Link: http
 s://www.badmintonvlaanderen.be/sport/teammatch.aspx?id=7A79EC4D-D9C5-4EF0-
 8466-03CF82E25DAE&match=884
DTSTART;TZID=Europe/Brussels:20240911T190000
DTEND;TZID=Europe/Brussels:20240911T190000
END:VEVENT
BEGIN:VEVENT
UID:7A79EC4D-D9C5-4EF0-8466-03CF82E25DAE-19-886_awayreminder@138.badmintonn
 ers.net
DTSTAMP:20260420T054122Z
SUMMARY:Uitmatch bevestigd? (Royal Antwerp 2G (57) - Olve 3G (46))
DESCRIPTION:Je hebt 72 uur na aanvang om een uitmatch op Badmintonvlaandere
 n in te vullen. Match info: Royal Antwerp 2G (57) - Olve 3G (46) - Link: h
 ttps://www.badmintonvlaanderen.be/sport/teammatch.aspx?id=7A79EC4D-D9C5-4E
 F0-8466-03CF82E25DAE&match=886
DTSTART;TZID=Europe/Brussels:20241023T180000
DTEND;TZID=Europe/Brussels:20241023T180000
END:VEVENT
BEGIN:VEVENT
UID:7A79EC4D-D9C5-4EF0-8466-03CF82E25DAE-19-882_awayreminder@138.badmintonn
 ers.net
DTSTAMP:20260420T054122Z
SUMMARY:Uitmatch bevestigd? (De Bokkerijder 2G (68) - Olve 3G (46))
DESCRIPTION:Je hebt 72 uur na aanvang om een uitmatch op Badmintonvlaandere
 n in te vullen. Match info: De Bokkerijder 2G (68) - Olve 3G (46) - Link: 
 https://www.badmintonvlaanderen.be/sport/teammatch.aspx?id=7A79EC4D-D9C5-4
 EF0-8466-03CF82E25DAE&match=882
DTSTART;TZID=Europe/Brussels:20241202T203000
DTEND;TZID=Europe/Brussels:20241202T203000
END:VEVENT
BEGIN:VEVENT
UID:7A79EC4D-D9C5-4EF0-8466-03CF82E25DAE-19-885_awayreminder@138.badmintonn
 ers.net
DTSTAMP:20260420T054122Z
SUMMARY:Uitmatch bevestigd? (Opslag 1G (69) - Olve 3G (46))
DESCRIPTION:Je hebt 72 uur na aanvang om een uitmatch op Badmintonvlaandere
 n in te vullen. Match info: Opslag 1G (69) - Olve 3G (46) - Link: https://
 www.badmintonvlaanderen.be/sport/teammatch.aspx?id=7A79EC4D-D9C5-4EF0-8466
 -03CF82E25DAE&match=885
DTSTART;TZID=Europe/Brussels:20250226T163000
DTEND;TZID=Europe/Brussels:20250226T163000
END:VEVENT
BEGIN:VEVENT
UID:7A79EC4D-D9C5-4EF0-8466-03CF82E25DAE-19-883_awayreminder@138.badmintonn
 ers.net
DTSTAMP:20260420T054122Z
SUMMARY:Uitmatch bevestigd? (De Nekker 1G (55) - Olve 3G (46))
DESCRIPTION:Je hebt 72 uur na aanvang om een uitmatch op Badmintonvlaandere
 n in te vullen. Match info: De Nekker 1G (55) - Olve 3G (46) - Link: https
 ://www.badmintonvlaanderen.be/sport/teammatch.aspx?id=7A79EC4D-D9C5-4EF0-8
 466-03CF82E25DAE&match=883
DTSTART;TZID=Europe/Brussels:20250301T203000
DTEND;TZID=Europe/Brussels:20250301T203000
END:VEVENT
BEGIN:VEVENT
UID:7A79EC4D-D9C5-4EF0-8466-03CF82E25DAE-19-881_awayreminder@138.badmintonn
 ers.net
DTSTAMP:20260420T054122Z
SUMMARY:Uitmatch bevestigd? (Brasschaat 3G (60) - Olve 3G (46))
DESCRIPTION:Je hebt 72 uur na aanvang om een uitmatch op Badmintonvlaandere
 n in te vullen. Match info: Brasschaat 3G (60) - Olve 3G (46) - Link: http
 s://www.badmintonvlaanderen.be/sport/teammatch.aspx?id=7A79EC4D-D9C5-4EF0-
 8466-03CF82E25DAE&match=881
DTSTART;TZID=Europe/Brussels:20250312T190000
DTEND;TZID=Europe/Brussels:20250312T190000
END:VEVENT
END:VCALENDAR