BEGIN:VCALENDAR
VERSION:2.0
PRODID:spatie/icalendar-generator
NAME:brasschaat_3g_60_reminders
X-WR-CALNAME:brasschaat_3g_60_reminders
BEGIN:VTIMEZONE
TZID:Europe/Brussels
BEGIN:DAYLIGHT
DTSTART:20240331T010000
TZOFFSETFROM:+0100
TZOFFSETTO:+0200
END:DAYLIGHT
BEGIN:STANDARD
DTSTART:20241027T030000
TZOFFSETFROM:+0200
TZOFFSETTO:+0100
END:STANDARD
BEGIN:DAYLIGHT
DTSTART:20250330T010000
TZOFFSETFROM:+0100
TZOFFSETTO:+0200
END:DAYLIGHT
END:VTIMEZONE
BEGIN:VTIMEZONE
TZID:UTC
BEGIN:STANDARD
DTSTART:20250724T054123
TZOFFSETFROM:+0000
TZOFFSETTO:+0000
END:STANDARD
END:VTIMEZONE
BEGIN:VEVENT
UID:7A79EC4D-D9C5-4EF0-8466-03CF82E25DAE-19-863_homereminder@141.badmintonn
 ers.net
DTSTAMP:20260420T054123Z
SUMMARY:Thuismatch ingevuld? (Brasschaat 3G (60) - De Bokkerijder 2G (68))
DESCRIPTION:Je hebt 36 uur na aanvang om een thuismatch op Badmintonvlaande
 ren in te vullen. Match info: Brasschaat 3G (60) - De Bokkerijder 2G (68) 
 - Link: https://www.badmintonvlaanderen.be/sport/teammatch.aspx?id=7A79EC4
 D-D9C5-4EF0-8466-03CF82E25DAE&match=863
DTSTART;TZID=Europe/Brussels:20240924T070000
DTEND;TZID=Europe/Brussels:20240924T070000
END:VEVENT
BEGIN:VEVENT
UID:7A79EC4D-D9C5-4EF0-8466-03CF82E25DAE-19-875_homereminder@141.badmintonn
 ers.net
DTSTAMP:20260420T054123Z
SUMMARY:Thuismatch ingevuld? (Brasschaat 3G (60) - Klein Boom 1G (51))
DESCRIPTION:Je hebt 36 uur na aanvang om een thuismatch op Badmintonvlaande
 ren in te vullen. Match info: Brasschaat 3G (60) - Klein Boom 1G (51) - Li
 nk: https://www.badmintonvlaanderen.be/sport/teammatch.aspx?id=7A79EC4D-D9
 C5-4EF0-8466-03CF82E25DAE&match=875
DTSTART;TZID=Europe/Brussels:20241022T070000
DTEND;TZID=Europe/Brussels:20241022T070000
END:VEVENT
BEGIN:VEVENT
UID:7A79EC4D-D9C5-4EF0-8466-03CF82E25DAE-19-887_homereminder@141.badmintonn
 ers.net
DTSTAMP:20260420T054123Z
SUMMARY:Thuismatch ingevuld? (Brasschaat 3G (60) - Opslag 1G (69))
DESCRIPTION:Je hebt 36 uur na aanvang om een thuismatch op Badmintonvlaande
 ren in te vullen. Match info: Brasschaat 3G (60) - Opslag 1G (69) - Link: 
 https://www.badmintonvlaanderen.be/sport/teammatch.aspx?id=7A79EC4D-D9C5-4
 EF0-8466-03CF82E25DAE&match=887
DTSTART;TZID=Europe/Brussels:20241203T070000
DTEND;TZID=Europe/Brussels:20241203T070000
END:VEVENT
BEGIN:VEVENT
UID:7A79EC4D-D9C5-4EF0-8466-03CF82E25DAE-19-869_homereminder@141.badmintonn
 ers.net
DTSTAMP:20260420T054123Z
SUMMARY:Thuismatch ingevuld? (Brasschaat 3G (60) - De Nekker 1G (55))
DESCRIPTION:Je hebt 36 uur na aanvang om een thuismatch op Badmintonvlaande
 ren in te vullen. Match info: Brasschaat 3G (60) - De Nekker 1G (55) - Lin
 k: https://www.badmintonvlaanderen.be/sport/teammatch.aspx?id=7A79EC4D-D9C
 5-4EF0-8466-03CF82E25DAE&match=869
DTSTART;TZID=Europe/Brussels:20250225T070000
DTEND;TZID=Europe/Brussels:20250225T070000
END:VEVENT
BEGIN:VEVENT
UID:7A79EC4D-D9C5-4EF0-8466-03CF82E25DAE-19-881_homereminder@141.badmintonn
 ers.net
DTSTAMP:20260420T054123Z
SUMMARY:Thuismatch ingevuld? (Brasschaat 3G (60) - Olve 3G (46))
DESCRIPTION:Je hebt 36 uur na aanvang om een thuismatch op Badmintonvlaande
 ren in te vullen. Match info: Brasschaat 3G (60) - Olve 3G (46) - Link: ht
 tps://www.badmintonvlaanderen.be/sport/teammatch.aspx?id=7A79EC4D-D9C5-4EF
 0-8466-03CF82E25DAE&match=881
DTSTART;TZID=Europe/Brussels:20250311T070000
DTEND;TZID=Europe/Brussels:20250311T070000
END:VEVENT
BEGIN:VEVENT
UID:7A79EC4D-D9C5-4EF0-8466-03CF82E25DAE-19-893_homereminder@141.badmintonn
 ers.net
DTSTAMP:20260420T054123Z
SUMMARY:Thuismatch ingevuld? (Brasschaat 3G (60) - Royal Antwerp 2G (57))
DESCRIPTION:Je hebt 36 uur na aanvang om een thuismatch op Badmintonvlaande
 ren in te vullen. Match info: Brasschaat 3G (60) - Royal Antwerp 2G (57) -
  Link: https://www.badmintonvlaanderen.be/sport/teammatch.aspx?id=7A79EC4D
 -D9C5-4EF0-8466-03CF82E25DAE&match=893
DTSTART;TZID=Europe/Brussels:20250408T070000
DTEND;TZID=Europe/Brussels:20250408T070000
END:VEVENT
BEGIN:VEVENT
UID:7A79EC4D-D9C5-4EF0-8466-03CF82E25DAE-19-858_awayreminder@141.badmintonn
 ers.net
DTSTAMP:20260420T054123Z
SUMMARY:Uitmatch bevestigd? (De Nekker 1G (55) - Brasschaat 3G (60))
DESCRIPTION:Je hebt 72 uur na aanvang om een uitmatch op Badmintonvlaandere
 n in te vullen. Match info: De Nekker 1G (55) - Brasschaat 3G (60) - Link:
  https://www.badmintonvlaanderen.be/sport/teammatch.aspx?id=7A79EC4D-D9C5-
 4EF0-8466-03CF82E25DAE&match=858
DTSTART;TZID=Europe/Brussels:20241005T203000
DTEND;TZID=Europe/Brussels:20241005T203000
END:VEVENT
BEGIN:VEVENT
UID:7A79EC4D-D9C5-4EF0-8466-03CF82E25DAE-19-860_awayreminder@141.badmintonn
 ers.net
DTSTAMP:20260420T054123Z
SUMMARY:Uitmatch bevestigd? (Olve 3G (46) - Brasschaat 3G (60))
DESCRIPTION:Je hebt 72 uur na aanvang om een uitmatch op Badmintonvlaandere
 n in te vullen. Match info: Olve 3G (46) - Brasschaat 3G (60) - Link: http
 s://www.badmintonvlaanderen.be/sport/teammatch.aspx?id=7A79EC4D-D9C5-4EF0-
 8466-03CF82E25DAE&match=860
DTSTART;TZID=Europe/Brussels:20241119T103000
DTEND;TZID=Europe/Brussels:20241119T103000
END:VEVENT
BEGIN:VEVENT
UID:7A79EC4D-D9C5-4EF0-8466-03CF82E25DAE-19-862_awayreminder@141.badmintonn
 ers.net
DTSTAMP:20260420T054123Z
SUMMARY:Uitmatch bevestigd? (Royal Antwerp 2G (57) - Brasschaat 3G (60))
DESCRIPTION:Je hebt 72 uur na aanvang om een uitmatch op Badmintonvlaandere
 n in te vullen. Match info: Royal Antwerp 2G (57) - Brasschaat 3G (60) - L
 ink: https://www.badmintonvlaanderen.be/sport/teammatch.aspx?id=7A79EC4D-D
 9C5-4EF0-8466-03CF82E25DAE&match=862
DTSTART;TZID=Europe/Brussels:20241218T180000
DTEND;TZID=Europe/Brussels:20241218T180000
END:VEVENT
BEGIN:VEVENT
UID:7A79EC4D-D9C5-4EF0-8466-03CF82E25DAE-19-859_awayreminder@141.badmintonn
 ers.net
DTSTAMP:20260420T054123Z
SUMMARY:Uitmatch bevestigd? (Klein Boom 1G (51) - Brasschaat 3G (60))
DESCRIPTION:Je hebt 72 uur na aanvang om een uitmatch op Badmintonvlaandere
 n in te vullen. Match info: Klein Boom 1G (51) - Brasschaat 3G (60) - Link
 : https://www.badmintonvlaanderen.be/sport/teammatch.aspx?id=7A79EC4D-D9C5
 -4EF0-8466-03CF82E25DAE&match=859
DTSTART;TZID=Europe/Brussels:20250115T190000
DTEND;TZID=Europe/Brussels:20250115T190000
END:VEVENT
BEGIN:VEVENT
UID:7A79EC4D-D9C5-4EF0-8466-03CF82E25DAE-19-857_awayreminder@141.badmintonn
 ers.net
DTSTAMP:20260420T054123Z
SUMMARY:Uitmatch bevestigd? (De Bokkerijder 2G (68) - Brasschaat 3G (60))
DESCRIPTION:Je hebt 72 uur na aanvang om een uitmatch op Badmintonvlaandere
 n in te vullen. Match info: De Bokkerijder 2G (68) - Brasschaat 3G (60) - 
 Link: https://www.badmintonvlaanderen.be/sport/teammatch.aspx?id=7A79EC4D-
 D9C5-4EF0-8466-03CF82E25DAE&match=857
DTSTART;TZID=Europe/Brussels:20250127T203000
DTEND;TZID=Europe/Brussels:20250127T203000
END:VEVENT
BEGIN:VEVENT
UID:7A79EC4D-D9C5-4EF0-8466-03CF82E25DAE-19-861_awayreminder@141.badmintonn
 ers.net
DTSTAMP:20260420T054123Z
SUMMARY:Uitmatch bevestigd? (Opslag 1G (69) - Brasschaat 3G (60))
DESCRIPTION:Je hebt 72 uur na aanvang om een uitmatch op Badmintonvlaandere
 n in te vullen. Match info: Opslag 1G (69) - Brasschaat 3G (60) - Link: ht
 tps://www.badmintonvlaanderen.be/sport/teammatch.aspx?id=7A79EC4D-D9C5-4EF
 0-8466-03CF82E25DAE&match=861
DTSTART;TZID=Europe/Brussels:20250326T163000
DTEND;TZID=Europe/Brussels:20250326T163000
END:VEVENT
END:VCALENDAR