BEGIN:VCALENDAR
VERSION:2.0
PRODID:spatie/icalendar-generator
NAME:de_nekker_1g_55_reminders
X-WR-CALNAME:de_nekker_1g_55_reminders
BEGIN:VTIMEZONE
TZID:Europe/Brussels
BEGIN:DAYLIGHT
DTSTART:20240331T010000
TZOFFSETFROM:+0100
TZOFFSETTO:+0200
END:DAYLIGHT
BEGIN:STANDARD
DTSTART:20241027T030000
TZOFFSETFROM:+0200
TZOFFSETTO:+0100
END:STANDARD
BEGIN:DAYLIGHT
DTSTART:20250330T010000
TZOFFSETFROM:+0100
TZOFFSETTO:+0200
END:DAYLIGHT
END:VTIMEZONE
BEGIN:VTIMEZONE
TZID:UTC
BEGIN:STANDARD
DTSTART:20250724T070622
TZOFFSETFROM:+0000
TZOFFSETTO:+0000
END:STANDARD
END:VTIMEZONE
BEGIN:VEVENT
UID:7A79EC4D-D9C5-4EF0-8466-03CF82E25DAE-19-858_homereminder@142.badmintonn
 ers.net
DTSTAMP:20260420T070622Z
SUMMARY:Thuismatch ingevuld? (De Nekker 1G (55) - Brasschaat 3G (60))
DESCRIPTION:Je hebt 36 uur na aanvang om een thuismatch op Badmintonvlaande
 ren in te vullen. Match info: De Nekker 1G (55) - Brasschaat 3G (60) - Lin
 k: https://www.badmintonvlaanderen.be/sport/teammatch.aspx?id=7A79EC4D-D9C
 5-4EF0-8466-03CF82E25DAE&match=858
DTSTART;TZID=Europe/Brussels:20241004T083000
DTEND;TZID=Europe/Brussels:20241004T083000
END:VEVENT
BEGIN:VEVENT
UID:7A79EC4D-D9C5-4EF0-8466-03CF82E25DAE-19-889_homereminder@142.badmintonn
 ers.net
DTSTAMP:20260420T070622Z
SUMMARY:Thuismatch ingevuld? (De Nekker 1G (55) - Opslag 1G (69))
DESCRIPTION:Je hebt 36 uur na aanvang om een thuismatch op Badmintonvlaande
 ren in te vullen. Match info: De Nekker 1G (55) - Opslag 1G (69) - Link: h
 ttps://www.badmintonvlaanderen.be/sport/teammatch.aspx?id=7A79EC4D-D9C5-4E
 F0-8466-03CF82E25DAE&match=889
DTSTART;TZID=Europe/Brussels:20241129T083000
DTEND;TZID=Europe/Brussels:20241129T083000
END:VEVENT
BEGIN:VEVENT
UID:7A79EC4D-D9C5-4EF0-8466-03CF82E25DAE-19-877_homereminder@142.badmintonn
 ers.net
DTSTAMP:20260420T070622Z
SUMMARY:Thuismatch ingevuld? (De Nekker 1G (55) - Klein Boom 1G (51))
DESCRIPTION:Je hebt 36 uur na aanvang om een thuismatch op Badmintonvlaande
 ren in te vullen. Match info: De Nekker 1G (55) - Klein Boom 1G (51) - Lin
 k: https://www.badmintonvlaanderen.be/sport/teammatch.aspx?id=7A79EC4D-D9C
 5-4EF0-8466-03CF82E25DAE&match=877
DTSTART;TZID=Europe/Brussels:20241206T083000
DTEND;TZID=Europe/Brussels:20241206T083000
END:VEVENT
BEGIN:VEVENT
UID:7A79EC4D-D9C5-4EF0-8466-03CF82E25DAE-19-895_homereminder@142.badmintonn
 ers.net
DTSTAMP:20260420T070622Z
SUMMARY:Thuismatch ingevuld? (De Nekker 1G (55) - Royal Antwerp 2G (57))
DESCRIPTION:Je hebt 36 uur na aanvang om een thuismatch op Badmintonvlaande
 ren in te vullen. Match info: De Nekker 1G (55) - Royal Antwerp 2G (57) - 
 Link: https://www.badmintonvlaanderen.be/sport/teammatch.aspx?id=7A79EC4D-
 D9C5-4EF0-8466-03CF82E25DAE&match=895
DTSTART;TZID=Europe/Brussels:20250124T083000
DTEND;TZID=Europe/Brussels:20250124T083000
END:VEVENT
BEGIN:VEVENT
UID:7A79EC4D-D9C5-4EF0-8466-03CF82E25DAE-19-864_homereminder@142.badmintonn
 ers.net
DTSTAMP:20260420T070622Z
SUMMARY:Thuismatch ingevuld? (De Nekker 1G (55) - De Bokkerijder 2G (68))
DESCRIPTION:Je hebt 36 uur na aanvang om een thuismatch op Badmintonvlaande
 ren in te vullen. Match info: De Nekker 1G (55) - De Bokkerijder 2G (68) -
  Link: https://www.badmintonvlaanderen.be/sport/teammatch.aspx?id=7A79EC4D
 -D9C5-4EF0-8466-03CF82E25DAE&match=864
DTSTART;TZID=Europe/Brussels:20250207T083000
DTEND;TZID=Europe/Brussels:20250207T083000
END:VEVENT
BEGIN:VEVENT
UID:7A79EC4D-D9C5-4EF0-8466-03CF82E25DAE-19-883_homereminder@142.badmintonn
 ers.net
DTSTAMP:20260420T070622Z
SUMMARY:Thuismatch ingevuld? (De Nekker 1G (55) - Olve 3G (46))
DESCRIPTION:Je hebt 36 uur na aanvang om een thuismatch op Badmintonvlaande
 ren in te vullen. Match info: De Nekker 1G (55) - Olve 3G (46) - Link: htt
 ps://www.badmintonvlaanderen.be/sport/teammatch.aspx?id=7A79EC4D-D9C5-4EF0
 -8466-03CF82E25DAE&match=883
DTSTART;TZID=Europe/Brussels:20250228T083000
DTEND;TZID=Europe/Brussels:20250228T083000
END:VEVENT
BEGIN:VEVENT
UID:7A79EC4D-D9C5-4EF0-8466-03CF82E25DAE-19-870_awayreminder@142.badmintonn
 ers.net
DTSTAMP:20260420T070622Z
SUMMARY:Uitmatch bevestigd? (De Bokkerijder 2G (68) - De Nekker 1G (55))
DESCRIPTION:Je hebt 72 uur na aanvang om een uitmatch op Badmintonvlaandere
 n in te vullen. Match info: De Bokkerijder 2G (68) - De Nekker 1G (55) - L
 ink: https://www.badmintonvlaanderen.be/sport/teammatch.aspx?id=7A79EC4D-D
 9C5-4EF0-8466-03CF82E25DAE&match=870
DTSTART;TZID=Europe/Brussels:20241021T203000
DTEND;TZID=Europe/Brussels:20241021T203000
END:VEVENT
BEGIN:VEVENT
UID:7A79EC4D-D9C5-4EF0-8466-03CF82E25DAE-19-874_awayreminder@142.badmintonn
 ers.net
DTSTAMP:20260420T070622Z
SUMMARY:Uitmatch bevestigd? (Royal Antwerp 2G (57) - De Nekker 1G (55))
DESCRIPTION:Je hebt 72 uur na aanvang om een uitmatch op Badmintonvlaandere
 n in te vullen. Match info: Royal Antwerp 2G (57) - De Nekker 1G (55) - Li
 nk: https://www.badmintonvlaanderen.be/sport/teammatch.aspx?id=7A79EC4D-D9
 C5-4EF0-8466-03CF82E25DAE&match=874
DTSTART;TZID=Europe/Brussels:20241204T180000
DTEND;TZID=Europe/Brussels:20241204T180000
END:VEVENT
BEGIN:VEVENT
UID:7A79EC4D-D9C5-4EF0-8466-03CF82E25DAE-19-872_awayreminder@142.badmintonn
 ers.net
DTSTAMP:20260420T070622Z
SUMMARY:Uitmatch bevestigd? (Olve 3G (46) - De Nekker 1G (55))
DESCRIPTION:Je hebt 72 uur na aanvang om een uitmatch op Badmintonvlaandere
 n in te vullen. Match info: Olve 3G (46) - De Nekker 1G (55) - Link: https
 ://www.badmintonvlaanderen.be/sport/teammatch.aspx?id=7A79EC4D-D9C5-4EF0-8
 466-03CF82E25DAE&match=872
DTSTART;TZID=Europe/Brussels:20241217T103000
DTEND;TZID=Europe/Brussels:20241217T103000
END:VEVENT
BEGIN:VEVENT
UID:7A79EC4D-D9C5-4EF0-8466-03CF82E25DAE-19-873_awayreminder@142.badmintonn
 ers.net
DTSTAMP:20260420T070622Z
SUMMARY:Uitmatch bevestigd? (Opslag 1G (69) - De Nekker 1G (55))
DESCRIPTION:Je hebt 72 uur na aanvang om een uitmatch op Badmintonvlaandere
 n in te vullen. Match info: Opslag 1G (69) - De Nekker 1G (55) - Link: htt
 ps://www.badmintonvlaanderen.be/sport/teammatch.aspx?id=7A79EC4D-D9C5-4EF0
 -8466-03CF82E25DAE&match=873
DTSTART;TZID=Europe/Brussels:20250129T191500
DTEND;TZID=Europe/Brussels:20250129T191500
END:VEVENT
BEGIN:VEVENT
UID:7A79EC4D-D9C5-4EF0-8466-03CF82E25DAE-19-869_awayreminder@142.badmintonn
 ers.net
DTSTAMP:20260420T070622Z
SUMMARY:Uitmatch bevestigd? (Brasschaat 3G (60) - De Nekker 1G (55))
DESCRIPTION:Je hebt 72 uur na aanvang om een uitmatch op Badmintonvlaandere
 n in te vullen. Match info: Brasschaat 3G (60) - De Nekker 1G (55) - Link:
  https://www.badmintonvlaanderen.be/sport/teammatch.aspx?id=7A79EC4D-D9C5-
 4EF0-8466-03CF82E25DAE&match=869
DTSTART;TZID=Europe/Brussels:20250226T190000
DTEND;TZID=Europe/Brussels:20250226T190000
END:VEVENT
BEGIN:VEVENT
UID:7A79EC4D-D9C5-4EF0-8466-03CF82E25DAE-19-871_awayreminder@142.badmintonn
 ers.net
DTSTAMP:20260420T070622Z
SUMMARY:Uitmatch bevestigd? (Klein Boom 1G (51) - De Nekker 1G (55))
DESCRIPTION:Je hebt 72 uur na aanvang om een uitmatch op Badmintonvlaandere
 n in te vullen. Match info: Klein Boom 1G (51) - De Nekker 1G (55) - Link:
  https://www.badmintonvlaanderen.be/sport/teammatch.aspx?id=7A79EC4D-D9C5-
 4EF0-8466-03CF82E25DAE&match=871
DTSTART;TZID=Europe/Brussels:20250326T190000
DTEND;TZID=Europe/Brussels:20250326T190000
END:VEVENT
END:VCALENDAR