BEGIN:VCALENDAR
VERSION:2.0
PRODID:spatie/icalendar-generator
NAME:kill_leuven_1h_31_reminders
X-WR-CALNAME:kill_leuven_1h_31_reminders
BEGIN:VTIMEZONE
TZID:Europe/Brussels
BEGIN:DAYLIGHT
DTSTART:20240331T010000
TZOFFSETFROM:+0100
TZOFFSETTO:+0200
END:DAYLIGHT
BEGIN:STANDARD
DTSTART:20241027T030000
TZOFFSETFROM:+0200
TZOFFSETTO:+0100
END:STANDARD
BEGIN:DAYLIGHT
DTSTART:20250330T010000
TZOFFSETFROM:+0100
TZOFFSETTO:+0200
END:DAYLIGHT
END:VTIMEZONE
BEGIN:VTIMEZONE
TZID:UTC
BEGIN:STANDARD
DTSTART:20250724T070548
TZOFFSETFROM:+0000
TZOFFSETTO:+0000
END:STANDARD
END:VTIMEZONE
BEGIN:VEVENT
UID:7A79EC4D-D9C5-4EF0-8466-03CF82E25DAE-6-1169_homereminder@21.badmintonne
 rs.net
DTSTAMP:20260420T070548Z
SUMMARY:Thuismatch ingevuld? (Kill Leuven 1H (31) - Zoersel 1H (35))
DESCRIPTION:Je hebt 36 uur na aanvang om een thuismatch op Badmintonvlaande
 ren in te vullen. Match info: Kill Leuven 1H (31) - Zoersel 1H (35) - Link
 : https://www.badmintonvlaanderen.be/sport/teammatch.aspx?id=7A79EC4D-D9C5
 -4EF0-8466-03CF82E25DAE&match=1169
DTSTART;TZID=Europe/Brussels:20241014T010000
DTEND;TZID=Europe/Brussels:20241014T010000
END:VEVENT
BEGIN:VEVENT
UID:7A79EC4D-D9C5-4EF0-8466-03CF82E25DAE-6-279_homereminder@21.badmintonner
 s.net
DTSTAMP:20260420T070548Z
SUMMARY:Thuismatch ingevuld? (Kill Leuven 1H (31) - Klein Boom 1H (37))
DESCRIPTION:Je hebt 36 uur na aanvang om een thuismatch op Badmintonvlaande
 ren in te vullen. Match info: Kill Leuven 1H (31) - Klein Boom 1H (37) - L
 ink: https://www.badmintonvlaanderen.be/sport/teammatch.aspx?id=7A79EC4D-D
 9C5-4EF0-8466-03CF82E25DAE&match=279
DTSTART;TZID=Europe/Brussels:20241028T000000
DTEND;TZID=Europe/Brussels:20241028T000000
END:VEVENT
BEGIN:VEVENT
UID:7A79EC4D-D9C5-4EF0-8466-03CF82E25DAE-6-263_homereminder@21.badmintonner
 s.net
DTSTAMP:20260420T070548Z
SUMMARY:Thuismatch ingevuld? (Kill Leuven 1H (31) - Geelse 1H (36))
DESCRIPTION:Je hebt 36 uur na aanvang om een thuismatch op Badmintonvlaande
 ren in te vullen. Match info: Kill Leuven 1H (31) - Geelse 1H (36) - Link:
  https://www.badmintonvlaanderen.be/sport/teammatch.aspx?id=7A79EC4D-D9C5-
 4EF0-8466-03CF82E25DAE&match=263
DTSTART;TZID=Europe/Brussels:20241111T010000
DTEND;TZID=Europe/Brussels:20241111T010000
END:VEVENT
BEGIN:VEVENT
UID:7A79EC4D-D9C5-4EF0-8466-03CF82E25DAE-6-268_homereminder@21.badmintonner
 s.net
DTSTAMP:20260420T070548Z
SUMMARY:Thuismatch ingevuld? (Kill Leuven 1H (31) - Huirtuits Dropke 1H (42
 ))
DESCRIPTION:Je hebt 36 uur na aanvang om een thuismatch op Badmintonvlaande
 ren in te vullen. Match info: Kill Leuven 1H (31) - Huirtuits Dropke 1H (4
 2) - Link: https://www.badmintonvlaanderen.be/sport/teammatch.aspx?id=7A79
 EC4D-D9C5-4EF0-8466-03CF82E25DAE&match=268
DTSTART;TZID=Europe/Brussels:20250113T040000
DTEND;TZID=Europe/Brussels:20250113T040000
END:VEVENT
BEGIN:VEVENT
UID:7A79EC4D-D9C5-4EF0-8466-03CF82E25DAE-6-284_homereminder@21.badmintonner
 s.net
DTSTAMP:20260420T070548Z
SUMMARY:Thuismatch ingevuld? (Kill Leuven 1H (31) - Tots Keerbergen 1H (32)
 )
DESCRIPTION:Je hebt 36 uur na aanvang om een thuismatch op Badmintonvlaande
 ren in te vullen. Match info: Kill Leuven 1H (31) - Tots Keerbergen 1H (32
 ) - Link: https://www.badmintonvlaanderen.be/sport/teammatch.aspx?id=7A79E
 C4D-D9C5-4EF0-8466-03CF82E25DAE&match=284
DTSTART;TZID=Europe/Brussels:20250120T010000
DTEND;TZID=Europe/Brussels:20250120T010000
END:VEVENT
BEGIN:VEVENT
UID:7A79EC4D-D9C5-4EF0-8466-03CF82E25DAE-6-258_homereminder@21.badmintonner
 s.net
DTSTAMP:20260420T070548Z
SUMMARY:Thuismatch ingevuld? (Kill Leuven 1H (31) - Dijlevallei 4H (35))
DESCRIPTION:Je hebt 36 uur na aanvang om een thuismatch op Badmintonvlaande
 ren in te vullen. Match info: Kill Leuven 1H (31) - Dijlevallei 4H (35) - 
 Link: https://www.badmintonvlaanderen.be/sport/teammatch.aspx?id=7A79EC4D-
 D9C5-4EF0-8466-03CF82E25DAE&match=258
DTSTART;TZID=Europe/Brussels:20250317T010000
DTEND;TZID=Europe/Brussels:20250317T010000
END:VEVENT
BEGIN:VEVENT
UID:7A79EC4D-D9C5-4EF0-8466-03CF82E25DAE-6-271_awayreminder@21.badmintonner
 s.net
DTSTAMP:20260420T070548Z
SUMMARY:Uitmatch bevestigd? (Dijlevallei 4H (35) - Kill Leuven 1H (31))
DESCRIPTION:Je hebt 72 uur na aanvang om een uitmatch op Badmintonvlaandere
 n in te vullen. Match info: Dijlevallei 4H (35) - Kill Leuven 1H (31) - Li
 nk: https://www.badmintonvlaanderen.be/sport/teammatch.aspx?id=7A79EC4D-D9
 C5-4EF0-8466-03CF82E25DAE&match=271
DTSTART;TZID=Europe/Brussels:20241203T163000
DTEND;TZID=Europe/Brussels:20241203T163000
END:VEVENT
BEGIN:VEVENT
UID:7A79EC4D-D9C5-4EF0-8466-03CF82E25DAE-6-273_awayreminder@21.badmintonner
 s.net
DTSTAMP:20260420T070548Z
SUMMARY:Uitmatch bevestigd? (Huirtuits Dropke 1H (42) - Kill Leuven 1H (31)
 )
DESCRIPTION:Je hebt 72 uur na aanvang om een uitmatch op Badmintonvlaandere
 n in te vullen. Match info: Huirtuits Dropke 1H (42) - Kill Leuven 1H (31)
  - Link: https://www.badmintonvlaanderen.be/sport/teammatch.aspx?id=7A79EC
 4D-D9C5-4EF0-8466-03CF82E25DAE&match=273
DTSTART;TZID=Europe/Brussels:20241205T200000
DTEND;TZID=Europe/Brussels:20241205T200000
END:VEVENT
BEGIN:VEVENT
UID:7A79EC4D-D9C5-4EF0-8466-03CF82E25DAE-6-275_awayreminder@21.badmintonner
 s.net
DTSTAMP:20260420T070548Z
SUMMARY:Uitmatch bevestigd? (Tots Keerbergen 1H (32) - Kill Leuven 1H (31))
DESCRIPTION:Je hebt 72 uur na aanvang om een uitmatch op Badmintonvlaandere
 n in te vullen. Match info: Tots Keerbergen 1H (32) - Kill Leuven 1H (31) 
 - Link: https://www.badmintonvlaanderen.be/sport/teammatch.aspx?id=7A79EC4
 D-D9C5-4EF0-8466-03CF82E25DAE&match=275
DTSTART;TZID=Europe/Brussels:20241218T190000
DTEND;TZID=Europe/Brussels:20241218T190000
END:VEVENT
BEGIN:VEVENT
UID:7A79EC4D-D9C5-4EF0-8466-03CF82E25DAE-6-274_awayreminder@21.badmintonner
 s.net
DTSTAMP:20260420T070548Z
SUMMARY:Uitmatch bevestigd? (Klein Boom 1H (37) - Kill Leuven 1H (31))
DESCRIPTION:Je hebt 72 uur na aanvang om een uitmatch op Badmintonvlaandere
 n in te vullen. Match info: Klein Boom 1H (37) - Kill Leuven 1H (31) - Lin
 k: https://www.badmintonvlaanderen.be/sport/teammatch.aspx?id=7A79EC4D-D9C
 5-4EF0-8466-03CF82E25DAE&match=274
DTSTART;TZID=Europe/Brussels:20250108T190000
DTEND;TZID=Europe/Brussels:20250108T190000
END:VEVENT
BEGIN:VEVENT
UID:7A79EC4D-D9C5-4EF0-8466-03CF82E25DAE-6-272_awayreminder@21.badmintonner
 s.net
DTSTAMP:20260420T070548Z
SUMMARY:Uitmatch bevestigd? (Geelse 1H (36) - Kill Leuven 1H (31))
DESCRIPTION:Je hebt 72 uur na aanvang om een uitmatch op Badmintonvlaandere
 n in te vullen. Match info: Geelse 1H (36) - Kill Leuven 1H (31) - Link: h
 ttps://www.badmintonvlaanderen.be/sport/teammatch.aspx?id=7A79EC4D-D9C5-4E
 F0-8466-03CF82E25DAE&match=272
DTSTART;TZID=Europe/Brussels:20250202T200000
DTEND;TZID=Europe/Brussels:20250202T200000
END:VEVENT
BEGIN:VEVENT
UID:7A79EC4D-D9C5-4EF0-8466-03CF82E25DAE-6-1163_awayreminder@21.badmintonne
 rs.net
DTSTAMP:20260420T070548Z
SUMMARY:Uitmatch bevestigd? (Zoersel 1H (35) - Kill Leuven 1H (31))
DESCRIPTION:Je hebt 72 uur na aanvang om een uitmatch op Badmintonvlaandere
 n in te vullen. Match info: Zoersel 1H (35) - Kill Leuven 1H (31) - Link: 
 https://www.badmintonvlaanderen.be/sport/teammatch.aspx?id=7A79EC4D-D9C5-4
 EF0-8466-03CF82E25DAE&match=1163
DTSTART;TZID=Europe/Brussels:20250326T120000
DTEND;TZID=Europe/Brussels:20250326T120000
END:VEVENT
END:VCALENDAR