BEGIN:VCALENDAR
VERSION:2.0
PRODID:spatie/icalendar-generator
NAME:geelse_1h_36_reminders
X-WR-CALNAME:geelse_1h_36_reminders
BEGIN:VTIMEZONE
TZID:Europe/Brussels
BEGIN:DAYLIGHT
DTSTART:20240331T010000
TZOFFSETFROM:+0100
TZOFFSETTO:+0200
END:DAYLIGHT
BEGIN:STANDARD
DTSTART:20241027T030000
TZOFFSETFROM:+0200
TZOFFSETTO:+0100
END:STANDARD
BEGIN:DAYLIGHT
DTSTART:20250330T010000
TZOFFSETFROM:+0100
TZOFFSETTO:+0200
END:DAYLIGHT
END:VTIMEZONE
BEGIN:VTIMEZONE
TZID:UTC
BEGIN:STANDARD
DTSTART:20250724T070547
TZOFFSETFROM:+0000
TZOFFSETTO:+0000
END:STANDARD
END:VTIMEZONE
BEGIN:VEVENT
UID:7A79EC4D-D9C5-4EF0-8466-03CF82E25DAE-6-1167_homereminder@24.badmintonne
 rs.net
DTSTAMP:20260420T070547Z
SUMMARY:Thuismatch ingevuld? (Geelse 1H (36) - Zoersel 1H (35))
DESCRIPTION:Je hebt 36 uur na aanvang om een thuismatch op Badmintonvlaande
 ren in te vullen. Match info: Geelse 1H (36) - Zoersel 1H (35) - Link: htt
 ps://www.badmintonvlaanderen.be/sport/teammatch.aspx?id=7A79EC4D-D9C5-4EF0
 -8466-03CF82E25DAE&match=1167
DTSTART;TZID=Europe/Brussels:20241005T080000
DTEND;TZID=Europe/Brussels:20241005T080000
END:VEVENT
BEGIN:VEVENT
UID:7A79EC4D-D9C5-4EF0-8466-03CF82E25DAE-6-267_homereminder@24.badmintonner
 s.net
DTSTAMP:20260420T070547Z
SUMMARY:Thuismatch ingevuld? (Geelse 1H (36) - Huirtuits Dropke 1H (42))
DESCRIPTION:Je hebt 36 uur na aanvang om een thuismatch op Badmintonvlaande
 ren in te vullen. Match info: Geelse 1H (36) - Huirtuits Dropke 1H (42) - 
 Link: https://www.badmintonvlaanderen.be/sport/teammatch.aspx?id=7A79EC4D-
 D9C5-4EF0-8466-03CF82E25DAE&match=267
DTSTART;TZID=Europe/Brussels:20241102T080000
DTEND;TZID=Europe/Brussels:20241102T080000
END:VEVENT
BEGIN:VEVENT
UID:7A79EC4D-D9C5-4EF0-8466-03CF82E25DAE-6-277_homereminder@24.badmintonner
 s.net
DTSTAMP:20260420T070547Z
SUMMARY:Thuismatch ingevuld? (Geelse 1H (36) - Klein Boom 1H (37))
DESCRIPTION:Je hebt 36 uur na aanvang om een thuismatch op Badmintonvlaande
 ren in te vullen. Match info: Geelse 1H (36) - Klein Boom 1H (37) - Link: 
 https://www.badmintonvlaanderen.be/sport/teammatch.aspx?id=7A79EC4D-D9C5-4
 EF0-8466-03CF82E25DAE&match=277
DTSTART;TZID=Europe/Brussels:20241123T080000
DTEND;TZID=Europe/Brussels:20241123T080000
END:VEVENT
BEGIN:VEVENT
UID:7A79EC4D-D9C5-4EF0-8466-03CF82E25DAE-6-256_homereminder@24.badmintonner
 s.net
DTSTAMP:20260420T070547Z
SUMMARY:Thuismatch ingevuld? (Geelse 1H (36) - Dijlevallei 4H (35))
DESCRIPTION:Je hebt 36 uur na aanvang om een thuismatch op Badmintonvlaande
 ren in te vullen. Match info: Geelse 1H (36) - Dijlevallei 4H (35) - Link:
  https://www.badmintonvlaanderen.be/sport/teammatch.aspx?id=7A79EC4D-D9C5-
 4EF0-8466-03CF82E25DAE&match=256
DTSTART;TZID=Europe/Brussels:20250118T080000
DTEND;TZID=Europe/Brussels:20250118T080000
END:VEVENT
BEGIN:VEVENT
UID:7A79EC4D-D9C5-4EF0-8466-03CF82E25DAE-6-272_homereminder@24.badmintonner
 s.net
DTSTAMP:20260420T070547Z
SUMMARY:Thuismatch ingevuld? (Geelse 1H (36) - Kill Leuven 1H (31))
DESCRIPTION:Je hebt 36 uur na aanvang om een thuismatch op Badmintonvlaande
 ren in te vullen. Match info: Geelse 1H (36) - Kill Leuven 1H (31) - Link:
  https://www.badmintonvlaanderen.be/sport/teammatch.aspx?id=7A79EC4D-D9C5-
 4EF0-8466-03CF82E25DAE&match=272
DTSTART;TZID=Europe/Brussels:20250201T080000
DTEND;TZID=Europe/Brussels:20250201T080000
END:VEVENT
BEGIN:VEVENT
UID:7A79EC4D-D9C5-4EF0-8466-03CF82E25DAE-6-282_homereminder@24.badmintonner
 s.net
DTSTAMP:20260420T070547Z
SUMMARY:Thuismatch ingevuld? (Geelse 1H (36) - Tots Keerbergen 1H (32))
DESCRIPTION:Je hebt 36 uur na aanvang om een thuismatch op Badmintonvlaande
 ren in te vullen. Match info: Geelse 1H (36) - Tots Keerbergen 1H (32) - L
 ink: https://www.badmintonvlaanderen.be/sport/teammatch.aspx?id=7A79EC4D-D
 9C5-4EF0-8466-03CF82E25DAE&match=282
DTSTART;TZID=Europe/Brussels:20250301T080000
DTEND;TZID=Europe/Brussels:20250301T080000
END:VEVENT
BEGIN:VEVENT
UID:7A79EC4D-D9C5-4EF0-8466-03CF82E25DAE-6-265_awayreminder@24.badmintonner
 s.net
DTSTAMP:20260420T070547Z
SUMMARY:Uitmatch bevestigd? (Tots Keerbergen 1H (32) - Geelse 1H (36))
DESCRIPTION:Je hebt 72 uur na aanvang om een uitmatch op Badmintonvlaandere
 n in te vullen. Match info: Tots Keerbergen 1H (32) - Geelse 1H (36) - Lin
 k: https://www.badmintonvlaanderen.be/sport/teammatch.aspx?id=7A79EC4D-D9C
 5-4EF0-8466-03CF82E25DAE&match=265
DTSTART;TZID=Europe/Brussels:20241002T190000
DTEND;TZID=Europe/Brussels:20241002T190000
END:VEVENT
BEGIN:VEVENT
UID:7A79EC4D-D9C5-4EF0-8466-03CF82E25DAE-6-261_awayreminder@24.badmintonner
 s.net
DTSTAMP:20260420T070547Z
SUMMARY:Uitmatch bevestigd? (Dijlevallei 4H (35) - Geelse 1H (36))
DESCRIPTION:Je hebt 72 uur na aanvang om een uitmatch op Badmintonvlaandere
 n in te vullen. Match info: Dijlevallei 4H (35) - Geelse 1H (36) - Link: h
 ttps://www.badmintonvlaanderen.be/sport/teammatch.aspx?id=7A79EC4D-D9C5-4E
 F0-8466-03CF82E25DAE&match=261
DTSTART;TZID=Europe/Brussels:20241023T170000
DTEND;TZID=Europe/Brussels:20241023T170000
END:VEVENT
BEGIN:VEVENT
UID:7A79EC4D-D9C5-4EF0-8466-03CF82E25DAE-6-263_awayreminder@24.badmintonner
 s.net
DTSTAMP:20260420T070547Z
SUMMARY:Uitmatch bevestigd? (Kill Leuven 1H (31) - Geelse 1H (36))
DESCRIPTION:Je hebt 72 uur na aanvang om een uitmatch op Badmintonvlaandere
 n in te vullen. Match info: Kill Leuven 1H (31) - Geelse 1H (36) - Link: h
 ttps://www.badmintonvlaanderen.be/sport/teammatch.aspx?id=7A79EC4D-D9C5-4E
 F0-8466-03CF82E25DAE&match=263
DTSTART;TZID=Europe/Brussels:20241112T130000
DTEND;TZID=Europe/Brussels:20241112T130000
END:VEVENT
BEGIN:VEVENT
UID:7A79EC4D-D9C5-4EF0-8466-03CF82E25DAE-6-1161_awayreminder@24.badmintonne
 rs.net
DTSTAMP:20260420T070547Z
SUMMARY:Uitmatch bevestigd? (Zoersel 1H (35) - Geelse 1H (36))
DESCRIPTION:Je hebt 72 uur na aanvang om een uitmatch op Badmintonvlaandere
 n in te vullen. Match info: Zoersel 1H (35) - Geelse 1H (36) - Link: https
 ://www.badmintonvlaanderen.be/sport/teammatch.aspx?id=7A79EC4D-D9C5-4EF0-8
 466-03CF82E25DAE&match=1161
DTSTART;TZID=Europe/Brussels:20250108T120000
DTEND;TZID=Europe/Brussels:20250108T120000
END:VEVENT
BEGIN:VEVENT
UID:7A79EC4D-D9C5-4EF0-8466-03CF82E25DAE-6-262_awayreminder@24.badmintonner
 s.net
DTSTAMP:20260420T070547Z
SUMMARY:Uitmatch bevestigd? (Huirtuits Dropke 1H (42) - Geelse 1H (36))
DESCRIPTION:Je hebt 72 uur na aanvang om een uitmatch op Badmintonvlaandere
 n in te vullen. Match info: Huirtuits Dropke 1H (42) - Geelse 1H (36) - Li
 nk: https://www.badmintonvlaanderen.be/sport/teammatch.aspx?id=7A79EC4D-D9
 C5-4EF0-8466-03CF82E25DAE&match=262
DTSTART;TZID=Europe/Brussels:20250219T183000
DTEND;TZID=Europe/Brussels:20250219T183000
END:VEVENT
BEGIN:VEVENT
UID:7A79EC4D-D9C5-4EF0-8466-03CF82E25DAE-6-264_awayreminder@24.badmintonner
 s.net
DTSTAMP:20260420T070547Z
SUMMARY:Uitmatch bevestigd? (Klein Boom 1H (37) - Geelse 1H (36))
DESCRIPTION:Je hebt 72 uur na aanvang om een uitmatch op Badmintonvlaandere
 n in te vullen. Match info: Klein Boom 1H (37) - Geelse 1H (36) - Link: ht
 tps://www.badmintonvlaanderen.be/sport/teammatch.aspx?id=7A79EC4D-D9C5-4EF
 0-8466-03CF82E25DAE&match=264
DTSTART;TZID=Europe/Brussels:20250319T190000
DTEND;TZID=Europe/Brussels:20250319T190000
END:VEVENT
END:VCALENDAR