BEGIN:VCALENDAR
VERSION:2.0
PRODID:spatie/icalendar-generator
NAME:klein_boom_1h_37_reminders
X-WR-CALNAME:klein_boom_1h_37_reminders
BEGIN:VTIMEZONE
TZID:Europe/Brussels
BEGIN:DAYLIGHT
DTSTART:20240331T010000
TZOFFSETFROM:+0100
TZOFFSETTO:+0200
END:DAYLIGHT
BEGIN:STANDARD
DTSTART:20241027T030000
TZOFFSETFROM:+0200
TZOFFSETTO:+0100
END:STANDARD
BEGIN:DAYLIGHT
DTSTART:20250330T010000
TZOFFSETFROM:+0100
TZOFFSETTO:+0200
END:DAYLIGHT
END:VTIMEZONE
BEGIN:VTIMEZONE
TZID:UTC
BEGIN:STANDARD
DTSTART:20250724T070549
TZOFFSETFROM:+0000
TZOFFSETTO:+0000
END:STANDARD
END:VTIMEZONE
BEGIN:VEVENT
UID:7A79EC4D-D9C5-4EF0-8466-03CF82E25DAE-6-285_homereminder@29.badmintonner
 s.net
DTSTAMP:20260420T070549Z
SUMMARY:Thuismatch ingevuld? (Klein Boom 1H (37) - Tots Keerbergen 1H (32))
DESCRIPTION:Je hebt 36 uur na aanvang om een thuismatch op Badmintonvlaande
 ren in te vullen. Match info: Klein Boom 1H (37) - Tots Keerbergen 1H (32)
  - Link: https://www.badmintonvlaanderen.be/sport/teammatch.aspx?id=7A79EC
 4D-D9C5-4EF0-8466-03CF82E25DAE&match=285
DTSTART;TZID=Europe/Brussels:20241015T070000
DTEND;TZID=Europe/Brussels:20241015T070000
END:VEVENT
BEGIN:VEVENT
UID:7A79EC4D-D9C5-4EF0-8466-03CF82E25DAE-6-269_homereminder@29.badmintonner
 s.net
DTSTAMP:20260420T070549Z
SUMMARY:Thuismatch ingevuld? (Klein Boom 1H (37) - Huirtuits Dropke 1H (42)
 )
DESCRIPTION:Je hebt 36 uur na aanvang om een thuismatch op Badmintonvlaande
 ren in te vullen. Match info: Klein Boom 1H (37) - Huirtuits Dropke 1H (42
 ) - Link: https://www.badmintonvlaanderen.be/sport/teammatch.aspx?id=7A79E
 C4D-D9C5-4EF0-8466-03CF82E25DAE&match=269
DTSTART;TZID=Europe/Brussels:20241112T070000
DTEND;TZID=Europe/Brussels:20241112T070000
END:VEVENT
BEGIN:VEVENT
UID:7A79EC4D-D9C5-4EF0-8466-03CF82E25DAE-6-259_homereminder@29.badmintonner
 s.net
DTSTAMP:20260420T070549Z
SUMMARY:Thuismatch ingevuld? (Klein Boom 1H (37) - Dijlevallei 4H (35))
DESCRIPTION:Je hebt 36 uur na aanvang om een thuismatch op Badmintonvlaande
 ren in te vullen. Match info: Klein Boom 1H (37) - Dijlevallei 4H (35) - L
 ink: https://www.badmintonvlaanderen.be/sport/teammatch.aspx?id=7A79EC4D-D
 9C5-4EF0-8466-03CF82E25DAE&match=259
DTSTART;TZID=Europe/Brussels:20241126T070000
DTEND;TZID=Europe/Brussels:20241126T070000
END:VEVENT
BEGIN:VEVENT
UID:7A79EC4D-D9C5-4EF0-8466-03CF82E25DAE-6-274_homereminder@29.badmintonner
 s.net
DTSTAMP:20260420T070549Z
SUMMARY:Thuismatch ingevuld? (Klein Boom 1H (37) - Kill Leuven 1H (31))
DESCRIPTION:Je hebt 36 uur na aanvang om een thuismatch op Badmintonvlaande
 ren in te vullen. Match info: Klein Boom 1H (37) - Kill Leuven 1H (31) - L
 ink: https://www.badmintonvlaanderen.be/sport/teammatch.aspx?id=7A79EC4D-D
 9C5-4EF0-8466-03CF82E25DAE&match=274
DTSTART;TZID=Europe/Brussels:20250107T070000
DTEND;TZID=Europe/Brussels:20250107T070000
END:VEVENT
BEGIN:VEVENT
UID:7A79EC4D-D9C5-4EF0-8466-03CF82E25DAE-6-1170_homereminder@29.badmintonne
 rs.net
DTSTAMP:20260420T070549Z
SUMMARY:Thuismatch ingevuld? (Klein Boom 1H (37) - Zoersel 1H (35))
DESCRIPTION:Je hebt 36 uur na aanvang om een thuismatch op Badmintonvlaande
 ren in te vullen. Match info: Klein Boom 1H (37) - Zoersel 1H (35) - Link:
  https://www.badmintonvlaanderen.be/sport/teammatch.aspx?id=7A79EC4D-D9C5-
 4EF0-8466-03CF82E25DAE&match=1170
DTSTART;TZID=Europe/Brussels:20250204T070000
DTEND;TZID=Europe/Brussels:20250204T070000
END:VEVENT
BEGIN:VEVENT
UID:7A79EC4D-D9C5-4EF0-8466-03CF82E25DAE-6-264_homereminder@29.badmintonner
 s.net
DTSTAMP:20260420T070549Z
SUMMARY:Thuismatch ingevuld? (Klein Boom 1H (37) - Geelse 1H (36))
DESCRIPTION:Je hebt 36 uur na aanvang om een thuismatch op Badmintonvlaande
 ren in te vullen. Match info: Klein Boom 1H (37) - Geelse 1H (36) - Link: 
 https://www.badmintonvlaanderen.be/sport/teammatch.aspx?id=7A79EC4D-D9C5-4
 EF0-8466-03CF82E25DAE&match=264
DTSTART;TZID=Europe/Brussels:20250318T070000
DTEND;TZID=Europe/Brussels:20250318T070000
END:VEVENT
BEGIN:VEVENT
UID:7A79EC4D-D9C5-4EF0-8466-03CF82E25DAE-6-279_awayreminder@29.badmintonner
 s.net
DTSTAMP:20260420T070549Z
SUMMARY:Uitmatch bevestigd? (Kill Leuven 1H (31) - Klein Boom 1H (37))
DESCRIPTION:Je hebt 72 uur na aanvang om een uitmatch op Badmintonvlaandere
 n in te vullen. Match info: Kill Leuven 1H (31) - Klein Boom 1H (37) - Lin
 k: https://www.badmintonvlaanderen.be/sport/teammatch.aspx?id=7A79EC4D-D9C
 5-4EF0-8466-03CF82E25DAE&match=279
DTSTART;TZID=Europe/Brussels:20241029T120000
DTEND;TZID=Europe/Brussels:20241029T120000
END:VEVENT
BEGIN:VEVENT
UID:7A79EC4D-D9C5-4EF0-8466-03CF82E25DAE-6-277_awayreminder@29.badmintonner
 s.net
DTSTAMP:20260420T070549Z
SUMMARY:Uitmatch bevestigd? (Geelse 1H (36) - Klein Boom 1H (37))
DESCRIPTION:Je hebt 72 uur na aanvang om een uitmatch op Badmintonvlaandere
 n in te vullen. Match info: Geelse 1H (36) - Klein Boom 1H (37) - Link: ht
 tps://www.badmintonvlaanderen.be/sport/teammatch.aspx?id=7A79EC4D-D9C5-4EF
 0-8466-03CF82E25DAE&match=277
DTSTART;TZID=Europe/Brussels:20241124T200000
DTEND;TZID=Europe/Brussels:20241124T200000
END:VEVENT
BEGIN:VEVENT
UID:7A79EC4D-D9C5-4EF0-8466-03CF82E25DAE-6-1164_awayreminder@29.badmintonne
 rs.net
DTSTAMP:20260420T070549Z
SUMMARY:Uitmatch bevestigd? (Zoersel 1H (35) - Klein Boom 1H (37))
DESCRIPTION:Je hebt 72 uur na aanvang om een uitmatch op Badmintonvlaandere
 n in te vullen. Match info: Zoersel 1H (35) - Klein Boom 1H (37) - Link: h
 ttps://www.badmintonvlaanderen.be/sport/teammatch.aspx?id=7A79EC4D-D9C5-4E
 F0-8466-03CF82E25DAE&match=1164
DTSTART;TZID=Europe/Brussels:20241211T120000
DTEND;TZID=Europe/Brussels:20241211T120000
END:VEVENT
BEGIN:VEVENT
UID:7A79EC4D-D9C5-4EF0-8466-03CF82E25DAE-6-280_awayreminder@29.badmintonner
 s.net
DTSTAMP:20260420T070549Z
SUMMARY:Uitmatch bevestigd? (Tots Keerbergen 1H (32) - Klein Boom 1H (37))
DESCRIPTION:Je hebt 72 uur na aanvang om een uitmatch op Badmintonvlaandere
 n in te vullen. Match info: Tots Keerbergen 1H (32) - Klein Boom 1H (37) -
  Link: https://www.badmintonvlaanderen.be/sport/teammatch.aspx?id=7A79EC4D
 -D9C5-4EF0-8466-03CF82E25DAE&match=280
DTSTART;TZID=Europe/Brussels:20250219T190000
DTEND;TZID=Europe/Brussels:20250219T190000
END:VEVENT
BEGIN:VEVENT
UID:7A79EC4D-D9C5-4EF0-8466-03CF82E25DAE-6-276_awayreminder@29.badmintonner
 s.net
DTSTAMP:20260420T070549Z
SUMMARY:Uitmatch bevestigd? (Dijlevallei 4H (35) - Klein Boom 1H (37))
DESCRIPTION:Je hebt 72 uur na aanvang om een uitmatch op Badmintonvlaandere
 n in te vullen. Match info: Dijlevallei 4H (35) - Klein Boom 1H (37) - Lin
 k: https://www.badmintonvlaanderen.be/sport/teammatch.aspx?id=7A79EC4D-D9C
 5-4EF0-8466-03CF82E25DAE&match=276
DTSTART;TZID=Europe/Brussels:20250402T170000
DTEND;TZID=Europe/Brussels:20250402T170000
END:VEVENT
BEGIN:VEVENT
UID:7A79EC4D-D9C5-4EF0-8466-03CF82E25DAE-6-278_awayreminder@29.badmintonner
 s.net
DTSTAMP:20260420T070549Z
SUMMARY:Uitmatch bevestigd? (Huirtuits Dropke 1H (42) - Klein Boom 1H (37))
DESCRIPTION:Je hebt 72 uur na aanvang om een uitmatch op Badmintonvlaandere
 n in te vullen. Match info: Huirtuits Dropke 1H (42) - Klein Boom 1H (37) 
 - Link: https://www.badmintonvlaanderen.be/sport/teammatch.aspx?id=7A79EC4
 D-D9C5-4EF0-8466-03CF82E25DAE&match=278
DTSTART;TZID=Europe/Brussels:20250417T200000
DTEND;TZID=Europe/Brussels:20250417T200000
END:VEVENT
END:VCALENDAR