BEGIN:VCALENDAR
VERSION:2.0
PRODID:spatie/icalendar-generator
NAME:tots_keerbergen_1h_32_reminders
X-WR-CALNAME:tots_keerbergen_1h_32_reminders
BEGIN:VTIMEZONE
TZID:Europe/Brussels
BEGIN:DAYLIGHT
DTSTART:20240331T010000
TZOFFSETFROM:+0100
TZOFFSETTO:+0200
END:DAYLIGHT
BEGIN:STANDARD
DTSTART:20241027T030000
TZOFFSETFROM:+0200
TZOFFSETTO:+0100
END:STANDARD
BEGIN:DAYLIGHT
DTSTART:20250330T010000
TZOFFSETFROM:+0100
TZOFFSETTO:+0200
END:DAYLIGHT
END:VTIMEZONE
BEGIN:VTIMEZONE
TZID:UTC
BEGIN:STANDARD
DTSTART:20250724T070549
TZOFFSETFROM:+0000
TZOFFSETTO:+0000
END:STANDARD
END:VTIMEZONE
BEGIN:VEVENT
UID:7A79EC4D-D9C5-4EF0-8466-03CF82E25DAE-6-265_homereminder@30.badmintonner
 s.net
DTSTAMP:20260420T070549Z
SUMMARY:Thuismatch ingevuld? (Tots Keerbergen 1H (32) - Geelse 1H (36))
DESCRIPTION:Je hebt 36 uur na aanvang om een thuismatch op Badmintonvlaande
 ren in te vullen. Match info: Tots Keerbergen 1H (32) - Geelse 1H (36) - L
 ink: https://www.badmintonvlaanderen.be/sport/teammatch.aspx?id=7A79EC4D-D
 9C5-4EF0-8466-03CF82E25DAE&match=265
DTSTART;TZID=Europe/Brussels:20241001T070000
DTEND;TZID=Europe/Brussels:20241001T070000
END:VEVENT
BEGIN:VEVENT
UID:7A79EC4D-D9C5-4EF0-8466-03CF82E25DAE-6-1171_homereminder@30.badmintonne
 rs.net
DTSTAMP:20260420T070549Z
SUMMARY:Thuismatch ingevuld? (Tots Keerbergen 1H (32) - Zoersel 1H (35))
DESCRIPTION:Je hebt 36 uur na aanvang om een thuismatch op Badmintonvlaande
 ren in te vullen. Match info: Tots Keerbergen 1H (32) - Zoersel 1H (35) - 
 Link: https://www.badmintonvlaanderen.be/sport/teammatch.aspx?id=7A79EC4D-
 D9C5-4EF0-8466-03CF82E25DAE&match=1171
DTSTART;TZID=Europe/Brussels:20241029T070000
DTEND;TZID=Europe/Brussels:20241029T070000
END:VEVENT
BEGIN:VEVENT
UID:7A79EC4D-D9C5-4EF0-8466-03CF82E25DAE-6-275_homereminder@30.badmintonner
 s.net
DTSTAMP:20260420T070549Z
SUMMARY:Thuismatch ingevuld? (Tots Keerbergen 1H (32) - Kill Leuven 1H (31)
 )
DESCRIPTION:Je hebt 36 uur na aanvang om een thuismatch op Badmintonvlaande
 ren in te vullen. Match info: Tots Keerbergen 1H (32) - Kill Leuven 1H (31
 ) - Link: https://www.badmintonvlaanderen.be/sport/teammatch.aspx?id=7A79E
 C4D-D9C5-4EF0-8466-03CF82E25DAE&match=275
DTSTART;TZID=Europe/Brussels:20241217T070000
DTEND;TZID=Europe/Brussels:20241217T070000
END:VEVENT
BEGIN:VEVENT
UID:7A79EC4D-D9C5-4EF0-8466-03CF82E25DAE-6-270_homereminder@30.badmintonner
 s.net
DTSTAMP:20260420T070549Z
SUMMARY:Thuismatch ingevuld? (Tots Keerbergen 1H (32) - Huirtuits Dropke 1H
  (42))
DESCRIPTION:Je hebt 36 uur na aanvang om een thuismatch op Badmintonvlaande
 ren in te vullen. Match info: Tots Keerbergen 1H (32) - Huirtuits Dropke 1
 H (42) - Link: https://www.badmintonvlaanderen.be/sport/teammatch.aspx?id=
 7A79EC4D-D9C5-4EF0-8466-03CF82E25DAE&match=270
DTSTART;TZID=Europe/Brussels:20250107T070000
DTEND;TZID=Europe/Brussels:20250107T070000
END:VEVENT
BEGIN:VEVENT
UID:7A79EC4D-D9C5-4EF0-8466-03CF82E25DAE-6-280_homereminder@30.badmintonner
 s.net
DTSTAMP:20260420T070549Z
SUMMARY:Thuismatch ingevuld? (Tots Keerbergen 1H (32) - Klein Boom 1H (37))
DESCRIPTION:Je hebt 36 uur na aanvang om een thuismatch op Badmintonvlaande
 ren in te vullen. Match info: Tots Keerbergen 1H (32) - Klein Boom 1H (37)
  - Link: https://www.badmintonvlaanderen.be/sport/teammatch.aspx?id=7A79EC
 4D-D9C5-4EF0-8466-03CF82E25DAE&match=280
DTSTART;TZID=Europe/Brussels:20250218T070000
DTEND;TZID=Europe/Brussels:20250218T070000
END:VEVENT
BEGIN:VEVENT
UID:7A79EC4D-D9C5-4EF0-8466-03CF82E25DAE-6-260_homereminder@30.badmintonner
 s.net
DTSTAMP:20260420T070549Z
SUMMARY:Thuismatch ingevuld? (Tots Keerbergen 1H (32) - Dijlevallei 4H (35)
 )
DESCRIPTION:Je hebt 36 uur na aanvang om een thuismatch op Badmintonvlaande
 ren in te vullen. Match info: Tots Keerbergen 1H (32) - Dijlevallei 4H (35
 ) - Link: https://www.badmintonvlaanderen.be/sport/teammatch.aspx?id=7A79E
 C4D-D9C5-4EF0-8466-03CF82E25DAE&match=260
DTSTART;TZID=Europe/Brussels:20250415T070000
DTEND;TZID=Europe/Brussels:20250415T070000
END:VEVENT
BEGIN:VEVENT
UID:7A79EC4D-D9C5-4EF0-8466-03CF82E25DAE-6-283_awayreminder@30.badmintonner
 s.net
DTSTAMP:20260420T070549Z
SUMMARY:Uitmatch bevestigd? (Huirtuits Dropke 1H (42) - Tots Keerbergen 1H 
 (32))
DESCRIPTION:Je hebt 72 uur na aanvang om een uitmatch op Badmintonvlaandere
 n in te vullen. Match info: Huirtuits Dropke 1H (42) - Tots Keerbergen 1H 
 (32) - Link: https://www.badmintonvlaanderen.be/sport/teammatch.aspx?id=7A
 79EC4D-D9C5-4EF0-8466-03CF82E25DAE&match=283
DTSTART;TZID=Europe/Brussels:20240904T183000
DTEND;TZID=Europe/Brussels:20240904T183000
END:VEVENT
BEGIN:VEVENT
UID:7A79EC4D-D9C5-4EF0-8466-03CF82E25DAE-6-285_awayreminder@30.badmintonner
 s.net
DTSTAMP:20260420T070549Z
SUMMARY:Uitmatch bevestigd? (Klein Boom 1H (37) - Tots Keerbergen 1H (32))
DESCRIPTION:Je hebt 72 uur na aanvang om een uitmatch op Badmintonvlaandere
 n in te vullen. Match info: Klein Boom 1H (37) - Tots Keerbergen 1H (32) -
  Link: https://www.badmintonvlaanderen.be/sport/teammatch.aspx?id=7A79EC4D
 -D9C5-4EF0-8466-03CF82E25DAE&match=285
DTSTART;TZID=Europe/Brussels:20241016T190000
DTEND;TZID=Europe/Brussels:20241016T190000
END:VEVENT
BEGIN:VEVENT
UID:7A79EC4D-D9C5-4EF0-8466-03CF82E25DAE-6-281_awayreminder@30.badmintonner
 s.net
DTSTAMP:20260420T070549Z
SUMMARY:Uitmatch bevestigd? (Dijlevallei 4H (35) - Tots Keerbergen 1H (32))
DESCRIPTION:Je hebt 72 uur na aanvang om een uitmatch op Badmintonvlaandere
 n in te vullen. Match info: Dijlevallei 4H (35) - Tots Keerbergen 1H (32) 
 - Link: https://www.badmintonvlaanderen.be/sport/teammatch.aspx?id=7A79EC4
 D-D9C5-4EF0-8466-03CF82E25DAE&match=281
DTSTART;TZID=Europe/Brussels:20241211T170000
DTEND;TZID=Europe/Brussels:20241211T170000
END:VEVENT
BEGIN:VEVENT
UID:7A79EC4D-D9C5-4EF0-8466-03CF82E25DAE-6-284_awayreminder@30.badmintonner
 s.net
DTSTAMP:20260420T070549Z
SUMMARY:Uitmatch bevestigd? (Kill Leuven 1H (31) - Tots Keerbergen 1H (32))
DESCRIPTION:Je hebt 72 uur na aanvang om een uitmatch op Badmintonvlaandere
 n in te vullen. Match info: Kill Leuven 1H (31) - Tots Keerbergen 1H (32) 
 - Link: https://www.badmintonvlaanderen.be/sport/teammatch.aspx?id=7A79EC4
 D-D9C5-4EF0-8466-03CF82E25DAE&match=284
DTSTART;TZID=Europe/Brussels:20250121T130000
DTEND;TZID=Europe/Brussels:20250121T130000
END:VEVENT
BEGIN:VEVENT
UID:7A79EC4D-D9C5-4EF0-8466-03CF82E25DAE-6-282_awayreminder@30.badmintonner
 s.net
DTSTAMP:20260420T070549Z
SUMMARY:Uitmatch bevestigd? (Geelse 1H (36) - Tots Keerbergen 1H (32))
DESCRIPTION:Je hebt 72 uur na aanvang om een uitmatch op Badmintonvlaandere
 n in te vullen. Match info: Geelse 1H (36) - Tots Keerbergen 1H (32) - Lin
 k: https://www.badmintonvlaanderen.be/sport/teammatch.aspx?id=7A79EC4D-D9C
 5-4EF0-8466-03CF82E25DAE&match=282
DTSTART;TZID=Europe/Brussels:20250302T200000
DTEND;TZID=Europe/Brussels:20250302T200000
END:VEVENT
BEGIN:VEVENT
UID:7A79EC4D-D9C5-4EF0-8466-03CF82E25DAE-6-1165_awayreminder@30.badmintonne
 rs.net
DTSTAMP:20260420T070549Z
SUMMARY:Uitmatch bevestigd? (Zoersel 1H (35) - Tots Keerbergen 1H (32))
DESCRIPTION:Je hebt 72 uur na aanvang om een uitmatch op Badmintonvlaandere
 n in te vullen. Match info: Zoersel 1H (35) - Tots Keerbergen 1H (32) - Li
 nk: https://www.badmintonvlaanderen.be/sport/teammatch.aspx?id=7A79EC4D-D9
 C5-4EF0-8466-03CF82E25DAE&match=1165
DTSTART;TZID=Europe/Brussels:20250319T120000
DTEND;TZID=Europe/Brussels:20250319T120000
END:VEVENT
END:VCALENDAR