BEGIN:VCALENDAR
VERSION:2.0
PRODID:spatie/icalendar-generator
NAME:huirtuits_dropke_1h_42_reminders
X-WR-CALNAME:huirtuits_dropke_1h_42_reminders
BEGIN:VTIMEZONE
TZID:Europe/Brussels
BEGIN:DAYLIGHT
DTSTART:20240331T010000
TZOFFSETFROM:+0100
TZOFFSETTO:+0200
END:DAYLIGHT
BEGIN:STANDARD
DTSTART:20241027T030000
TZOFFSETFROM:+0200
TZOFFSETTO:+0100
END:STANDARD
BEGIN:DAYLIGHT
DTSTART:20250330T010000
TZOFFSETFROM:+0100
TZOFFSETTO:+0200
END:DAYLIGHT
END:VTIMEZONE
BEGIN:VTIMEZONE
TZID:UTC
BEGIN:STANDARD
DTSTART:20250724T070548
TZOFFSETFROM:+0000
TZOFFSETTO:+0000
END:STANDARD
END:VTIMEZONE
BEGIN:VEVENT
UID:7A79EC4D-D9C5-4EF0-8466-03CF82E25DAE-6-283_homereminder@38.badmintonner
 s.net
DTSTAMP:20260420T070548Z
SUMMARY:Thuismatch ingevuld? (Huirtuits Dropke 1H (42) - Tots Keerbergen 1H
  (32))
DESCRIPTION:Je hebt 36 uur na aanvang om een thuismatch op Badmintonvlaande
 ren in te vullen. Match info: Huirtuits Dropke 1H (42) - Tots Keerbergen 1
 H (32) - Link: https://www.badmintonvlaanderen.be/sport/teammatch.aspx?id=
 7A79EC4D-D9C5-4EF0-8466-03CF82E25DAE&match=283
DTSTART;TZID=Europe/Brussels:20240903T063000
DTEND;TZID=Europe/Brussels:20240903T063000
END:VEVENT
BEGIN:VEVENT
UID:7A79EC4D-D9C5-4EF0-8466-03CF82E25DAE-6-257_homereminder@38.badmintonner
 s.net
DTSTAMP:20260420T070548Z
SUMMARY:Thuismatch ingevuld? (Huirtuits Dropke 1H (42) - Dijlevallei 4H (35
 ))
DESCRIPTION:Je hebt 36 uur na aanvang om een thuismatch op Badmintonvlaande
 ren in te vullen. Match info: Huirtuits Dropke 1H (42) - Dijlevallei 4H (3
 5) - Link: https://www.badmintonvlaanderen.be/sport/teammatch.aspx?id=7A79
 EC4D-D9C5-4EF0-8466-03CF82E25DAE&match=257
DTSTART;TZID=Europe/Brussels:20241106T080000
DTEND;TZID=Europe/Brussels:20241106T080000
END:VEVENT
BEGIN:VEVENT
UID:7A79EC4D-D9C5-4EF0-8466-03CF82E25DAE-6-273_homereminder@38.badmintonner
 s.net
DTSTAMP:20260420T070548Z
SUMMARY:Thuismatch ingevuld? (Huirtuits Dropke 1H (42) - Kill Leuven 1H (31
 ))
DESCRIPTION:Je hebt 36 uur na aanvang om een thuismatch op Badmintonvlaande
 ren in te vullen. Match info: Huirtuits Dropke 1H (42) - Kill Leuven 1H (3
 1) - Link: https://www.badmintonvlaanderen.be/sport/teammatch.aspx?id=7A79
 EC4D-D9C5-4EF0-8466-03CF82E25DAE&match=273
DTSTART;TZID=Europe/Brussels:20241204T080000
DTEND;TZID=Europe/Brussels:20241204T080000
END:VEVENT
BEGIN:VEVENT
UID:7A79EC4D-D9C5-4EF0-8466-03CF82E25DAE-6-1168_homereminder@38.badmintonne
 rs.net
DTSTAMP:20260420T070548Z
SUMMARY:Thuismatch ingevuld? (Huirtuits Dropke 1H (42) - Zoersel 1H (35))
DESCRIPTION:Je hebt 36 uur na aanvang om een thuismatch op Badmintonvlaande
 ren in te vullen. Match info: Huirtuits Dropke 1H (42) - Zoersel 1H (35) -
  Link: https://www.badmintonvlaanderen.be/sport/teammatch.aspx?id=7A79EC4D
 -D9C5-4EF0-8466-03CF82E25DAE&match=1168
DTSTART;TZID=Europe/Brussels:20250121T063000
DTEND;TZID=Europe/Brussels:20250121T063000
END:VEVENT
BEGIN:VEVENT
UID:7A79EC4D-D9C5-4EF0-8466-03CF82E25DAE-6-262_homereminder@38.badmintonner
 s.net
DTSTAMP:20260420T070548Z
SUMMARY:Thuismatch ingevuld? (Huirtuits Dropke 1H (42) - Geelse 1H (36))
DESCRIPTION:Je hebt 36 uur na aanvang om een thuismatch op Badmintonvlaande
 ren in te vullen. Match info: Huirtuits Dropke 1H (42) - Geelse 1H (36) - 
 Link: https://www.badmintonvlaanderen.be/sport/teammatch.aspx?id=7A79EC4D-
 D9C5-4EF0-8466-03CF82E25DAE&match=262
DTSTART;TZID=Europe/Brussels:20250218T063000
DTEND;TZID=Europe/Brussels:20250218T063000
END:VEVENT
BEGIN:VEVENT
UID:7A79EC4D-D9C5-4EF0-8466-03CF82E25DAE-6-278_homereminder@38.badmintonner
 s.net
DTSTAMP:20260420T070548Z
SUMMARY:Thuismatch ingevuld? (Huirtuits Dropke 1H (42) - Klein Boom 1H (37)
 )
DESCRIPTION:Je hebt 36 uur na aanvang om een thuismatch op Badmintonvlaande
 ren in te vullen. Match info: Huirtuits Dropke 1H (42) - Klein Boom 1H (37
 ) - Link: https://www.badmintonvlaanderen.be/sport/teammatch.aspx?id=7A79E
 C4D-D9C5-4EF0-8466-03CF82E25DAE&match=278
DTSTART;TZID=Europe/Brussels:20250416T080000
DTEND;TZID=Europe/Brussels:20250416T080000
END:VEVENT
BEGIN:VEVENT
UID:7A79EC4D-D9C5-4EF0-8466-03CF82E25DAE-6-1162_awayreminder@38.badmintonne
 rs.net
DTSTAMP:20260420T070548Z
SUMMARY:Uitmatch bevestigd? (Zoersel 1H (35) - Huirtuits Dropke 1H (42))
DESCRIPTION:Je hebt 72 uur na aanvang om een uitmatch op Badmintonvlaandere
 n in te vullen. Match info: Zoersel 1H (35) - Huirtuits Dropke 1H (42) - L
 ink: https://www.badmintonvlaanderen.be/sport/teammatch.aspx?id=7A79EC4D-D
 9C5-4EF0-8466-03CF82E25DAE&match=1162
DTSTART;TZID=Europe/Brussels:20241002T120000
DTEND;TZID=Europe/Brussels:20241002T120000
END:VEVENT
BEGIN:VEVENT
UID:7A79EC4D-D9C5-4EF0-8466-03CF82E25DAE-6-267_awayreminder@38.badmintonner
 s.net
DTSTAMP:20260420T070548Z
SUMMARY:Uitmatch bevestigd? (Geelse 1H (36) - Huirtuits Dropke 1H (42))
DESCRIPTION:Je hebt 72 uur na aanvang om een uitmatch op Badmintonvlaandere
 n in te vullen. Match info: Geelse 1H (36) - Huirtuits Dropke 1H (42) - Li
 nk: https://www.badmintonvlaanderen.be/sport/teammatch.aspx?id=7A79EC4D-D9
 C5-4EF0-8466-03CF82E25DAE&match=267
DTSTART;TZID=Europe/Brussels:20241103T200000
DTEND;TZID=Europe/Brussels:20241103T200000
END:VEVENT
BEGIN:VEVENT
UID:7A79EC4D-D9C5-4EF0-8466-03CF82E25DAE-6-269_awayreminder@38.badmintonner
 s.net
DTSTAMP:20260420T070548Z
SUMMARY:Uitmatch bevestigd? (Klein Boom 1H (37) - Huirtuits Dropke 1H (42))
DESCRIPTION:Je hebt 72 uur na aanvang om een uitmatch op Badmintonvlaandere
 n in te vullen. Match info: Klein Boom 1H (37) - Huirtuits Dropke 1H (42) 
 - Link: https://www.badmintonvlaanderen.be/sport/teammatch.aspx?id=7A79EC4
 D-D9C5-4EF0-8466-03CF82E25DAE&match=269
DTSTART;TZID=Europe/Brussels:20241113T190000
DTEND;TZID=Europe/Brussels:20241113T190000
END:VEVENT
BEGIN:VEVENT
UID:7A79EC4D-D9C5-4EF0-8466-03CF82E25DAE-6-270_awayreminder@38.badmintonner
 s.net
DTSTAMP:20260420T070548Z
SUMMARY:Uitmatch bevestigd? (Tots Keerbergen 1H (32) - Huirtuits Dropke 1H 
 (42))
DESCRIPTION:Je hebt 72 uur na aanvang om een uitmatch op Badmintonvlaandere
 n in te vullen. Match info: Tots Keerbergen 1H (32) - Huirtuits Dropke 1H 
 (42) - Link: https://www.badmintonvlaanderen.be/sport/teammatch.aspx?id=7A
 79EC4D-D9C5-4EF0-8466-03CF82E25DAE&match=270
DTSTART;TZID=Europe/Brussels:20250108T190000
DTEND;TZID=Europe/Brussels:20250108T190000
END:VEVENT
BEGIN:VEVENT
UID:7A79EC4D-D9C5-4EF0-8466-03CF82E25DAE-6-268_awayreminder@38.badmintonner
 s.net
DTSTAMP:20260420T070548Z
SUMMARY:Uitmatch bevestigd? (Kill Leuven 1H (31) - Huirtuits Dropke 1H (42)
 )
DESCRIPTION:Je hebt 72 uur na aanvang om een uitmatch op Badmintonvlaandere
 n in te vullen. Match info: Kill Leuven 1H (31) - Huirtuits Dropke 1H (42)
  - Link: https://www.badmintonvlaanderen.be/sport/teammatch.aspx?id=7A79EC
 4D-D9C5-4EF0-8466-03CF82E25DAE&match=268
DTSTART;TZID=Europe/Brussels:20250114T160000
DTEND;TZID=Europe/Brussels:20250114T160000
END:VEVENT
BEGIN:VEVENT
UID:7A79EC4D-D9C5-4EF0-8466-03CF82E25DAE-6-266_awayreminder@38.badmintonner
 s.net
DTSTAMP:20260420T070548Z
SUMMARY:Uitmatch bevestigd? (Dijlevallei 4H (35) - Huirtuits Dropke 1H (42)
 )
DESCRIPTION:Je hebt 72 uur na aanvang om een uitmatch op Badmintonvlaandere
 n in te vullen. Match info: Dijlevallei 4H (35) - Huirtuits Dropke 1H (42)
  - Link: https://www.badmintonvlaanderen.be/sport/teammatch.aspx?id=7A79EC
 4D-D9C5-4EF0-8466-03CF82E25DAE&match=266
DTSTART;TZID=Europe/Brussels:20250212T140000
DTEND;TZID=Europe/Brussels:20250212T140000
END:VEVENT
END:VCALENDAR